BEGIN:VCALENDAR
VERSION:2.0
PRODID:-//SOUND VIEW ORGINAL FREE WILL BAPTIST CHURCH - ECPv6.15.20//NONSGML v1.0//EN
CALSCALE:GREGORIAN
METHOD:PUBLISH
X-ORIGINAL-URL:https://soundviewofwbchurch.org
X-WR-CALDESC:Events for SOUND VIEW ORGINAL FREE WILL BAPTIST CHURCH
REFRESH-INTERVAL;VALUE=DURATION:PT1H
X-Robots-Tag:noindex
X-PUBLISHED-TTL:PT1H
BEGIN:VTIMEZONE
TZID:America/New_York
BEGIN:DAYLIGHT
TZOFFSETFROM:-0500
TZOFFSETTO:-0400
TZNAME:EDT
DTSTART:20240310T070000
END:DAYLIGHT
BEGIN:STANDARD
TZOFFSETFROM:-0400
TZOFFSETTO:-0500
TZNAME:EST
DTSTART:20241103T060000
END:STANDARD
BEGIN:DAYLIGHT
TZOFFSETFROM:-0500
TZOFFSETTO:-0400
TZNAME:EDT
DTSTART:20250309T070000
END:DAYLIGHT
BEGIN:STANDARD
TZOFFSETFROM:-0400
TZOFFSETTO:-0500
TZNAME:EST
DTSTART:20251102T060000
END:STANDARD
BEGIN:DAYLIGHT
TZOFFSETFROM:-0500
TZOFFSETTO:-0400
TZNAME:EDT
DTSTART:20260308T070000
END:DAYLIGHT
BEGIN:STANDARD
TZOFFSETFROM:-0400
TZOFFSETTO:-0500
TZNAME:EST
DTSTART:20261101T060000
END:STANDARD
END:VTIMEZONE
BEGIN:VEVENT
DTSTART;VALUE=DATE:20250901
DTEND;VALUE=DATE:20250902
DTSTAMP:20260423T200206
CREATED:20250811T141744Z
LAST-MODIFIED:20250811T141744Z
UID:2744-1756684800-1756771199@soundviewofwbchurch.org
SUMMARY:LABOR DAY
DESCRIPTION:
URL:https://soundviewofwbchurch.org/event/labor-day/
END:VEVENT
BEGIN:VEVENT
DTSTART;TZID=America/New_York:20250902T190000
DTEND;TZID=America/New_York:20250902T200000
DTSTAMP:20260423T200206
CREATED:20250811T141018Z
LAST-MODIFIED:20250811T141018Z
UID:2726-1756839600-1756843200@soundviewofwbchurch.org
SUMMARY:LADIES AUX. & MEN'S BROTHERHOOD
DESCRIPTION:
URL:https://soundviewofwbchurch.org/event/ladies-aux-mens-brotherhood-6/
END:VEVENT
BEGIN:VEVENT
DTSTART;TZID=America/New_York:20250903T190000
DTEND;TZID=America/New_York:20250903T200000
DTSTAMP:20260423T200206
CREATED:20250811T140300Z
LAST-MODIFIED:20250811T140300Z
UID:2701-1756926000-1756929600@soundviewofwbchurch.org
SUMMARY:BIBLE STUDY
DESCRIPTION:
URL:https://soundviewofwbchurch.org/event/bible-study-116/
END:VEVENT
BEGIN:VEVENT
DTSTART;TZID=America/New_York:20250904T100000
DTEND;TZID=America/New_York:20250904T110000
DTSTAMP:20260423T200206
CREATED:20250811T140358Z
LAST-MODIFIED:20250811T140358Z
UID:2705-1756980000-1756983600@soundviewofwbchurch.org
SUMMARY:CHOIR PRACTICE
DESCRIPTION:
URL:https://soundviewofwbchurch.org/event/choir-practice-133/
END:VEVENT
BEGIN:VEVENT
DTSTART;TZID=America/New_York:20250905T140000
DTEND;TZID=America/New_York:20250905T160000
DTSTAMP:20260423T200206
CREATED:20250904T003317Z
LAST-MODIFIED:20250904T003317Z
UID:2794-1757080800-1757088000@soundviewofwbchurch.org
SUMMARY:DONNIE WARD FUNERAL
DESCRIPTION:
URL:https://soundviewofwbchurch.org/event/donnie-ward-funeral/
END:VEVENT
BEGIN:VEVENT
DTSTART;TZID=America/New_York:20250907T100000
DTEND;TZID=America/New_York:20250907T103000
DTSTAMP:20260423T200206
CREATED:20250903T220602Z
LAST-MODIFIED:20250903T220602Z
UID:2750-1757239200-1757241000@soundviewofwbchurch.org
SUMMARY:SUNDAY SCHOOL
DESCRIPTION:
URL:https://soundviewofwbchurch.org/event/sunday-school-131/
END:VEVENT
BEGIN:VEVENT
DTSTART;TZID=America/New_York:20250907T110000
DTEND;TZID=America/New_York:20250907T120000
DTSTAMP:20260423T200206
CREATED:20250903T220909Z
LAST-MODIFIED:20250903T220909Z
UID:2759-1757242800-1757246400@soundviewofwbchurch.org
SUMMARY:SUNDAY SERVICE
DESCRIPTION:
URL:https://soundviewofwbchurch.org/event/sunday-service-115/
END:VEVENT
BEGIN:VEVENT
DTSTART;TZID=America/New_York:20250910T190000
DTEND;TZID=America/New_York:20250910T200000
DTSTAMP:20260423T200206
CREATED:20250903T221708Z
LAST-MODIFIED:20250903T221708Z
UID:2772-1757530800-1757534400@soundviewofwbchurch.org
SUMMARY:BIBLE STUDY
DESCRIPTION:
URL:https://soundviewofwbchurch.org/event/bible-study-117/
END:VEVENT
BEGIN:VEVENT
DTSTART;TZID=America/New_York:20250911T100000
DTEND;TZID=America/New_York:20250911T110000
DTSTAMP:20260423T200206
CREATED:20250903T222415Z
LAST-MODIFIED:20250904T003157Z
UID:2791-1757584800-1757588400@soundviewofwbchurch.org
SUMMARY:CHOIR PRACTICE
DESCRIPTION:
URL:https://soundviewofwbchurch.org/event/choir-practice-137/
END:VEVENT
BEGIN:VEVENT
DTSTART;TZID=America/New_York:20250914T110000
DTEND;TZID=America/New_York:20250914T120000
DTSTAMP:20260423T200206
CREATED:20250903T220957Z
LAST-MODIFIED:20250903T220957Z
UID:2762-1757847600-1757851200@soundviewofwbchurch.org
SUMMARY:SUNDAY SERVICE
DESCRIPTION:
URL:https://soundviewofwbchurch.org/event/sunday-service-116/
END:VEVENT
BEGIN:VEVENT
DTSTART;TZID=America/New_York:20250914T110000
DTEND;TZID=America/New_York:20250914T120000
DTSTAMP:20260423T200206
CREATED:20250903T221133Z
LAST-MODIFIED:20250903T221133Z
UID:2769-1757847600-1757851200@soundviewofwbchurch.org
SUMMARY:SUNDAY SCHOOL
DESCRIPTION:
URL:https://soundviewofwbchurch.org/event/sunday-school-137/
END:VEVENT
BEGIN:VEVENT
DTSTART;TZID=America/New_York:20250917T190000
DTEND;TZID=America/New_York:20250917T200000
DTSTAMP:20260423T200206
CREATED:20250903T221741Z
LAST-MODIFIED:20250903T221741Z
UID:2774-1758135600-1758139200@soundviewofwbchurch.org
SUMMARY:BIBLE STUDY
DESCRIPTION:
URL:https://soundviewofwbchurch.org/event/bible-study-118/
END:VEVENT
BEGIN:VEVENT
DTSTART;TZID=America/New_York:20250918T100000
DTEND;TZID=America/New_York:20250918T110000
DTSTAMP:20260423T200206
CREATED:20250903T222121Z
LAST-MODIFIED:20250903T222121Z
UID:2786-1758189600-1758193200@soundviewofwbchurch.org
SUMMARY:CHOIR PRACTICE
DESCRIPTION:
URL:https://soundviewofwbchurch.org/event/choir-practice-136/
END:VEVENT
BEGIN:VEVENT
DTSTART;TZID=America/New_York:20250920T080000
DTEND;TZID=America/New_York:20250920T110000
DTSTAMP:20260423T200206
CREATED:20250904T003401Z
LAST-MODIFIED:20250904T003401Z
UID:2796-1758355200-1758366000@soundviewofwbchurch.org
SUMMARY:BROTHER HOOD CHURCH CLEANUP
DESCRIPTION:
URL:https://soundviewofwbchurch.org/event/brother-hood-church-cleanup/
END:VEVENT
BEGIN:VEVENT
DTSTART;TZID=America/New_York:20250921T100000
DTEND;TZID=America/New_York:20250921T103000
DTSTAMP:20260423T200206
CREATED:20250903T220835Z
LAST-MODIFIED:20250903T220835Z
UID:2757-1758448800-1758450600@soundviewofwbchurch.org
SUMMARY:SUNDAY SCHOOL
DESCRIPTION:
URL:https://soundviewofwbchurch.org/event/sunday-school-136/
END:VEVENT
BEGIN:VEVENT
DTSTART;TZID=America/New_York:20250921T110000
DTEND;TZID=America/New_York:20250921T120000
DTSTAMP:20260423T200206
CREATED:20250903T221021Z
LAST-MODIFIED:20250903T221021Z
UID:2764-1758452400-1758456000@soundviewofwbchurch.org
SUMMARY:SUNDAY SERVICE
DESCRIPTION:
URL:https://soundviewofwbchurch.org/event/sunday-service-117/
END:VEVENT
BEGIN:VEVENT
DTSTART;TZID=America/New_York:20250924T190000
DTEND;TZID=America/New_York:20250924T200000
DTSTAMP:20260423T200206
CREATED:20250903T221857Z
LAST-MODIFIED:20250903T221857Z
UID:2778-1758740400-1758744000@soundviewofwbchurch.org
SUMMARY:BIBLESTUDY
DESCRIPTION:
URL:https://soundviewofwbchurch.org/event/biblestudy-2/
END:VEVENT
BEGIN:VEVENT
DTSTART;TZID=America/New_York:20250925T100000
DTEND;TZID=America/New_York:20250925T110000
DTSTAMP:20260423T200206
CREATED:20250903T222055Z
LAST-MODIFIED:20250903T222055Z
UID:2784-1758794400-1758798000@soundviewofwbchurch.org
SUMMARY:CHOIR PRACTICE
DESCRIPTION:
URL:https://soundviewofwbchurch.org/event/choir-practice-135/
END:VEVENT
BEGIN:VEVENT
DTSTART;TZID=America/New_York:20250928T100000
DTEND;TZID=America/New_York:20250928T103000
DTSTAMP:20260423T200206
CREATED:20250903T220631Z
LAST-MODIFIED:20250903T220710Z
UID:2752-1759053600-1759055400@soundviewofwbchurch.org
SUMMARY:SUNDAY SCHOOL
DESCRIPTION:
URL:https://soundviewofwbchurch.org/event/sunday-school-134/
END:VEVENT
BEGIN:VEVENT
DTSTART;TZID=America/New_York:20250928T110000
DTEND;TZID=America/New_York:20250928T120000
DTSTAMP:20260423T200206
CREATED:20250903T221045Z
LAST-MODIFIED:20250903T221045Z
UID:2766-1759057200-1759060800@soundviewofwbchurch.org
SUMMARY:SUNDAY SERVICE
DESCRIPTION:
URL:https://soundviewofwbchurch.org/event/sunday-service-118/
END:VEVENT
END:VCALENDAR