BEGIN:VCALENDAR
VERSION:2.0
PRODID:-//SOUND VIEW ORGINAL FREE WILL BAPTIST CHURCH - ECPv6.15.20//NONSGML v1.0//EN
CALSCALE:GREGORIAN
METHOD:PUBLISH
X-WR-CALNAME:SOUND VIEW ORGINAL FREE WILL BAPTIST CHURCH
X-ORIGINAL-URL:https://soundviewofwbchurch.org
X-WR-CALDESC:Events for SOUND VIEW ORGINAL FREE WILL BAPTIST CHURCH
REFRESH-INTERVAL;VALUE=DURATION:PT1H
X-Robots-Tag:noindex
X-PUBLISHED-TTL:PT1H
BEGIN:VTIMEZONE
TZID:America/New_York
BEGIN:DAYLIGHT
TZOFFSETFROM:-0500
TZOFFSETTO:-0400
TZNAME:EDT
DTSTART:20230312T070000
END:DAYLIGHT
BEGIN:STANDARD
TZOFFSETFROM:-0400
TZOFFSETTO:-0500
TZNAME:EST
DTSTART:20231105T060000
END:STANDARD
BEGIN:DAYLIGHT
TZOFFSETFROM:-0500
TZOFFSETTO:-0400
TZNAME:EDT
DTSTART:20240310T070000
END:DAYLIGHT
BEGIN:STANDARD
TZOFFSETFROM:-0400
TZOFFSETTO:-0500
TZNAME:EST
DTSTART:20241103T060000
END:STANDARD
BEGIN:DAYLIGHT
TZOFFSETFROM:-0500
TZOFFSETTO:-0400
TZNAME:EDT
DTSTART:20250309T070000
END:DAYLIGHT
BEGIN:STANDARD
TZOFFSETFROM:-0400
TZOFFSETTO:-0500
TZNAME:EST
DTSTART:20251102T060000
END:STANDARD
END:VTIMEZONE
BEGIN:VEVENT
DTSTART;TZID=America/New_York:20240703T190000
DTEND;TZID=America/New_York:20240703T200000
DTSTAMP:20260424T160359
CREATED:20240611T015511Z
LAST-MODIFIED:20240611T015511Z
UID:1892-1720033200-1720036800@soundviewofwbchurch.org
SUMMARY:BIBLE STUDY
DESCRIPTION:
URL:https://soundviewofwbchurch.org/event/bible-study-69/
END:VEVENT
BEGIN:VEVENT
DTSTART;TZID=America/New_York:20240704T180000
DTEND;TZID=America/New_York:20240704T200000
DTSTAMP:20260424T160359
CREATED:20240702T141439Z
LAST-MODIFIED:20240702T141439Z
UID:1903-1720116000-1720123200@soundviewofwbchurch.org
SUMMARY:JULY 4TH PICNIC/ LADIES AUX. MENS FELLOWSHIP
DESCRIPTION:
URL:https://soundviewofwbchurch.org/event/july-4th-picnic-ladies-aux-mens-fellowship/
END:VEVENT
BEGIN:VEVENT
DTSTART;TZID=America/New_York:20240707T100000
DTEND;TZID=America/New_York:20240707T103000
DTSTAMP:20260424T160359
CREATED:20240702T142047Z
LAST-MODIFIED:20240702T142047Z
UID:1912-1720346400-1720348200@soundviewofwbchurch.org
SUMMARY:SUNDAY SCHOOL
DESCRIPTION:
URL:https://soundviewofwbchurch.org/event/sunday-school-80/
END:VEVENT
BEGIN:VEVENT
DTSTART;TZID=America/New_York:20240707T110000
DTEND;TZID=America/New_York:20240707T120000
DTSTAMP:20260424T160359
CREATED:20240702T144051Z
LAST-MODIFIED:20240702T144051Z
UID:1928-1720350000-1720353600@soundviewofwbchurch.org
SUMMARY:SUNDAY SERVICE
DESCRIPTION:
URL:https://soundviewofwbchurch.org/event/sunday-service-63/
END:VEVENT
BEGIN:VEVENT
DTSTART;TZID=America/New_York:20240708T080000
DTEND;TZID=America/New_York:20240708T140000
DTSTAMP:20260424T160359
CREATED:20240702T142209Z
LAST-MODIFIED:20240702T142209Z
UID:1916-1720425600-1720447200@soundviewofwbchurch.org
SUMMARY:CHILDREN'S HOME VISIT
DESCRIPTION:
URL:https://soundviewofwbchurch.org/event/childrens-home-visit/
END:VEVENT
BEGIN:VEVENT
DTSTART;TZID=America/New_York:20240710T190000
DTEND;TZID=America/New_York:20240710T200000
DTSTAMP:20260424T160359
CREATED:20240702T144409Z
LAST-MODIFIED:20240702T144558Z
UID:1936-1720638000-1720641600@soundviewofwbchurch.org
SUMMARY:BIBLE STUDY
DESCRIPTION:
URL:https://soundviewofwbchurch.org/event/bible-study-70/
END:VEVENT
BEGIN:VEVENT
DTSTART;TZID=America/New_York:20240711T100000
DTEND;TZID=America/New_York:20240711T110000
DTSTAMP:20260424T160359
CREATED:20240702T142324Z
LAST-MODIFIED:20240702T142324Z
UID:1918-1720692000-1720695600@soundviewofwbchurch.org
SUMMARY:CHOIR PRACTICE
DESCRIPTION:
URL:https://soundviewofwbchurch.org/event/choir-practice-81/
END:VEVENT
BEGIN:VEVENT
DTSTART;TZID=America/New_York:20240714T100000
DTEND;TZID=America/New_York:20240714T103000
DTSTAMP:20260424T160359
CREATED:20240702T141818Z
LAST-MODIFIED:20240702T141818Z
UID:1907-1720951200-1720953000@soundviewofwbchurch.org
SUMMARY:SUNDAY SCHOOL
DESCRIPTION:
URL:https://soundviewofwbchurch.org/event/sunday-school-81/
END:VEVENT
BEGIN:VEVENT
DTSTART;TZID=America/New_York:20240714T110000
DTEND;TZID=America/New_York:20240714T120000
DTSTAMP:20260424T160359
CREATED:20240702T144122Z
LAST-MODIFIED:20240702T144122Z
UID:1930-1720954800-1720958400@soundviewofwbchurch.org
SUMMARY:SUNDAY SERVICE
DESCRIPTION:
URL:https://soundviewofwbchurch.org/event/sunday-service-64/
END:VEVENT
BEGIN:VEVENT
DTSTART;TZID=America/New_York:20240717T190000
DTEND;TZID=America/New_York:20240717T200000
DTSTAMP:20260424T160359
CREATED:20240702T144440Z
LAST-MODIFIED:20240702T144440Z
UID:1938-1721242800-1721246400@soundviewofwbchurch.org
SUMMARY:BIBLE STUDY
DESCRIPTION:
URL:https://soundviewofwbchurch.org/event/bible-study-71/
END:VEVENT
BEGIN:VEVENT
DTSTART;TZID=America/New_York:20240718T100000
DTEND;TZID=America/New_York:20240718T110000
DTSTAMP:20260424T160359
CREATED:20240702T142409Z
LAST-MODIFIED:20240702T142409Z
UID:1920-1721296800-1721300400@soundviewofwbchurch.org
SUMMARY:CHOIR PRACTICE
DESCRIPTION:
URL:https://soundviewofwbchurch.org/event/choir-practice-82/
END:VEVENT
BEGIN:VEVENT
DTSTART;TZID=America/New_York:20240721T080000
DTEND;TZID=America/New_York:20240721T170000
DTSTAMP:20260424T160359
CREATED:20240702T141850Z
LAST-MODIFIED:20240702T141850Z
UID:1910-1721548800-1721581200@soundviewofwbchurch.org
SUMMARY:SUNDAY SCHOOL
DESCRIPTION:
URL:https://soundviewofwbchurch.org/event/sunday-school-82/
END:VEVENT
BEGIN:VEVENT
DTSTART;TZID=America/New_York:20240721T110000
DTEND;TZID=America/New_York:20240721T120000
DTSTAMP:20260424T160359
CREATED:20240702T144148Z
LAST-MODIFIED:20240702T144148Z
UID:1932-1721559600-1721563200@soundviewofwbchurch.org
SUMMARY:SUNDAY SERVICE
DESCRIPTION:
URL:https://soundviewofwbchurch.org/event/sunday-service-65/
END:VEVENT
BEGIN:VEVENT
DTSTART;TZID=America/New_York:20240724T080000
DTEND;TZID=America/New_York:20240724T170000
DTSTAMP:20260424T160359
CREATED:20240702T144500Z
LAST-MODIFIED:20240702T144500Z
UID:1940-1721808000-1721840400@soundviewofwbchurch.org
SUMMARY:BIBLE STUDY
DESCRIPTION:
URL:https://soundviewofwbchurch.org/event/bible-study-72/
END:VEVENT
BEGIN:VEVENT
DTSTART;TZID=America/New_York:20240725T100000
DTEND;TZID=America/New_York:20240725T110000
DTSTAMP:20260424T160359
CREATED:20240702T142449Z
LAST-MODIFIED:20240702T142449Z
UID:1923-1721901600-1721905200@soundviewofwbchurch.org
SUMMARY:CHOIR PRACTICE
DESCRIPTION:
URL:https://soundviewofwbchurch.org/event/choir-practice-83/
END:VEVENT
BEGIN:VEVENT
DTSTART;TZID=America/New_York:20240728T100000
DTEND;TZID=America/New_York:20240728T103000
DTSTAMP:20260424T160359
CREATED:20240702T142123Z
LAST-MODIFIED:20240702T142123Z
UID:1914-1722160800-1722162600@soundviewofwbchurch.org
SUMMARY:SUNDAY SCHOOL
DESCRIPTION:
URL:https://soundviewofwbchurch.org/event/sunday-school-83/
END:VEVENT
BEGIN:VEVENT
DTSTART;TZID=America/New_York:20240728T110000
DTEND;TZID=America/New_York:20240728T120000
DTSTAMP:20260424T160359
CREATED:20240702T144213Z
LAST-MODIFIED:20240702T144213Z
UID:1934-1722164400-1722168000@soundviewofwbchurch.org
SUMMARY:SUNDAY SERVICE
DESCRIPTION:
URL:https://soundviewofwbchurch.org/event/sunday-service-66/
END:VEVENT
BEGIN:VEVENT
DTSTART;TZID=America/New_York:20240731T190000
DTEND;TZID=America/New_York:20240731T200000
DTSTAMP:20260424T160359
CREATED:20240702T144649Z
LAST-MODIFIED:20240702T144649Z
UID:1942-1722452400-1722456000@soundviewofwbchurch.org
SUMMARY:BIBLE STUDY
DESCRIPTION:
URL:https://soundviewofwbchurch.org/event/bible-study-73/
END:VEVENT
END:VCALENDAR