BEGIN:VCALENDAR
VERSION:2.0
PRODID:-//SOUND VIEW ORGINAL FREE WILL BAPTIST CHURCH - ECPv6.15.20//NONSGML v1.0//EN
CALSCALE:GREGORIAN
METHOD:PUBLISH
X-WR-CALNAME:SOUND VIEW ORGINAL FREE WILL BAPTIST CHURCH
X-ORIGINAL-URL:https://soundviewofwbchurch.org
X-WR-CALDESC:Events for SOUND VIEW ORGINAL FREE WILL BAPTIST CHURCH
REFRESH-INTERVAL;VALUE=DURATION:PT1H
X-Robots-Tag:noindex
X-PUBLISHED-TTL:PT1H
BEGIN:VTIMEZONE
TZID:America/New_York
BEGIN:DAYLIGHT
TZOFFSETFROM:-0500
TZOFFSETTO:-0400
TZNAME:EDT
DTSTART:20230312T070000
END:DAYLIGHT
BEGIN:STANDARD
TZOFFSETFROM:-0400
TZOFFSETTO:-0500
TZNAME:EST
DTSTART:20231105T060000
END:STANDARD
BEGIN:DAYLIGHT
TZOFFSETFROM:-0500
TZOFFSETTO:-0400
TZNAME:EDT
DTSTART:20240310T070000
END:DAYLIGHT
BEGIN:STANDARD
TZOFFSETFROM:-0400
TZOFFSETTO:-0500
TZNAME:EST
DTSTART:20241103T060000
END:STANDARD
BEGIN:DAYLIGHT
TZOFFSETFROM:-0500
TZOFFSETTO:-0400
TZNAME:EDT
DTSTART:20250309T070000
END:DAYLIGHT
BEGIN:STANDARD
TZOFFSETFROM:-0400
TZOFFSETTO:-0500
TZNAME:EST
DTSTART:20251102T060000
END:STANDARD
END:VTIMEZONE
BEGIN:VEVENT
DTSTART;TZID=America/New_York:20240402T190000
DTEND;TZID=America/New_York:20240402T200000
DTSTAMP:20260424T201435
CREATED:20240404T005907Z
LAST-MODIFIED:20240404T005907Z
UID:1711-1712084400-1712088000@soundviewofwbchurch.org
SUMMARY:Ladies Auxiliary\, Men's Fellowship
DESCRIPTION:
URL:https://soundviewofwbchurch.org/event/ladies-auxiliary-mens-fellowship-4/
END:VEVENT
BEGIN:VEVENT
DTSTART;TZID=America/New_York:20240403T190000
DTEND;TZID=America/New_York:20240403T200000
DTSTAMP:20260424T201435
CREATED:20240412T143532Z
LAST-MODIFIED:20240412T143532Z
UID:1714-1712170800-1712174400@soundviewofwbchurch.org
SUMMARY:BIBLE STUDY
DESCRIPTION:
URL:https://soundviewofwbchurch.org/event/bible-study-57/
END:VEVENT
BEGIN:VEVENT
DTSTART;TZID=America/New_York:20240404T100000
DTEND;TZID=America/New_York:20240404T110000
DTSTAMP:20260424T201435
CREATED:20240412T143637Z
LAST-MODIFIED:20240412T143637Z
UID:1716-1712224800-1712228400@soundviewofwbchurch.org
SUMMARY:CHOIR PRACTICE
DESCRIPTION:
URL:https://soundviewofwbchurch.org/event/choir-practice-68/
END:VEVENT
BEGIN:VEVENT
DTSTART;TZID=America/New_York:20240407T100000
DTEND;TZID=America/New_York:20240407T103000
DTSTAMP:20260424T201435
CREATED:20240412T143727Z
LAST-MODIFIED:20240412T143727Z
UID:1718-1712484000-1712485800@soundviewofwbchurch.org
SUMMARY:SUNDAY SCHOOL
DESCRIPTION:
URL:https://soundviewofwbchurch.org/event/sunday-school-67/
END:VEVENT
BEGIN:VEVENT
DTSTART;TZID=America/New_York:20240407T110000
DTEND;TZID=America/New_York:20240407T120000
DTSTAMP:20260424T201435
CREATED:20240412T143811Z
LAST-MODIFIED:20240412T143811Z
UID:1720-1712487600-1712491200@soundviewofwbchurch.org
SUMMARY:SUNDAY SERVICE
DESCRIPTION:
URL:https://soundviewofwbchurch.org/event/sunday-service-53/
END:VEVENT
BEGIN:VEVENT
DTSTART;TZID=America/New_York:20240410T190000
DTEND;TZID=America/New_York:20240410T200000
DTSTAMP:20260424T201435
CREATED:20240410T144019Z
LAST-MODIFIED:20240412T144353Z
UID:1722-1712775600-1712779200@soundviewofwbchurch.org
SUMMARY:WEDNESDAY QUARTERLY BUSINESS MEETING
DESCRIPTION:
URL:https://soundviewofwbchurch.org/event/wednesday-quarterly-business-meeting/
END:VEVENT
BEGIN:VEVENT
DTSTART;TZID=America/New_York:20240411T100000
DTEND;TZID=America/New_York:20240411T110000
DTSTAMP:20260424T201435
CREATED:20240412T144208Z
LAST-MODIFIED:20240412T144310Z
UID:1632-1712829600-1712833200@soundviewofwbchurch.org
SUMMARY:CHOIR PRACTICE
DESCRIPTION:
URL:https://soundviewofwbchurch.org/event/choir-practice-69/
END:VEVENT
BEGIN:VEVENT
DTSTART;TZID=America/New_York:20240414T100000
DTEND;TZID=America/New_York:20240414T103000
DTSTAMP:20260424T201435
CREATED:20240412T145657Z
LAST-MODIFIED:20240412T145657Z
UID:1729-1713088800-1713090600@soundviewofwbchurch.org
SUMMARY:SUNDAY SCHOOL
DESCRIPTION:
URL:https://soundviewofwbchurch.org/event/sunday-school-69/
END:VEVENT
BEGIN:VEVENT
DTSTART;TZID=America/New_York:20240414T110000
DTEND;TZID=America/New_York:20240414T120000
DTSTAMP:20260424T201435
CREATED:20240412T145723Z
LAST-MODIFIED:20240412T145751Z
UID:1731-1713092400-1713096000@soundviewofwbchurch.org
SUMMARY:SUNDAY SERVICE
DESCRIPTION:
URL:https://soundviewofwbchurch.org/event/1731/
END:VEVENT
BEGIN:VEVENT
DTSTART;TZID=America/New_York:20240414T113000
DTEND;TZID=America/New_York:20240414T120000
DTSTAMP:20260424T201435
CREATED:20240412T153635Z
LAST-MODIFIED:20240412T153635Z
UID:1739-1713094200-1713096000@soundviewofwbchurch.org
SUMMARY:BAPTISM JENNIFER HENRY
DESCRIPTION:
URL:https://soundviewofwbchurch.org/event/baptism-jennifer-henry/
END:VEVENT
BEGIN:VEVENT
DTSTART;TZID=America/New_York:20240417T190000
DTEND;TZID=America/New_York:20240417T200000
DTSTAMP:20260424T201435
CREATED:20240412T152736Z
LAST-MODIFIED:20240412T153501Z
UID:1734-1713380400-1713384000@soundviewofwbchurch.org
SUMMARY:BIBLE STUDY
DESCRIPTION:
URL:https://soundviewofwbchurch.org/event/bible-study-58/
END:VEVENT
BEGIN:VEVENT
DTSTART;TZID=America/New_York:20240418T100000
DTEND;TZID=America/New_York:20240418T110000
DTSTAMP:20260424T201435
CREATED:20240412T153540Z
LAST-MODIFIED:20240412T153540Z
UID:1737-1713434400-1713438000@soundviewofwbchurch.org
SUMMARY:CHOIR PRACTICE
DESCRIPTION:
URL:https://soundviewofwbchurch.org/event/choir-practice-70/
END:VEVENT
BEGIN:VEVENT
DTSTART;TZID=America/New_York:20240421T100000
DTEND;TZID=America/New_York:20240421T103000
DTSTAMP:20260424T201435
CREATED:20240412T164206Z
LAST-MODIFIED:20240412T164206Z
UID:1744-1713693600-1713695400@soundviewofwbchurch.org
SUMMARY:SUNDAY SCHOOL
DESCRIPTION:
URL:https://soundviewofwbchurch.org/event/sunday-school-70/
END:VEVENT
BEGIN:VEVENT
DTSTART;TZID=America/New_York:20240421T110000
DTEND;TZID=America/New_York:20240421T120000
DTSTAMP:20260424T201435
CREATED:20240412T164239Z
LAST-MODIFIED:20240412T164239Z
UID:1746-1713697200-1713700800@soundviewofwbchurch.org
SUMMARY:SUNDAY SERVICE
DESCRIPTION:
URL:https://soundviewofwbchurch.org/event/sunday-service-54/
END:VEVENT
BEGIN:VEVENT
DTSTART;TZID=America/New_York:20240424T190000
DTEND;TZID=America/New_York:20240424T200000
DTSTAMP:20260424T201435
CREATED:20240412T164410Z
LAST-MODIFIED:20240412T164410Z
UID:1749-1713985200-1713988800@soundviewofwbchurch.org
SUMMARY:BIBLE STUDY
DESCRIPTION:
URL:https://soundviewofwbchurch.org/event/bible-study-59/
END:VEVENT
BEGIN:VEVENT
DTSTART;TZID=America/New_York:20240425T100000
DTEND;TZID=America/New_York:20240425T110000
DTSTAMP:20260424T201435
CREATED:20240412T164451Z
LAST-MODIFIED:20240412T164852Z
UID:1751-1714039200-1714042800@soundviewofwbchurch.org
SUMMARY:CHOIR PRACTICE
DESCRIPTION:
URL:https://soundviewofwbchurch.org/event/choir-practice-71/
END:VEVENT
BEGIN:VEVENT
DTSTART;TZID=America/New_York:20240428T100000
DTEND;TZID=America/New_York:20240428T103000
DTSTAMP:20260424T201435
CREATED:20240412T165100Z
LAST-MODIFIED:20240412T165114Z
UID:1753-1714298400-1714300200@soundviewofwbchurch.org
SUMMARY:SUNDAY SCHOOL
DESCRIPTION:
URL:https://soundviewofwbchurch.org/event/snday-school/
END:VEVENT
BEGIN:VEVENT
DTSTART;TZID=America/New_York:20240428T110000
DTEND;TZID=America/New_York:20240428T120000
DTSTAMP:20260424T201435
CREATED:20240412T165411Z
LAST-MODIFIED:20240412T165420Z
UID:1756-1714302000-1714305600@soundviewofwbchurch.org
SUMMARY:SUNDAY SERVICE
DESCRIPTION:
URL:https://soundviewofwbchurch.org/event/sundayservice/
END:VEVENT
END:VCALENDAR