BEGIN:VCALENDAR
VERSION:2.0
PRODID:-//SOUND VIEW ORGINAL FREE WILL BAPTIST CHURCH - ECPv6.15.20//NONSGML v1.0//EN
CALSCALE:GREGORIAN
METHOD:PUBLISH
X-WR-CALNAME:SOUND VIEW ORGINAL FREE WILL BAPTIST CHURCH
X-ORIGINAL-URL:https://soundviewofwbchurch.org
X-WR-CALDESC:Events for SOUND VIEW ORGINAL FREE WILL BAPTIST CHURCH
REFRESH-INTERVAL;VALUE=DURATION:PT1H
X-Robots-Tag:noindex
X-PUBLISHED-TTL:PT1H
BEGIN:VTIMEZONE
TZID:America/New_York
BEGIN:DAYLIGHT
TZOFFSETFROM:-0500
TZOFFSETTO:-0400
TZNAME:EDT
DTSTART:20220313T070000
END:DAYLIGHT
BEGIN:STANDARD
TZOFFSETFROM:-0400
TZOFFSETTO:-0500
TZNAME:EST
DTSTART:20221106T060000
END:STANDARD
BEGIN:DAYLIGHT
TZOFFSETFROM:-0500
TZOFFSETTO:-0400
TZNAME:EDT
DTSTART:20230312T070000
END:DAYLIGHT
BEGIN:STANDARD
TZOFFSETFROM:-0400
TZOFFSETTO:-0500
TZNAME:EST
DTSTART:20231105T060000
END:STANDARD
BEGIN:DAYLIGHT
TZOFFSETFROM:-0500
TZOFFSETTO:-0400
TZNAME:EDT
DTSTART:20240310T070000
END:DAYLIGHT
BEGIN:STANDARD
TZOFFSETFROM:-0400
TZOFFSETTO:-0500
TZNAME:EST
DTSTART:20241103T060000
END:STANDARD
END:VTIMEZONE
BEGIN:VEVENT
DTSTART;TZID=America/New_York:20230222T190000
DTEND;TZID=America/New_York:20230222T200000
DTSTAMP:20260426T001448
CREATED:20230216T025949Z
LAST-MODIFIED:20230216T025949Z
UID:827-1677092400-1677096000@soundviewofwbchurch.org
SUMMARY:Bible Study
DESCRIPTION:
URL:https://soundviewofwbchurch.org/event/bible-study-5/
END:VEVENT
BEGIN:VEVENT
DTSTART;TZID=America/New_York:20230219T110000
DTEND;TZID=America/New_York:20230219T120000
DTSTAMP:20260426T001448
CREATED:20230216T025647Z
LAST-MODIFIED:20230216T025647Z
UID:823-1676804400-1676808000@soundviewofwbchurch.org
SUMMARY:Sunday Service
DESCRIPTION:
URL:https://soundviewofwbchurch.org/event/sunday-service-8/
END:VEVENT
BEGIN:VEVENT
DTSTART;TZID=America/New_York:20230219T100000
DTEND;TZID=America/New_York:20230219T103000
DTSTAMP:20260426T001448
CREATED:20230216T024205Z
LAST-MODIFIED:20230216T024205Z
UID:821-1676800800-1676802600@soundviewofwbchurch.org
SUMMARY:Sunday School
DESCRIPTION:
URL:https://soundviewofwbchurch.org/event/sunday-school-6/
END:VEVENT
BEGIN:VEVENT
DTSTART;TZID=America/New_York:20230218T140000
DTEND;TZID=America/New_York:20230218T150000
DTSTAMP:20260426T001448
CREATED:20230216T023845Z
LAST-MODIFIED:20230216T023950Z
UID:819-1676728800-1676732400@soundviewofwbchurch.org
SUMMARY:Celebration Of Life Tom Singleton
DESCRIPTION:
URL:https://soundviewofwbchurch.org/event/celebration-of-life-tom-singleton/
END:VEVENT
BEGIN:VEVENT
DTSTART;TZID=America/New_York:20230216T100000
DTEND;TZID=America/New_York:20230216T113000
DTSTAMP:20260426T001448
CREATED:20230216T022536Z
LAST-MODIFIED:20230216T022922Z
UID:814-1676541600-1676547000@soundviewofwbchurch.org
SUMMARY:Choir Practice
DESCRIPTION:
URL:https://soundviewofwbchurch.org/event/choir-practice-7/
END:VEVENT
BEGIN:VEVENT
DTSTART;TZID=America/New_York:20230215T190000
DTEND;TZID=America/New_York:20230215T200000
DTSTAMP:20260426T001448
CREATED:20230216T022400Z
LAST-MODIFIED:20230216T022900Z
UID:812-1676487600-1676491200@soundviewofwbchurch.org
SUMMARY:Bible Study
DESCRIPTION:
URL:https://soundviewofwbchurch.org/event/bible-study-4/
END:VEVENT
BEGIN:VEVENT
DTSTART;TZID=America/New_York:20230214T190000
DTEND;TZID=America/New_York:20230214T200000
DTSTAMP:20260426T001448
CREATED:20230216T031047Z
LAST-MODIFIED:20230216T031047Z
UID:836-1676401200-1676404800@soundviewofwbchurch.org
SUMMARY:Ladies Auxiliary\, Men's Fellowship
DESCRIPTION:
URL:https://soundviewofwbchurch.org/event/ladies-auxiliary-mens-fellowship/
END:VEVENT
BEGIN:VEVENT
DTSTART;TZID=America/New_York:20230214T180000
DTEND;TZID=America/New_York:20230214T190000
DTSTAMP:20260426T001448
CREATED:20230216T022155Z
LAST-MODIFIED:20230216T022155Z
UID:810-1676397600-1676401200@soundviewofwbchurch.org
SUMMARY:Valentines Spaghetti Dinner
DESCRIPTION:
URL:https://soundviewofwbchurch.org/event/valentines-spaghetti-dinner/
END:VEVENT
BEGIN:VEVENT
DTSTART;TZID=America/New_York:20230212T110000
DTEND;TZID=America/New_York:20230212T120000
DTSTAMP:20260426T001448
CREATED:20230216T031601Z
LAST-MODIFIED:20230216T031819Z
UID:844-1676199600-1676203200@soundviewofwbchurch.org
SUMMARY:Sunday Service
DESCRIPTION:
URL:https://soundviewofwbchurch.org/event/sunday-service-11/
END:VEVENT
BEGIN:VEVENT
DTSTART;TZID=America/New_York:20230212T100000
DTEND;TZID=America/New_York:20230212T103000
DTSTAMP:20260426T001448
CREATED:20230216T031530Z
LAST-MODIFIED:20230216T031530Z
UID:842-1676196000-1676197800@soundviewofwbchurch.org
SUMMARY:Sunday School
DESCRIPTION:
URL:https://soundviewofwbchurch.org/event/sunday-school-9/
END:VEVENT
BEGIN:VEVENT
DTSTART;TZID=America/New_York:20230209T100000
DTEND;TZID=America/New_York:20230209T113000
DTSTAMP:20260426T001448
CREATED:20230216T040048Z
LAST-MODIFIED:20230216T040048Z
UID:862-1675936800-1675942200@soundviewofwbchurch.org
SUMMARY:Choir Practice
DESCRIPTION:
URL:https://soundviewofwbchurch.org/event/choir-practice-11/
END:VEVENT
BEGIN:VEVENT
DTSTART;TZID=America/New_York:20230208T190000
DTEND;TZID=America/New_York:20230208T200000
DTSTAMP:20260426T001448
CREATED:20230216T032138Z
LAST-MODIFIED:20230216T032138Z
UID:850-1675882800-1675886400@soundviewofwbchurch.org
SUMMARY:Bible Study
DESCRIPTION:
URL:https://soundviewofwbchurch.org/event/bible-study-7/
END:VEVENT
BEGIN:VEVENT
DTSTART;TZID=America/New_York:20230205T110000
DTEND;TZID=America/New_York:20230205T120000
DTSTAMP:20260426T001448
CREATED:20230216T030848Z
LAST-MODIFIED:20230216T030848Z
UID:834-1675594800-1675598400@soundviewofwbchurch.org
SUMMARY:Sunday Service
DESCRIPTION:
URL:https://soundviewofwbchurch.org/event/sunday-service-9/
END:VEVENT
BEGIN:VEVENT
DTSTART;TZID=America/New_York:20230205T100000
DTEND;TZID=America/New_York:20230205T103000
DTSTAMP:20260426T001448
CREATED:20230216T030724Z
LAST-MODIFIED:20230216T030724Z
UID:831-1675591200-1675593000@soundviewofwbchurch.org
SUMMARY:Sunday School
DESCRIPTION:
URL:https://soundviewofwbchurch.org/event/sunday-school-7/
END:VEVENT
BEGIN:VEVENT
DTSTART;TZID=America/New_York:20230202T100000
DTEND;TZID=America/New_York:20230202T113000
DTSTAMP:20260426T001448
CREATED:20230216T040019Z
LAST-MODIFIED:20230216T040019Z
UID:860-1675332000-1675337400@soundviewofwbchurch.org
SUMMARY:Choir Practice
DESCRIPTION:
URL:https://soundviewofwbchurch.org/event/choir-practice-10/
END:VEVENT
BEGIN:VEVENT
DTSTART;TZID=America/New_York:20230201T100000
DTEND;TZID=America/New_York:20230201T110000
DTSTAMP:20260426T001448
CREATED:20230216T023413Z
LAST-MODIFIED:20230216T023413Z
UID:817-1675245600-1675249200@soundviewofwbchurch.org
SUMMARY:Prayer Meeting Cancelled Until April 5th
DESCRIPTION:
URL:https://soundviewofwbchurch.org/event/prayer-meeting-cancelled-until-april-5th/
END:VEVENT
BEGIN:VEVENT
DTSTART;TZID=America/New_York:20230129T110000
DTEND;TZID=America/New_York:20230129T120000
DTSTAMP:20260426T001448
CREATED:20230102T025241Z
LAST-MODIFIED:20230102T025241Z
UID:733-1674990000-1674993600@soundviewofwbchurch.org
SUMMARY:Sunday Service
DESCRIPTION:
URL:https://soundviewofwbchurch.org/event/sunday-service-7/
END:VEVENT
BEGIN:VEVENT
DTSTART;TZID=America/New_York:20230129T100000
DTEND;TZID=America/New_York:20230129T103000
DTSTAMP:20260426T001448
CREATED:20230102T025216Z
LAST-MODIFIED:20230102T025216Z
UID:731-1674986400-1674988200@soundviewofwbchurch.org
SUMMARY:Sunday School
DESCRIPTION:
URL:https://soundviewofwbchurch.org/event/sunday-school-5/
END:VEVENT
BEGIN:VEVENT
DTSTART;TZID=America/New_York:20230126T100000
DTEND;TZID=America/New_York:20230126T110000
DTSTAMP:20260426T001448
CREATED:20230102T025143Z
LAST-MODIFIED:20230102T025143Z
UID:729-1674727200-1674730800@soundviewofwbchurch.org
SUMMARY:Choir Practice
DESCRIPTION:
URL:https://soundviewofwbchurch.org/event/choir-practice-6/
END:VEVENT
BEGIN:VEVENT
DTSTART;TZID=America/New_York:20230125T190000
DTEND;TZID=America/New_York:20230125T200000
DTSTAMP:20260426T001448
CREATED:20230102T025019Z
LAST-MODIFIED:20230102T025019Z
UID:725-1674673200-1674676800@soundviewofwbchurch.org
SUMMARY:Bible Study
DESCRIPTION:
URL:https://soundviewofwbchurch.org/event/bible-study-3/
END:VEVENT
BEGIN:VEVENT
DTSTART;TZID=America/New_York:20230125T100000
DTEND;TZID=America/New_York:20230125T110000
DTSTAMP:20260426T001448
CREATED:20230102T025048Z
LAST-MODIFIED:20230102T025048Z
UID:727-1674640800-1674644400@soundviewofwbchurch.org
SUMMARY:Prayer Group
DESCRIPTION:
URL:https://soundviewofwbchurch.org/event/prayer-group-4/
END:VEVENT
BEGIN:VEVENT
DTSTART;TZID=America/New_York:20230122T110000
DTEND;TZID=America/New_York:20230122T120000
DTSTAMP:20260426T001448
CREATED:20230102T024029Z
LAST-MODIFIED:20230102T024104Z
UID:710-1674385200-1674388800@soundviewofwbchurch.org
SUMMARY:Sunday Service
DESCRIPTION:
URL:https://soundviewofwbchurch.org/event/sunday-service-6/
END:VEVENT
BEGIN:VEVENT
DTSTART;TZID=America/New_York:20230122T100000
DTEND;TZID=America/New_York:20230122T103000
DTSTAMP:20260426T001448
CREATED:20230102T023939Z
LAST-MODIFIED:20230102T023939Z
UID:708-1674381600-1674383400@soundviewofwbchurch.org
SUMMARY:Sunday School
DESCRIPTION:
URL:https://soundviewofwbchurch.org/event/sunday-school-4/
END:VEVENT
BEGIN:VEVENT
DTSTART;TZID=America/New_York:20230119T100000
DTEND;TZID=America/New_York:20230119T230000
DTSTAMP:20260426T001448
CREATED:20230102T024304Z
LAST-MODIFIED:20230102T024304Z
UID:714-1674122400-1674169200@soundviewofwbchurch.org
SUMMARY:Choir Practice
DESCRIPTION:
URL:https://soundviewofwbchurch.org/event/choir-practice-4/
END:VEVENT
BEGIN:VEVENT
DTSTART;TZID=America/New_York:20230118T190000
DTEND;TZID=America/New_York:20230118T200000
DTSTAMP:20260426T001448
CREATED:20230102T024702Z
LAST-MODIFIED:20230102T024702Z
UID:722-1674068400-1674072000@soundviewofwbchurch.org
SUMMARY:Bible Study
DESCRIPTION:
URL:https://soundviewofwbchurch.org/event/bible-study-2/
END:VEVENT
BEGIN:VEVENT
DTSTART;TZID=America/New_York:20230118T100000
DTEND;TZID=America/New_York:20230118T110000
DTSTAMP:20260426T001448
CREATED:20230102T024624Z
LAST-MODIFIED:20230102T024624Z
UID:720-1674036000-1674039600@soundviewofwbchurch.org
SUMMARY:Prayer Group
DESCRIPTION:
URL:https://soundviewofwbchurch.org/event/prayer-group-3/
END:VEVENT
BEGIN:VEVENT
DTSTART;TZID=America/New_York:20230115T110000
DTEND;TZID=America/New_York:20230115T120000
DTSTAMP:20260426T001448
CREATED:20230102T023106Z
LAST-MODIFIED:20230102T023106Z
UID:691-1673780400-1673784000@soundviewofwbchurch.org
SUMMARY:Sunday Service
DESCRIPTION:
URL:https://soundviewofwbchurch.org/event/sunday-service-5/
END:VEVENT
BEGIN:VEVENT
DTSTART;TZID=America/New_York:20230115T100000
DTEND;TZID=America/New_York:20230115T103000
DTSTAMP:20260426T001448
CREATED:20230102T023543Z
LAST-MODIFIED:20230102T023543Z
UID:699-1673776800-1673778600@soundviewofwbchurch.org
SUMMARY:Sunday School
DESCRIPTION:
URL:https://soundviewofwbchurch.org/event/sunday-school-3/
END:VEVENT
BEGIN:VEVENT
DTSTART;TZID=America/New_York:20230112T100000
DTEND;TZID=America/New_York:20230112T110000
DTSTAMP:20260426T001448
CREATED:20230102T024351Z
LAST-MODIFIED:20230102T024351Z
UID:717-1673517600-1673521200@soundviewofwbchurch.org
SUMMARY:Choir Practice
DESCRIPTION:
URL:https://soundviewofwbchurch.org/event/choir-practice-5/
END:VEVENT
BEGIN:VEVENT
DTSTART;TZID=America/New_York:20230111T190000
DTEND;TZID=America/New_York:20230111T200000
DTSTAMP:20260426T001448
CREATED:20230102T023813Z
LAST-MODIFIED:20230102T023813Z
UID:705-1673463600-1673467200@soundviewofwbchurch.org
SUMMARY:Bible Study
DESCRIPTION:
URL:https://soundviewofwbchurch.org/event/bible-study/
END:VEVENT
END:VCALENDAR