BEGIN:VCALENDAR
VERSION:2.0
PRODID:-//SOUND VIEW ORGINAL FREE WILL BAPTIST CHURCH - ECPv6.15.20//NONSGML v1.0//EN
CALSCALE:GREGORIAN
METHOD:PUBLISH
X-ORIGINAL-URL:https://soundviewofwbchurch.org
X-WR-CALDESC:Events for SOUND VIEW ORGINAL FREE WILL BAPTIST CHURCH
REFRESH-INTERVAL;VALUE=DURATION:PT1H
X-Robots-Tag:noindex
X-PUBLISHED-TTL:PT1H
BEGIN:VTIMEZONE
TZID:America/New_York
BEGIN:DAYLIGHT
TZOFFSETFROM:-0500
TZOFFSETTO:-0400
TZNAME:EDT
DTSTART:20230312T070000
END:DAYLIGHT
BEGIN:STANDARD
TZOFFSETFROM:-0400
TZOFFSETTO:-0500
TZNAME:EST
DTSTART:20231105T060000
END:STANDARD
BEGIN:DAYLIGHT
TZOFFSETFROM:-0500
TZOFFSETTO:-0400
TZNAME:EDT
DTSTART:20240310T070000
END:DAYLIGHT
BEGIN:STANDARD
TZOFFSETFROM:-0400
TZOFFSETTO:-0500
TZNAME:EST
DTSTART:20241103T060000
END:STANDARD
BEGIN:DAYLIGHT
TZOFFSETFROM:-0500
TZOFFSETTO:-0400
TZNAME:EDT
DTSTART:20250309T070000
END:DAYLIGHT
BEGIN:STANDARD
TZOFFSETFROM:-0400
TZOFFSETTO:-0500
TZNAME:EST
DTSTART:20251102T060000
END:STANDARD
END:VTIMEZONE
BEGIN:VEVENT
DTSTART;TZID=America/New_York:20240225T100000
DTEND;TZID=America/New_York:20240225T103000
DTSTAMP:20260425T110731
CREATED:20240204T021142Z
LAST-MODIFIED:20240204T021250Z
UID:1621-1708855200-1708857000@soundviewofwbchurch.org
SUMMARY:SUNDAY SCHOOL
DESCRIPTION:
URL:https://soundviewofwbchurch.org/event/sunday-school-63/
END:VEVENT
BEGIN:VEVENT
DTSTART;TZID=America/New_York:20240225T110000
DTEND;TZID=America/New_York:20240225T120000
DTSTAMP:20260425T110731
CREATED:20240204T021035Z
LAST-MODIFIED:20240204T021050Z
UID:1619-1708858800-1708862400@soundviewofwbchurch.org
SUMMARY:SUNDAY SERVICE
DESCRIPTION:
URL:https://soundviewofwbchurch.org/event/sunday-service-45/
END:VEVENT
BEGIN:VEVENT
DTSTART;TZID=America/New_York:20240228T190000
DTEND;TZID=America/New_York:20240228T200000
DTSTAMP:20260425T110731
CREATED:20240204T021717Z
LAST-MODIFIED:20240204T021728Z
UID:1630-1709146800-1709150400@soundviewofwbchurch.org
SUMMARY:BIBLE STUDY
DESCRIPTION:
URL:https://soundviewofwbchurch.org/event/bible-study-52/
END:VEVENT
BEGIN:VEVENT
DTSTART;TZID=America/New_York:20240229T100000
DTEND;TZID=America/New_York:20240229T110000
DTSTAMP:20260425T110731
CREATED:20240204T021540Z
LAST-MODIFIED:20240204T021550Z
UID:1626-1709200800-1709204400@soundviewofwbchurch.org
SUMMARY:CHOIR PRACTICE
DESCRIPTION:
URL:https://soundviewofwbchurch.org/event/choir-practice-62/
END:VEVENT
BEGIN:VEVENT
DTSTART;TZID=America/New_York:20240303T100000
DTEND;TZID=America/New_York:20240303T103000
DTSTAMP:20260425T110731
CREATED:20240309T231846Z
LAST-MODIFIED:20240309T231846Z
UID:1643-1709460000-1709461800@soundviewofwbchurch.org
SUMMARY:Sunday School
DESCRIPTION:
URL:https://soundviewofwbchurch.org/event/sunday-school-64/
END:VEVENT
BEGIN:VEVENT
DTSTART;TZID=America/New_York:20240303T110000
DTEND;TZID=America/New_York:20240303T120000
DTSTAMP:20260425T110731
CREATED:20240309T234648Z
LAST-MODIFIED:20240309T234648Z
UID:1661-1709463600-1709467200@soundviewofwbchurch.org
SUMMARY:Sunday Service
DESCRIPTION:
URL:https://soundviewofwbchurch.org/event/sunday-service-52/
END:VEVENT
BEGIN:VEVENT
DTSTART;TZID=America/New_York:20240305T190000
DTEND;TZID=America/New_York:20240305T200000
DTSTAMP:20260425T110731
CREATED:20240309T235307Z
LAST-MODIFIED:20240309T235307Z
UID:1673-1709665200-1709668800@soundviewofwbchurch.org
SUMMARY:Ladies Aux. Men's Brotherhood
DESCRIPTION:
URL:https://soundviewofwbchurch.org/event/ladies-aux-mens-brotherhood/
END:VEVENT
BEGIN:VEVENT
DTSTART;TZID=America/New_York:20240306T080000
DTEND;TZID=America/New_York:20240306T170000
DTSTAMP:20260425T110731
CREATED:20240309T235508Z
LAST-MODIFIED:20240309T235508Z
UID:1675-1709712000-1709744400@soundviewofwbchurch.org
SUMMARY:Short Business Meeting and Bible Study
DESCRIPTION:
URL:https://soundviewofwbchurch.org/event/short-business-meeting-and-bible-study/
END:VEVENT
BEGIN:VEVENT
DTSTART;TZID=America/New_York:20240307T100000
DTEND;TZID=America/New_York:20240307T110000
DTSTAMP:20260425T110731
CREATED:20240309T235552Z
LAST-MODIFIED:20240309T235552Z
UID:1677-1709805600-1709809200@soundviewofwbchurch.org
SUMMARY:Choir Practice
DESCRIPTION:
URL:https://soundviewofwbchurch.org/event/choir-practice-64/
END:VEVENT
BEGIN:VEVENT
DTSTART;TZID=America/New_York:20240310T100000
DTEND;TZID=America/New_York:20240310T103000
DTSTAMP:20260425T110731
CREATED:20240309T234217Z
LAST-MODIFIED:20240309T234600Z
UID:1653-1710064800-1710066600@soundviewofwbchurch.org
SUMMARY:Sunday School
DESCRIPTION:
URL:https://soundviewofwbchurch.org/event/sunday-service-49/
END:VEVENT
BEGIN:VEVENT
DTSTART;TZID=America/New_York:20240310T110000
DTEND;TZID=America/New_York:20240310T120000
DTSTAMP:20260425T110731
CREATED:20240309T234353Z
LAST-MODIFIED:20240309T234353Z
UID:1657-1710068400-1710072000@soundviewofwbchurch.org
SUMMARY:Sunday Service
DESCRIPTION:
URL:https://soundviewofwbchurch.org/event/sunday-service-51/
END:VEVENT
BEGIN:VEVENT
DTSTART;TZID=America/New_York:20240313T190000
DTEND;TZID=America/New_York:20240313T200000
DTSTAMP:20260425T110731
CREATED:20240309T235754Z
LAST-MODIFIED:20240309T235754Z
UID:1682-1710356400-1710360000@soundviewofwbchurch.org
SUMMARY:Bible Study
DESCRIPTION:
URL:https://soundviewofwbchurch.org/event/bible-study-54/
END:VEVENT
BEGIN:VEVENT
DTSTART;TZID=America/New_York:20240314T100000
DTEND;TZID=America/New_York:20240314T110000
DTSTAMP:20260425T110731
CREATED:20240310T000303Z
LAST-MODIFIED:20240310T000303Z
UID:1690-1710410400-1710414000@soundviewofwbchurch.org
SUMMARY:Choir Practice
DESCRIPTION:
URL:https://soundviewofwbchurch.org/event/choir-practice-65/
END:VEVENT
BEGIN:VEVENT
DTSTART;TZID=America/New_York:20240317T100000
DTEND;TZID=America/New_York:20240317T103000
DTSTAMP:20260425T110731
CREATED:20240309T234732Z
LAST-MODIFIED:20240309T234732Z
UID:1663-1710669600-1710671400@soundviewofwbchurch.org
SUMMARY:Sunday School
DESCRIPTION:
URL:https://soundviewofwbchurch.org/event/sunday-school-65/
END:VEVENT
BEGIN:VEVENT
DTSTART;TZID=America/New_York:20240317T110000
DTEND;TZID=America/New_York:20240317T120000
DTSTAMP:20260425T110731
CREATED:20240309T232220Z
LAST-MODIFIED:20240309T232232Z
UID:1650-1710673200-1710676800@soundviewofwbchurch.org
SUMMARY:Sunday Service
DESCRIPTION:
URL:https://soundviewofwbchurch.org/event/sunday-service-48/
END:VEVENT
BEGIN:VEVENT
DTSTART;TZID=America/New_York:20240320T190000
DTEND;TZID=America/New_York:20240320T200000
DTSTAMP:20260425T110731
CREATED:20240309T235956Z
LAST-MODIFIED:20240309T235956Z
UID:1686-1710961200-1710964800@soundviewofwbchurch.org
SUMMARY:Bible Study
DESCRIPTION:
URL:https://soundviewofwbchurch.org/event/bible-study-55/
END:VEVENT
BEGIN:VEVENT
DTSTART;TZID=America/New_York:20240321T100000
DTEND;TZID=America/New_York:20240321T110000
DTSTAMP:20260425T110731
CREATED:20240310T000338Z
LAST-MODIFIED:20240310T000338Z
UID:1692-1711015200-1711018800@soundviewofwbchurch.org
SUMMARY:Choir Practice
DESCRIPTION:
URL:https://soundviewofwbchurch.org/event/choir-practice-66/
END:VEVENT
BEGIN:VEVENT
DTSTART;TZID=America/New_York:20240322T140000
DTEND;TZID=America/New_York:20240322T160000
DTSTAMP:20260425T110731
CREATED:20240322T235510Z
LAST-MODIFIED:20240322T235510Z
UID:1699-1711116000-1711123200@soundviewofwbchurch.org
SUMMARY:Easter Egg Hunt
DESCRIPTION:
URL:https://soundviewofwbchurch.org/event/easter-egg-hunt-3/
END:VEVENT
BEGIN:VEVENT
DTSTART;TZID=America/New_York:20240324T080000
DTEND;TZID=America/New_York:20240324T170000
DTSTAMP:20260425T110731
CREATED:20240309T234252Z
LAST-MODIFIED:20240309T234252Z
UID:1655-1711267200-1711299600@soundviewofwbchurch.org
SUMMARY:Sunday Service
DESCRIPTION:
URL:https://soundviewofwbchurch.org/event/sunday-service-50/
END:VEVENT
BEGIN:VEVENT
DTSTART;TZID=America/New_York:20240324T100000
DTEND;TZID=America/New_York:20240324T103000
DTSTAMP:20260425T110731
CREATED:20240309T234827Z
LAST-MODIFIED:20240309T234827Z
UID:1665-1711274400-1711276200@soundviewofwbchurch.org
SUMMARY:Sunday School
DESCRIPTION:
URL:https://soundviewofwbchurch.org/event/sunday-school-66/
END:VEVENT
BEGIN:VEVENT
DTSTART;TZID=America/New_York:20240327T190000
DTEND;TZID=America/New_York:20240327T200000
DTSTAMP:20260425T110731
CREATED:20240310T000208Z
LAST-MODIFIED:20240310T000208Z
UID:1688-1711566000-1711569600@soundviewofwbchurch.org
SUMMARY:Bible Study
DESCRIPTION:
URL:https://soundviewofwbchurch.org/event/bible-study-56/
END:VEVENT
BEGIN:VEVENT
DTSTART;TZID=America/New_York:20240328T100000
DTEND;TZID=America/New_York:20240328T110000
DTSTAMP:20260425T110731
CREATED:20240310T000517Z
LAST-MODIFIED:20240310T000517Z
UID:1694-1711620000-1711623600@soundviewofwbchurch.org
SUMMARY:Choir Practice
DESCRIPTION:
URL:https://soundviewofwbchurch.org/event/choir-practice-67/
END:VEVENT
BEGIN:VEVENT
DTSTART;TZID=America/New_York:20240330T080000
DTEND;TZID=America/New_York:20240330T110000
DTSTAMP:20260425T110731
CREATED:20240309T235924Z
LAST-MODIFIED:20240322T235416Z
UID:1684-1711785600-1711796400@soundviewofwbchurch.org
SUMMARY:Church Cleanup
DESCRIPTION:
URL:https://soundviewofwbchurch.org/event/church-cleanup/
END:VEVENT
BEGIN:VEVENT
DTSTART;TZID=America/New_York:20240330T140000
DTEND;TZID=America/New_York:20240330T160000
DTSTAMP:20260425T110731
CREATED:20240322T235713Z
LAST-MODIFIED:20240322T235713Z
UID:1701-1711807200-1711814400@soundviewofwbchurch.org
SUMMARY:Easter Egg Hunt
DESCRIPTION:
URL:https://soundviewofwbchurch.org/event/easter-egg-hunt-4/
END:VEVENT
BEGIN:VEVENT
DTSTART;TZID=America/New_York:20240331T063000
DTEND;TZID=America/New_York:20240331T070000
DTSTAMP:20260425T110731
CREATED:20240309T232108Z
LAST-MODIFIED:20240309T232108Z
UID:1648-1711866600-1711868400@soundviewofwbchurch.org
SUMMARY:Easter Sunrise Service
DESCRIPTION:
URL:https://soundviewofwbchurch.org/event/easter-sunrise-service/
END:VEVENT
BEGIN:VEVENT
DTSTART;TZID=America/New_York:20240331T100000
DTEND;TZID=America/New_York:20240331T103000
DTSTAMP:20260425T110731
CREATED:20240309T234956Z
LAST-MODIFIED:20240309T234956Z
UID:1669-1711879200-1711881000@soundviewofwbchurch.org
SUMMARY:Sunday School
DESCRIPTION:
URL:https://soundviewofwbchurch.org/event/sunday-school-68/
END:VEVENT
BEGIN:VEVENT
DTSTART;TZID=America/New_York:20240331T110000
DTEND;TZID=America/New_York:20240331T120000
DTSTAMP:20260425T110731
CREATED:20240309T231925Z
LAST-MODIFIED:20240309T232021Z
UID:1645-1711882800-1711886400@soundviewofwbchurch.org
SUMMARY:Easter Sunday Service
DESCRIPTION:
URL:https://soundviewofwbchurch.org/event/sunday-service-47/
END:VEVENT
BEGIN:VEVENT
DTSTART;TZID=America/New_York:20240402T190000
DTEND;TZID=America/New_York:20240402T200000
DTSTAMP:20260425T110731
CREATED:20240404T005907Z
LAST-MODIFIED:20240404T005907Z
UID:1711-1712084400-1712088000@soundviewofwbchurch.org
SUMMARY:Ladies Auxiliary\, Men's Fellowship
DESCRIPTION:
URL:https://soundviewofwbchurch.org/event/ladies-auxiliary-mens-fellowship-4/
END:VEVENT
BEGIN:VEVENT
DTSTART;TZID=America/New_York:20240403T190000
DTEND;TZID=America/New_York:20240403T200000
DTSTAMP:20260425T110731
CREATED:20240412T143532Z
LAST-MODIFIED:20240412T143532Z
UID:1714-1712170800-1712174400@soundviewofwbchurch.org
SUMMARY:BIBLE STUDY
DESCRIPTION:
URL:https://soundviewofwbchurch.org/event/bible-study-57/
END:VEVENT
BEGIN:VEVENT
DTSTART;TZID=America/New_York:20240404T100000
DTEND;TZID=America/New_York:20240404T110000
DTSTAMP:20260425T110731
CREATED:20240412T143637Z
LAST-MODIFIED:20240412T143637Z
UID:1716-1712224800-1712228400@soundviewofwbchurch.org
SUMMARY:CHOIR PRACTICE
DESCRIPTION:
URL:https://soundviewofwbchurch.org/event/choir-practice-68/
END:VEVENT
END:VCALENDAR