BEGIN:VCALENDAR
VERSION:2.0
PRODID:-//SOUND VIEW ORGINAL FREE WILL BAPTIST CHURCH - ECPv6.15.20//NONSGML v1.0//EN
CALSCALE:GREGORIAN
METHOD:PUBLISH
X-WR-CALNAME:SOUND VIEW ORGINAL FREE WILL BAPTIST CHURCH
X-ORIGINAL-URL:https://soundviewofwbchurch.org
X-WR-CALDESC:Events for SOUND VIEW ORGINAL FREE WILL BAPTIST CHURCH
REFRESH-INTERVAL;VALUE=DURATION:PT1H
X-Robots-Tag:noindex
X-PUBLISHED-TTL:PT1H
BEGIN:VTIMEZONE
TZID:America/New_York
BEGIN:DAYLIGHT
TZOFFSETFROM:-0500
TZOFFSETTO:-0400
TZNAME:EDT
DTSTART:20230312T070000
END:DAYLIGHT
BEGIN:STANDARD
TZOFFSETFROM:-0400
TZOFFSETTO:-0500
TZNAME:EST
DTSTART:20231105T060000
END:STANDARD
BEGIN:DAYLIGHT
TZOFFSETFROM:-0500
TZOFFSETTO:-0400
TZNAME:EDT
DTSTART:20240310T070000
END:DAYLIGHT
BEGIN:STANDARD
TZOFFSETFROM:-0400
TZOFFSETTO:-0500
TZNAME:EST
DTSTART:20241103T060000
END:STANDARD
BEGIN:DAYLIGHT
TZOFFSETFROM:-0500
TZOFFSETTO:-0400
TZNAME:EDT
DTSTART:20250309T070000
END:DAYLIGHT
BEGIN:STANDARD
TZOFFSETFROM:-0400
TZOFFSETTO:-0500
TZNAME:EST
DTSTART:20251102T060000
END:STANDARD
END:VTIMEZONE
BEGIN:VEVENT
DTSTART;TZID=America/New_York:20240121T100000
DTEND;TZID=America/New_York:20240121T103000
DTSTAMP:20260425T120700
CREATED:20240112T032146Z
LAST-MODIFIED:20240112T032146Z
UID:1567-1705831200-1705833000@soundviewofwbchurch.org
SUMMARY:SUNDAY SCHOOL
DESCRIPTION:
URL:https://soundviewofwbchurch.org/event/sunday-school-58/
END:VEVENT
BEGIN:VEVENT
DTSTART;TZID=America/New_York:20240121T110000
DTEND;TZID=America/New_York:20240121T120000
DTSTAMP:20260425T120700
CREATED:20240112T032230Z
LAST-MODIFIED:20240112T032230Z
UID:1569-1705834800-1705838400@soundviewofwbchurch.org
SUMMARY:SUNDAY SERVICE
DESCRIPTION:
URL:https://soundviewofwbchurch.org/event/sunday-service-41/
END:VEVENT
BEGIN:VEVENT
DTSTART;TZID=America/New_York:20240124T190000
DTEND;TZID=America/New_York:20240124T200000
DTSTAMP:20260425T120700
CREATED:20240112T032445Z
LAST-MODIFIED:20240112T032445Z
UID:1572-1706122800-1706126400@soundviewofwbchurch.org
SUMMARY:BIBLE STUDY
DESCRIPTION:
URL:https://soundviewofwbchurch.org/event/bible-study-48/
END:VEVENT
BEGIN:VEVENT
DTSTART;TZID=America/New_York:20240125T100000
DTEND;TZID=America/New_York:20240125T110000
DTSTAMP:20260425T120700
CREATED:20240112T032620Z
LAST-MODIFIED:20240112T032620Z
UID:1574-1706176800-1706180400@soundviewofwbchurch.org
SUMMARY:CHOIR PRACTICE
DESCRIPTION:
URL:https://soundviewofwbchurch.org/event/choir-practice-57/
END:VEVENT
BEGIN:VEVENT
DTSTART;TZID=America/New_York:20240128T100000
DTEND;TZID=America/New_York:20240128T103000
DTSTAMP:20260425T120700
CREATED:20240112T032741Z
LAST-MODIFIED:20240112T032741Z
UID:1576-1706436000-1706437800@soundviewofwbchurch.org
SUMMARY:SUNDAY SCHOOL
DESCRIPTION:
URL:https://soundviewofwbchurch.org/event/sunday-school-59/
END:VEVENT
BEGIN:VEVENT
DTSTART;TZID=America/New_York:20240128T110000
DTEND;TZID=America/New_York:20240128T120000
DTSTAMP:20260425T120700
CREATED:20240112T032814Z
LAST-MODIFIED:20240112T032814Z
UID:1578-1706439600-1706443200@soundviewofwbchurch.org
SUMMARY:SUNDAY SERVICE
DESCRIPTION:
URL:https://soundviewofwbchurch.org/event/sunday-service-42/
END:VEVENT
BEGIN:VEVENT
DTSTART;TZID=America/New_York:20240131T190000
DTEND;TZID=America/New_York:20240131T200000
DTSTAMP:20260425T120700
CREATED:20240112T032910Z
LAST-MODIFIED:20240112T032910Z
UID:1581-1706727600-1706731200@soundviewofwbchurch.org
SUMMARY:BIBLE STUDY
DESCRIPTION:
URL:https://soundviewofwbchurch.org/event/bible-study-49/
END:VEVENT
BEGIN:VEVENT
DTSTART;TZID=America/New_York:20240201T100000
DTEND;TZID=America/New_York:20240201T110000
DTSTAMP:20260425T120700
CREATED:20240112T033134Z
LAST-MODIFIED:20240112T033134Z
UID:1583-1706781600-1706785200@soundviewofwbchurch.org
SUMMARY:CHOIR PRACTICE
DESCRIPTION:
URL:https://soundviewofwbchurch.org/event/choir-practice-58/
END:VEVENT
BEGIN:VEVENT
DTSTART;TZID=America/New_York:20240201T100000
DTEND;TZID=America/New_York:20240201T113000
DTSTAMP:20260425T120700
CREATED:20240204T014754Z
LAST-MODIFIED:20240204T014814Z
UID:1587-1706781600-1706787000@soundviewofwbchurch.org
SUMMARY:CHOIR PRACTICE
DESCRIPTION:
URL:https://soundviewofwbchurch.org/event/choir-practice-59/
END:VEVENT
BEGIN:VEVENT
DTSTART;TZID=America/New_York:20240203T110000
DTEND;TZID=America/New_York:20240203T120000
DTSTAMP:20260425T120700
CREATED:20240204T020401Z
LAST-MODIFIED:20240204T020401Z
UID:1608-1706958000-1706961600@soundviewofwbchurch.org
SUMMARY:SUNDAY SERVICE
DESCRIPTION:
URL:https://soundviewofwbchurch.org/event/sunday-service-43/
END:VEVENT
BEGIN:VEVENT
DTSTART;TZID=America/New_York:20240204T100000
DTEND;TZID=America/New_York:20240204T103000
DTSTAMP:20260425T120700
CREATED:20240204T014937Z
LAST-MODIFIED:20240204T014937Z
UID:1589-1707040800-1707042600@soundviewofwbchurch.org
SUMMARY:SUNDAY SCHOOL
DESCRIPTION:
URL:https://soundviewofwbchurch.org/event/sunday-school-60/
END:VEVENT
BEGIN:VEVENT
DTSTART;TZID=America/New_York:20240204T110000
DTEND;TZID=America/New_York:20240204T120000
DTSTAMP:20260425T120700
CREATED:20240204T015621Z
LAST-MODIFIED:20240204T015900Z
UID:1604-1707044400-1707048000@soundviewofwbchurch.org
SUMMARY:SUNDAY SERVICE
DESCRIPTION:
URL:https://soundviewofwbchurch.org/event/sunday-service-44/
END:VEVENT
BEGIN:VEVENT
DTSTART;TZID=America/New_York:20240206T190000
DTEND;TZID=America/New_York:20240206T200000
DTSTAMP:20260425T120700
CREATED:20240204T015126Z
LAST-MODIFIED:20240204T015126Z
UID:1593-1707246000-1707249600@soundviewofwbchurch.org
SUMMARY:LADIES AUX. MENS FELLOWSHIP
DESCRIPTION:
URL:https://soundviewofwbchurch.org/event/ladies-aux-mens-fellowship-5/
END:VEVENT
BEGIN:VEVENT
DTSTART;TZID=America/New_York:20240207T190000
DTEND;TZID=America/New_York:20240207T200000
DTSTAMP:20260425T120700
CREATED:20240204T015324Z
LAST-MODIFIED:20240204T015324Z
UID:1600-1707332400-1707336000@soundviewofwbchurch.org
SUMMARY:BIBLE STUDY
DESCRIPTION:
URL:https://soundviewofwbchurch.org/event/bible-study-50/
END:VEVENT
BEGIN:VEVENT
DTSTART;TZID=America/New_York:20240208T100000
DTEND;TZID=America/New_York:20240208T110000
DTSTAMP:20260425T120700
CREATED:20240204T015239Z
LAST-MODIFIED:20240204T015239Z
UID:1597-1707386400-1707390000@soundviewofwbchurch.org
SUMMARY:CHOIR PRACTICE
DESCRIPTION:
URL:https://soundviewofwbchurch.org/event/choir-practice-60/
END:VEVENT
BEGIN:VEVENT
DTSTART;TZID=America/New_York:20240211T100000
DTEND;TZID=America/New_York:20240211T103000
DTSTAMP:20260425T120700
CREATED:20240204T015500Z
LAST-MODIFIED:20240204T015553Z
UID:1602-1707645600-1707647400@soundviewofwbchurch.org
SUMMARY:SUNDAY SCHOOL
DESCRIPTION:
URL:https://soundviewofwbchurch.org/event/sunday-school-61/
END:VEVENT
BEGIN:VEVENT
DTSTART;TZID=America/New_York:20240214T180000
DTEND;TZID=America/New_York:20240214T190000
DTSTAMP:20260425T120700
CREATED:20240204T020645Z
LAST-MODIFIED:20240204T020645Z
UID:1610-1707933600-1707937200@soundviewofwbchurch.org
SUMMARY:SWEETHEART'S SPAGHETTI DINNER
DESCRIPTION:
URL:https://soundviewofwbchurch.org/event/sweethearts-spaghetti-dinner/
END:VEVENT
BEGIN:VEVENT
DTSTART;TZID=America/New_York:20240214T190000
DTEND;TZID=America/New_York:20240214T200000
DTSTAMP:20260425T120700
CREATED:20240204T020739Z
LAST-MODIFIED:20240204T020739Z
UID:1612-1707937200-1707940800@soundviewofwbchurch.org
SUMMARY:BIBLE STUDY
DESCRIPTION:
URL:https://soundviewofwbchurch.org/event/bible-study-51/
END:VEVENT
BEGIN:VEVENT
DTSTART;TZID=America/New_York:20240215T100000
DTEND;TZID=America/New_York:20240215T110000
DTSTAMP:20260425T120700
CREATED:20240204T020815Z
LAST-MODIFIED:20240204T020815Z
UID:1614-1707991200-1707994800@soundviewofwbchurch.org
SUMMARY:CHOIR PRACTICE
DESCRIPTION:
URL:https://soundviewofwbchurch.org/event/choir-practice-61/
END:VEVENT
BEGIN:VEVENT
DTSTART;TZID=America/New_York:20240218T100000
DTEND;TZID=America/New_York:20240218T103000
DTSTAMP:20260425T120700
CREATED:20240204T020938Z
LAST-MODIFIED:20240204T020938Z
UID:1616-1708250400-1708252200@soundviewofwbchurch.org
SUMMARY:SUNDAY SCHOOL
DESCRIPTION:
URL:https://soundviewofwbchurch.org/event/sunday-school-62/
END:VEVENT
BEGIN:VEVENT
DTSTART;TZID=America/New_York:20240218T110000
DTEND;TZID=America/New_York:20240218T120000
DTSTAMP:20260425T120700
CREATED:20240204T021429Z
LAST-MODIFIED:20240204T021429Z
UID:1623-1708254000-1708257600@soundviewofwbchurch.org
SUMMARY:SUNDAY SERVICE
DESCRIPTION:
URL:https://soundviewofwbchurch.org/event/sunday-service-46/
END:VEVENT
BEGIN:VEVENT
DTSTART;TZID=America/New_York:20240221T190000
DTEND;TZID=America/New_York:20240221T200000
DTSTAMP:20260425T120700
CREATED:20240204T021901Z
LAST-MODIFIED:20240204T021901Z
UID:1633-1708542000-1708545600@soundviewofwbchurch.org
SUMMARY:BIBLE STUDY
DESCRIPTION:
URL:https://soundviewofwbchurch.org/event/bible-study-53/
END:VEVENT
BEGIN:VEVENT
DTSTART;TZID=America/New_York:20240222T100000
DTEND;TZID=America/New_York:20240222T110000
DTSTAMP:20260425T120700
CREATED:20240204T021634Z
LAST-MODIFIED:20240204T021634Z
UID:1628-1708596000-1708599600@soundviewofwbchurch.org
SUMMARY:CHOIR PRACTICE
DESCRIPTION:
URL:https://soundviewofwbchurch.org/event/choir-practice-63/
END:VEVENT
BEGIN:VEVENT
DTSTART;TZID=America/New_York:20240225T100000
DTEND;TZID=America/New_York:20240225T103000
DTSTAMP:20260425T120700
CREATED:20240204T021142Z
LAST-MODIFIED:20240204T021250Z
UID:1621-1708855200-1708857000@soundviewofwbchurch.org
SUMMARY:SUNDAY SCHOOL
DESCRIPTION:
URL:https://soundviewofwbchurch.org/event/sunday-school-63/
END:VEVENT
BEGIN:VEVENT
DTSTART;TZID=America/New_York:20240225T110000
DTEND;TZID=America/New_York:20240225T120000
DTSTAMP:20260425T120700
CREATED:20240204T021035Z
LAST-MODIFIED:20240204T021050Z
UID:1619-1708858800-1708862400@soundviewofwbchurch.org
SUMMARY:SUNDAY SERVICE
DESCRIPTION:
URL:https://soundviewofwbchurch.org/event/sunday-service-45/
END:VEVENT
BEGIN:VEVENT
DTSTART;TZID=America/New_York:20240228T190000
DTEND;TZID=America/New_York:20240228T200000
DTSTAMP:20260425T120700
CREATED:20240204T021717Z
LAST-MODIFIED:20240204T021728Z
UID:1630-1709146800-1709150400@soundviewofwbchurch.org
SUMMARY:BIBLE STUDY
DESCRIPTION:
URL:https://soundviewofwbchurch.org/event/bible-study-52/
END:VEVENT
BEGIN:VEVENT
DTSTART;TZID=America/New_York:20240229T100000
DTEND;TZID=America/New_York:20240229T110000
DTSTAMP:20260425T120700
CREATED:20240204T021540Z
LAST-MODIFIED:20240204T021550Z
UID:1626-1709200800-1709204400@soundviewofwbchurch.org
SUMMARY:CHOIR PRACTICE
DESCRIPTION:
URL:https://soundviewofwbchurch.org/event/choir-practice-62/
END:VEVENT
BEGIN:VEVENT
DTSTART;TZID=America/New_York:20240303T100000
DTEND;TZID=America/New_York:20240303T103000
DTSTAMP:20260425T120700
CREATED:20240309T231846Z
LAST-MODIFIED:20240309T231846Z
UID:1643-1709460000-1709461800@soundviewofwbchurch.org
SUMMARY:Sunday School
DESCRIPTION:
URL:https://soundviewofwbchurch.org/event/sunday-school-64/
END:VEVENT
BEGIN:VEVENT
DTSTART;TZID=America/New_York:20240303T110000
DTEND;TZID=America/New_York:20240303T120000
DTSTAMP:20260425T120700
CREATED:20240309T234648Z
LAST-MODIFIED:20240309T234648Z
UID:1661-1709463600-1709467200@soundviewofwbchurch.org
SUMMARY:Sunday Service
DESCRIPTION:
URL:https://soundviewofwbchurch.org/event/sunday-service-52/
END:VEVENT
BEGIN:VEVENT
DTSTART;TZID=America/New_York:20240305T190000
DTEND;TZID=America/New_York:20240305T200000
DTSTAMP:20260425T120700
CREATED:20240309T235307Z
LAST-MODIFIED:20240309T235307Z
UID:1673-1709665200-1709668800@soundviewofwbchurch.org
SUMMARY:Ladies Aux. Men's Brotherhood
DESCRIPTION:
URL:https://soundviewofwbchurch.org/event/ladies-aux-mens-brotherhood/
END:VEVENT
END:VCALENDAR