BEGIN:VCALENDAR
VERSION:2.0
PRODID:-//SOUND VIEW ORGINAL FREE WILL BAPTIST CHURCH - ECPv6.15.20//NONSGML v1.0//EN
CALSCALE:GREGORIAN
METHOD:PUBLISH
X-WR-CALNAME:SOUND VIEW ORGINAL FREE WILL BAPTIST CHURCH
X-ORIGINAL-URL:https://soundviewofwbchurch.org
X-WR-CALDESC:Events for SOUND VIEW ORGINAL FREE WILL BAPTIST CHURCH
REFRESH-INTERVAL;VALUE=DURATION:PT1H
X-Robots-Tag:noindex
X-PUBLISHED-TTL:PT1H
BEGIN:VTIMEZONE
TZID:America/New_York
BEGIN:DAYLIGHT
TZOFFSETFROM:-0500
TZOFFSETTO:-0400
TZNAME:EDT
DTSTART:20250309T070000
END:DAYLIGHT
BEGIN:STANDARD
TZOFFSETFROM:-0400
TZOFFSETTO:-0500
TZNAME:EST
DTSTART:20251102T060000
END:STANDARD
BEGIN:DAYLIGHT
TZOFFSETFROM:-0500
TZOFFSETTO:-0400
TZNAME:EDT
DTSTART:20260308T070000
END:DAYLIGHT
BEGIN:STANDARD
TZOFFSETFROM:-0400
TZOFFSETTO:-0500
TZNAME:EST
DTSTART:20261101T060000
END:STANDARD
BEGIN:DAYLIGHT
TZOFFSETFROM:-0500
TZOFFSETTO:-0400
TZNAME:EDT
DTSTART:20270314T070000
END:DAYLIGHT
BEGIN:STANDARD
TZOFFSETFROM:-0400
TZOFFSETTO:-0500
TZNAME:EST
DTSTART:20271107T060000
END:STANDARD
END:VTIMEZONE
BEGIN:VEVENT
DTSTART;TZID=America/New_York:20260305T100000
DTEND;TZID=America/New_York:20260305T110000
DTSTAMP:20260423T165424
CREATED:20260316T212144Z
LAST-MODIFIED:20260316T212144Z
UID:3203-1772704800-1772708400@soundviewofwbchurch.org
SUMMARY:CHOIR PRACTICE
DESCRIPTION:
URL:https://soundviewofwbchurch.org/event/choir-practice-156/
END:VEVENT
BEGIN:VEVENT
DTSTART;TZID=America/New_York:20260304T190000
DTEND;TZID=America/New_York:20260304T200000
DTSTAMP:20260423T165424
CREATED:20260316T211825Z
LAST-MODIFIED:20260316T211825Z
UID:3193-1772650800-1772654400@soundviewofwbchurch.org
SUMMARY:BIBLE STUDY
DESCRIPTION:
URL:https://soundviewofwbchurch.org/event/bible-study-139/
END:VEVENT
BEGIN:VEVENT
DTSTART;TZID=America/New_York:20260303T190000
DTEND;TZID=America/New_York:20260303T200000
DTSTAMP:20260423T165424
CREATED:20260316T211719Z
LAST-MODIFIED:20260316T211719Z
UID:3189-1772564400-1772568000@soundviewofwbchurch.org
SUMMARY:LASIES AUX & MEN'S BROTHERHOOD
DESCRIPTION:
URL:https://soundviewofwbchurch.org/event/lasies-aux-mens-brotherhood/
END:VEVENT
BEGIN:VEVENT
DTSTART;TZID=America/New_York:20260301T110000
DTEND;TZID=America/New_York:20260301T120000
DTSTAMP:20260423T165424
CREATED:20260316T211235Z
LAST-MODIFIED:20260316T211235Z
UID:3176-1772362800-1772366400@soundviewofwbchurch.org
SUMMARY:SUNDAY SERVICE
DESCRIPTION:
URL:https://soundviewofwbchurch.org/event/sunday-service-128/
END:VEVENT
BEGIN:VEVENT
DTSTART;TZID=America/New_York:20260301T100000
DTEND;TZID=America/New_York:20260301T103000
DTSTAMP:20260423T165424
CREATED:20260316T210730Z
LAST-MODIFIED:20260316T210730Z
UID:3164-1772359200-1772361000@soundviewofwbchurch.org
SUMMARY:SUNDAY SCHOOL
DESCRIPTION:
URL:https://soundviewofwbchurch.org/event/sunday-school-157/
END:VEVENT
BEGIN:VEVENT
DTSTART;TZID=America/New_York:20260226T100000
DTEND;TZID=America/New_York:20260226T110000
DTSTAMP:20260423T165424
CREATED:20260131T185908Z
LAST-MODIFIED:20260131T185908Z
UID:3141-1772100000-1772103600@soundviewofwbchurch.org
SUMMARY:CHOIR PRACTICE
DESCRIPTION:
URL:https://soundviewofwbchurch.org/event/choir-practice-155/
END:VEVENT
BEGIN:VEVENT
DTSTART;TZID=America/New_York:20260225T190000
DTEND;TZID=America/New_York:20260225T200000
DTSTAMP:20260423T165424
CREATED:20260131T185252Z
LAST-MODIFIED:20260131T185252Z
UID:3131-1772046000-1772049600@soundviewofwbchurch.org
SUMMARY:BIBLE STUDY
DESCRIPTION:
URL:https://soundviewofwbchurch.org/event/bible-study-138/
END:VEVENT
BEGIN:VEVENT
DTSTART;TZID=America/New_York:20260222T110000
DTEND;TZID=America/New_York:20260222T120000
DTSTAMP:20260423T165424
CREATED:20260131T184558Z
LAST-MODIFIED:20260131T184558Z
UID:3112-1771758000-1771761600@soundviewofwbchurch.org
SUMMARY:SUNDAY SERVICE
DESCRIPTION:
URL:https://soundviewofwbchurch.org/event/sunday-service-130/
END:VEVENT
BEGIN:VEVENT
DTSTART;TZID=America/New_York:20260222T100000
DTEND;TZID=America/New_York:20260222T113000
DTSTAMP:20260423T165424
CREATED:20260131T184953Z
LAST-MODIFIED:20260131T184953Z
UID:3121-1771754400-1771759800@soundviewofwbchurch.org
SUMMARY:SUNDAY SCHOOL
DESCRIPTION:
URL:https://soundviewofwbchurch.org/event/sunday-school-156/
END:VEVENT
BEGIN:VEVENT
DTSTART;TZID=America/New_York:20260219T100000
DTEND;TZID=America/New_York:20260219T110000
DTSTAMP:20260423T165424
CREATED:20260131T185832Z
LAST-MODIFIED:20260131T185832Z
UID:3139-1771495200-1771498800@soundviewofwbchurch.org
SUMMARY:CHOIR PRACTICE
DESCRIPTION:
URL:https://soundviewofwbchurch.org/event/choir-practice-154/
END:VEVENT
BEGIN:VEVENT
DTSTART;TZID=America/New_York:20260218T190000
DTEND;TZID=America/New_York:20260218T200000
DTSTAMP:20260423T165424
CREATED:20260131T185227Z
LAST-MODIFIED:20260131T185227Z
UID:3129-1771441200-1771444800@soundviewofwbchurch.org
SUMMARY:BIBLE STUDY
DESCRIPTION:
URL:https://soundviewofwbchurch.org/event/bible-study-137/
END:VEVENT
BEGIN:VEVENT
DTSTART;TZID=America/New_York:20260215T110000
DTEND;TZID=America/New_York:20260215T120000
DTSTAMP:20260423T165424
CREATED:20260131T164212Z
LAST-MODIFIED:20260131T164212Z
UID:3091-1771153200-1771156800@soundviewofwbchurch.org
SUMMARY:SUNDAY SERVICE
DESCRIPTION:
URL:https://soundviewofwbchurch.org/event/sunday-service-129/
END:VEVENT
BEGIN:VEVENT
DTSTART;TZID=America/New_York:20260215T100000
DTEND;TZID=America/New_York:20260215T103000
DTSTAMP:20260423T165424
CREATED:20260131T184924Z
LAST-MODIFIED:20260131T184924Z
UID:3119-1771149600-1771151400@soundviewofwbchurch.org
SUMMARY:SUNDAY SCHOOL
DESCRIPTION:
URL:https://soundviewofwbchurch.org/event/sunday-school-155/
END:VEVENT
BEGIN:VEVENT
DTSTART;TZID=America/New_York:20260214T180000
DTEND;TZID=America/New_York:20260214T200000
DTSTAMP:20260423T165424
CREATED:20260131T190050Z
LAST-MODIFIED:20260131T190050Z
UID:3143-1771092000-1771099200@soundviewofwbchurch.org
SUMMARY:VALENTINES DAY SPAGETTI DINER 6:00 PM
DESCRIPTION:
URL:https://soundviewofwbchurch.org/event/valentines-day-spagetti-diner-600-pm/
END:VEVENT
BEGIN:VEVENT
DTSTART;TZID=America/New_York:20260212T100000
DTEND;TZID=America/New_York:20260212T110000
DTSTAMP:20260423T165424
CREATED:20260131T185523Z
LAST-MODIFIED:20260131T185523Z
UID:3135-1770890400-1770894000@soundviewofwbchurch.org
SUMMARY:CHOIR PRACTICE
DESCRIPTION:
URL:https://soundviewofwbchurch.org/event/choir-practice-153/
END:VEVENT
BEGIN:VEVENT
DTSTART;TZID=America/New_York:20260211T190000
DTEND;TZID=America/New_York:20260211T200000
DTSTAMP:20260423T165424
CREATED:20260131T185155Z
LAST-MODIFIED:20260131T185155Z
UID:3127-1770836400-1770840000@soundviewofwbchurch.org
SUMMARY:BIBLE STUDY
DESCRIPTION:
URL:https://soundviewofwbchurch.org/event/bible-study-136/
END:VEVENT
BEGIN:VEVENT
DTSTART;TZID=America/New_York:20260208T110000
DTEND;TZID=America/New_York:20260208T120000
DTSTAMP:20260423T165424
CREATED:20260131T164053Z
LAST-MODIFIED:20260131T164053Z
UID:3087-1770548400-1770552000@soundviewofwbchurch.org
SUMMARY:SUNDAY SERVICE
DESCRIPTION:
URL:https://soundviewofwbchurch.org/event/sunday-service-127/
END:VEVENT
BEGIN:VEVENT
DTSTART;TZID=America/New_York:20260208T100000
DTEND;TZID=America/New_York:20260208T103000
DTSTAMP:20260423T165424
CREATED:20260131T184835Z
LAST-MODIFIED:20260131T184835Z
UID:3117-1770544800-1770546600@soundviewofwbchurch.org
SUMMARY:SUNDAY SCHOOL
DESCRIPTION:
URL:https://soundviewofwbchurch.org/event/sunday-school-154/
END:VEVENT
BEGIN:VEVENT
DTSTART;TZID=America/New_York:20260205T100000
DTEND;TZID=America/New_York:20260205T110000
DTSTAMP:20260423T165424
CREATED:20260131T185456Z
LAST-MODIFIED:20260131T185456Z
UID:3133-1770285600-1770289200@soundviewofwbchurch.org
SUMMARY:CHOIR PRACTICE
DESCRIPTION:
URL:https://soundviewofwbchurch.org/event/choir-practice-152/
END:VEVENT
BEGIN:VEVENT
DTSTART;TZID=America/New_York:20260204T190000
DTEND;TZID=America/New_York:20260204T200000
DTSTAMP:20260423T165424
CREATED:20260131T185125Z
LAST-MODIFIED:20260131T185125Z
UID:3125-1770231600-1770235200@soundviewofwbchurch.org
SUMMARY:BIBLE STUDY
DESCRIPTION:
URL:https://soundviewofwbchurch.org/event/bible-study-132/
END:VEVENT
BEGIN:VEVENT
DTSTART;TZID=America/New_York:20260203T190000
DTEND;TZID=America/New_York:20260203T200000
DTSTAMP:20260423T165424
CREATED:20260131T185047Z
LAST-MODIFIED:20260131T185047Z
UID:3123-1770145200-1770148800@soundviewofwbchurch.org
SUMMARY:LADIES AUXILLARY AND MEN'S FELLOWSHIP
DESCRIPTION:
URL:https://soundviewofwbchurch.org/event/ladies-auxillary-and-mens-fellowship/
END:VEVENT
BEGIN:VEVENT
DTSTART;TZID=America/New_York:20260201T110000
DTEND;TZID=America/New_York:20260201T120000
DTSTAMP:20260423T165424
CREATED:20260131T163938Z
LAST-MODIFIED:20260131T163938Z
UID:3083-1769943600-1769947200@soundviewofwbchurch.org
SUMMARY:SUNDAY SERVICE CANCELLED
DESCRIPTION:
URL:https://soundviewofwbchurch.org/event/sunday-service-cancelled/
END:VEVENT
BEGIN:VEVENT
DTSTART;TZID=America/New_York:20260201T100000
DTEND;TZID=America/New_York:20260201T103000
DTSTAMP:20260423T165424
CREATED:20260131T164015Z
LAST-MODIFIED:20260131T164015Z
UID:3085-1769940000-1769941800@soundviewofwbchurch.org
SUMMARY:SUNDAY SCHOOL CANCELLED
DESCRIPTION:
URL:https://soundviewofwbchurch.org/event/sunday-school-cancelled/
END:VEVENT
BEGIN:VEVENT
DTSTART;TZID=America/New_York:20260129T100000
DTEND;TZID=America/New_York:20260129T110000
DTSTAMP:20260423T165424
CREATED:20260104T025156Z
LAST-MODIFIED:20260104T025156Z
UID:3065-1769680800-1769684400@soundviewofwbchurch.org
SUMMARY:CHOIR PRACTICE
DESCRIPTION:
URL:https://soundviewofwbchurch.org/event/choir-practice-151/
END:VEVENT
BEGIN:VEVENT
DTSTART;TZID=America/New_York:20260128T190000
DTEND;TZID=America/New_York:20260128T200000
DTSTAMP:20260423T165424
CREATED:20260104T024639Z
LAST-MODIFIED:20260104T024639Z
UID:3051-1769626800-1769630400@soundviewofwbchurch.org
SUMMARY:BIBLE STUDY
DESCRIPTION:
URL:https://soundviewofwbchurch.org/event/bible-study-135/
END:VEVENT
BEGIN:VEVENT
DTSTART;TZID=America/New_York:20260125T110000
DTEND;TZID=America/New_York:20260125T120000
DTSTAMP:20260423T165424
CREATED:20260104T024148Z
LAST-MODIFIED:20260104T024148Z
UID:3037-1769338800-1769342400@soundviewofwbchurch.org
SUMMARY:SUNDAY SERVICE
DESCRIPTION:
URL:https://soundviewofwbchurch.org/event/sunday-service-126/
END:VEVENT
BEGIN:VEVENT
DTSTART;TZID=America/New_York:20260125T100000
DTEND;TZID=America/New_York:20260125T103000
DTSTAMP:20260423T165424
CREATED:20260104T023953Z
LAST-MODIFIED:20260104T023953Z
UID:3029-1769335200-1769337000@soundviewofwbchurch.org
SUMMARY:SUNDAY SCHOOL
DESCRIPTION:
URL:https://soundviewofwbchurch.org/event/sunday-school-153/
END:VEVENT
BEGIN:VEVENT
DTSTART;TZID=America/New_York:20260122T100000
DTEND;TZID=America/New_York:20260122T110000
DTSTAMP:20260423T165424
CREATED:20260104T025102Z
LAST-MODIFIED:20260104T025102Z
UID:3062-1769076000-1769079600@soundviewofwbchurch.org
SUMMARY:CHOIR PRACTICE
DESCRIPTION:
URL:https://soundviewofwbchurch.org/event/choir-practice-150/
END:VEVENT
BEGIN:VEVENT
DTSTART;TZID=America/New_York:20260121T190000
DTEND;TZID=America/New_York:20260121T200000
DTSTAMP:20260423T165424
CREATED:20260104T024608Z
LAST-MODIFIED:20260104T024608Z
UID:3049-1769022000-1769025600@soundviewofwbchurch.org
SUMMARY:BIBLE STUDY
DESCRIPTION:
URL:https://soundviewofwbchurch.org/event/bible-study-134/
END:VEVENT
BEGIN:VEVENT
DTSTART;VALUE=DATE:20260119
DTEND;VALUE=DATE:20260120
DTSTAMP:20260423T165424
CREATED:20260104T025226Z
LAST-MODIFIED:20260104T025226Z
UID:3067-1768780800-1768867199@soundviewofwbchurch.org
SUMMARY:MLK NATIONAL HOLIDAY
DESCRIPTION:
URL:https://soundviewofwbchurch.org/event/mlk-national-holiday/
END:VEVENT
END:VCALENDAR