BEGIN:VCALENDAR
VERSION:2.0
PRODID:-//SOUND VIEW ORGINAL FREE WILL BAPTIST CHURCH - ECPv6.15.20//NONSGML v1.0//EN
CALSCALE:GREGORIAN
METHOD:PUBLISH
X-WR-CALNAME:SOUND VIEW ORGINAL FREE WILL BAPTIST CHURCH
X-ORIGINAL-URL:https://soundviewofwbchurch.org
X-WR-CALDESC:Events for SOUND VIEW ORGINAL FREE WILL BAPTIST CHURCH
REFRESH-INTERVAL;VALUE=DURATION:PT1H
X-Robots-Tag:noindex
X-PUBLISHED-TTL:PT1H
BEGIN:VTIMEZONE
TZID:America/New_York
BEGIN:DAYLIGHT
TZOFFSETFROM:-0500
TZOFFSETTO:-0400
TZNAME:EDT
DTSTART:20220313T070000
END:DAYLIGHT
BEGIN:STANDARD
TZOFFSETFROM:-0400
TZOFFSETTO:-0500
TZNAME:EST
DTSTART:20221106T060000
END:STANDARD
BEGIN:DAYLIGHT
TZOFFSETFROM:-0500
TZOFFSETTO:-0400
TZNAME:EDT
DTSTART:20230312T070000
END:DAYLIGHT
BEGIN:STANDARD
TZOFFSETFROM:-0400
TZOFFSETTO:-0500
TZNAME:EST
DTSTART:20231105T060000
END:STANDARD
BEGIN:DAYLIGHT
TZOFFSETFROM:-0500
TZOFFSETTO:-0400
TZNAME:EDT
DTSTART:20240310T070000
END:DAYLIGHT
BEGIN:STANDARD
TZOFFSETFROM:-0400
TZOFFSETTO:-0500
TZNAME:EST
DTSTART:20241103T060000
END:STANDARD
END:VTIMEZONE
BEGIN:VEVENT
DTSTART;TZID=America/New_York:20230413T100000
DTEND;TZID=America/New_York:20230413T110000
DTSTAMP:20260425T181719
CREATED:20230405T004401Z
LAST-MODIFIED:20230405T004401Z
UID:942-1681380000-1681383600@soundviewofwbchurch.org
SUMMARY:CHOIR PRACTICE
DESCRIPTION:
URL:https://soundviewofwbchurch.org/event/choir-practice-19/
END:VEVENT
BEGIN:VEVENT
DTSTART;TZID=America/New_York:20230412T190000
DTEND;TZID=America/New_York:20230412T200000
DTSTAMP:20260425T181719
CREATED:20230405T004309Z
LAST-MODIFIED:20230405T004309Z
UID:940-1681326000-1681329600@soundviewofwbchurch.org
SUMMARY:BIBLE STUDY
DESCRIPTION:
URL:https://soundviewofwbchurch.org/event/bible-study-13/
END:VEVENT
BEGIN:VEVENT
DTSTART;TZID=America/New_York:20230409T110000
DTEND;TZID=America/New_York:20230409T120000
DTSTAMP:20260425T181719
CREATED:20230403T133457Z
LAST-MODIFIED:20230403T133507Z
UID:923-1681038000-1681041600@soundviewofwbchurch.org
SUMMARY:SUNDAY WORSHIP EASTER CONTATA " THE EYES OF HIS MOTHER"
DESCRIPTION:
URL:https://soundviewofwbchurch.org/event/sunday-worship-easter-contata-the-eyes-of-his-mother/
END:VEVENT
BEGIN:VEVENT
DTSTART;TZID=America/New_York:20230409T100000
DTEND;TZID=America/New_York:20230409T103000
DTSTAMP:20260425T181719
CREATED:20230403T122605Z
LAST-MODIFIED:20230403T122717Z
UID:906-1681034400-1681036200@soundviewofwbchurch.org
SUMMARY:SUNDAY SCHOOL
DESCRIPTION:
URL:https://soundviewofwbchurch.org/event/easter-egg-hunt/
END:VEVENT
BEGIN:VEVENT
DTSTART;TZID=America/New_York:20230408T140000
DTEND;TZID=America/New_York:20230408T170000
DTSTAMP:20260425T181719
CREATED:20230403T133259Z
LAST-MODIFIED:20230403T133259Z
UID:921-1680962400-1680973200@soundviewofwbchurch.org
SUMMARY:EASTER EGG HUNT
DESCRIPTION:
URL:https://soundviewofwbchurch.org/event/easter-egg-hunt-2/
END:VEVENT
BEGIN:VEVENT
DTSTART;TZID=America/New_York:20230408T100000
DTEND;TZID=America/New_York:20230408T123000
DTSTAMP:20260425T181719
CREATED:20230403T122444Z
LAST-MODIFIED:20230430T214918Z
UID:904-1680948000-1680957000@soundviewofwbchurch.org
SUMMARY:CHOIR PRACTICE
DESCRIPTION:
URL:https://soundviewofwbchurch.org/event/choir-practice-17/
END:VEVENT
BEGIN:VEVENT
DTSTART;TZID=America/New_York:20230406T100000
DTEND;TZID=America/New_York:20230406T233000
DTSTAMP:20260425T181719
CREATED:20230403T122332Z
LAST-MODIFIED:20230403T122332Z
UID:902-1680775200-1680823800@soundviewofwbchurch.org
SUMMARY:CHOIR PRACTICE
DESCRIPTION:
URL:https://soundviewofwbchurch.org/event/choir-practice-16/
END:VEVENT
BEGIN:VEVENT
DTSTART;TZID=America/New_York:20230405T190000
DTEND;TZID=America/New_York:20230405T200000
DTSTAMP:20260425T181719
CREATED:20230404T150211Z
LAST-MODIFIED:20230404T150211Z
UID:935-1680721200-1680724800@soundviewofwbchurch.org
SUMMARY:CHURCH BUSINESS MEETING
DESCRIPTION:
URL:https://soundviewofwbchurch.org/event/church-business-meeting/
END:VEVENT
BEGIN:VEVENT
DTSTART;TZID=America/New_York:20230404T190000
DTEND;TZID=America/New_York:20230404T200000
DTSTAMP:20260425T181719
CREATED:20230404T150045Z
LAST-MODIFIED:20230404T150045Z
UID:933-1680634800-1680638400@soundviewofwbchurch.org
SUMMARY:LADIES AUXILLARY\, MENS FWLLOWSHIP
DESCRIPTION:
URL:https://soundviewofwbchurch.org/event/ladies-auxillary-mens-fwllowship/
END:VEVENT
BEGIN:VEVENT
DTSTART;TZID=America/New_York:20230402T110000
DTEND;TZID=America/New_York:20230402T120000
DTSTAMP:20260425T181719
CREATED:20230306T011146Z
LAST-MODIFIED:20230306T011146Z
UID:894-1680433200-1680436800@soundviewofwbchurch.org
SUMMARY:Sunday Service
DESCRIPTION:
URL:https://soundviewofwbchurch.org/event/sunday-service-16/
END:VEVENT
BEGIN:VEVENT
DTSTART;TZID=America/New_York:20230402T100000
DTEND;TZID=America/New_York:20230402T103000
DTSTAMP:20260425T181719
CREATED:20230306T011033Z
LAST-MODIFIED:20230306T011033Z
UID:892-1680429600-1680431400@soundviewofwbchurch.org
SUMMARY:Sunday School
DESCRIPTION:
URL:https://soundviewofwbchurch.org/event/sunday-school-14/
END:VEVENT
BEGIN:VEVENT
DTSTART;TZID=America/New_York:20230401T100000
DTEND;TZID=America/New_York:20230401T113000
DTSTAMP:20260425T181719
CREATED:20230404T145908Z
LAST-MODIFIED:20230404T145908Z
UID:930-1680343200-1680348600@soundviewofwbchurch.org
SUMMARY:CHOIR PRACTICE
DESCRIPTION:
URL:https://soundviewofwbchurch.org/event/choir-practice-18/
END:VEVENT
BEGIN:VEVENT
DTSTART;TZID=America/New_York:20230330T100000
DTEND;TZID=America/New_York:20230330T110000
DTSTAMP:20260425T181719
CREATED:20230306T010916Z
LAST-MODIFIED:20230306T010916Z
UID:890-1680170400-1680174000@soundviewofwbchurch.org
SUMMARY:Choir Practice
DESCRIPTION:
URL:https://soundviewofwbchurch.org/event/choir-practice-15/
END:VEVENT
BEGIN:VEVENT
DTSTART;TZID=America/New_York:20230329T190000
DTEND;TZID=America/New_York:20230329T200000
DTSTAMP:20260425T181719
CREATED:20230306T010819Z
LAST-MODIFIED:20230306T010819Z
UID:888-1680116400-1680120000@soundviewofwbchurch.org
SUMMARY:Bible Study
DESCRIPTION:
URL:https://soundviewofwbchurch.org/event/bible-study-11/
END:VEVENT
BEGIN:VEVENT
DTSTART;TZID=America/New_York:20230326T110000
DTEND;TZID=America/New_York:20230326T120000
DTSTAMP:20260425T181719
CREATED:20230306T010733Z
LAST-MODIFIED:20230306T010733Z
UID:886-1679828400-1679832000@soundviewofwbchurch.org
SUMMARY:Sunday Service
DESCRIPTION:
URL:https://soundviewofwbchurch.org/event/sunday-service-15/
END:VEVENT
BEGIN:VEVENT
DTSTART;TZID=America/New_York:20230326T100000
DTEND;TZID=America/New_York:20230326T103000
DTSTAMP:20260425T181719
CREATED:20230306T010703Z
LAST-MODIFIED:20230306T010703Z
UID:884-1679824800-1679826600@soundviewofwbchurch.org
SUMMARY:Sunday School
DESCRIPTION:
URL:https://soundviewofwbchurch.org/event/sunday-school-13/
END:VEVENT
BEGIN:VEVENT
DTSTART;TZID=America/New_York:20230323T100000
DTEND;TZID=America/New_York:20230323T110000
DTSTAMP:20260425T181719
CREATED:20230306T010619Z
LAST-MODIFIED:20230306T010619Z
UID:882-1679565600-1679569200@soundviewofwbchurch.org
SUMMARY:Choir Practice
DESCRIPTION:
URL:https://soundviewofwbchurch.org/event/choir-practice-14/
END:VEVENT
BEGIN:VEVENT
DTSTART;TZID=America/New_York:20230322T190000
DTEND;TZID=America/New_York:20230322T200000
DTSTAMP:20260425T181719
CREATED:20230306T010539Z
LAST-MODIFIED:20230306T010539Z
UID:880-1679511600-1679515200@soundviewofwbchurch.org
SUMMARY:Bible Study
DESCRIPTION:
URL:https://soundviewofwbchurch.org/event/bible-study-10/
END:VEVENT
BEGIN:VEVENT
DTSTART;TZID=America/New_York:20230319T110000
DTEND;TZID=America/New_York:20230319T120000
DTSTAMP:20260425T181719
CREATED:20230306T010428Z
LAST-MODIFIED:20230306T010428Z
UID:878-1679223600-1679227200@soundviewofwbchurch.org
SUMMARY:Sunday Service
DESCRIPTION:
URL:https://soundviewofwbchurch.org/event/sunday-service-14/
END:VEVENT
BEGIN:VEVENT
DTSTART;TZID=America/New_York:20230319T100000
DTEND;TZID=America/New_York:20230319T223000
DTSTAMP:20260425T181719
CREATED:20230306T010329Z
LAST-MODIFIED:20230306T010329Z
UID:876-1679220000-1679265000@soundviewofwbchurch.org
SUMMARY:Sunday School
DESCRIPTION:
URL:https://soundviewofwbchurch.org/event/sunday-school-12/
END:VEVENT
BEGIN:VEVENT
DTSTART;TZID=America/New_York:20230316T100000
DTEND;TZID=America/New_York:20230316T113000
DTSTAMP:20260425T181719
CREATED:20230216T040445Z
LAST-MODIFIED:20230216T040445Z
UID:870-1678960800-1678966200@soundviewofwbchurch.org
SUMMARY:Choir Practice
DESCRIPTION:
URL:https://soundviewofwbchurch.org/event/choir-practice-12/
END:VEVENT
BEGIN:VEVENT
DTSTART;TZID=America/New_York:20230315T190000
DTEND;TZID=America/New_York:20230315T200000
DTSTAMP:20260425T181719
CREATED:20230216T040350Z
LAST-MODIFIED:20230216T040350Z
UID:868-1678906800-1678910400@soundviewofwbchurch.org
SUMMARY:Bible Study
DESCRIPTION:
URL:https://soundviewofwbchurch.org/event/bible-study-9/
END:VEVENT
BEGIN:VEVENT
DTSTART;TZID=America/New_York:20230312T110000
DTEND;TZID=America/New_York:20230312T120000
DTSTAMP:20260425T181719
CREATED:20230216T040302Z
LAST-MODIFIED:20230216T040302Z
UID:866-1678618800-1678622400@soundviewofwbchurch.org
SUMMARY:Sunday Service
DESCRIPTION:
URL:https://soundviewofwbchurch.org/event/sunday-service-13/
END:VEVENT
BEGIN:VEVENT
DTSTART;TZID=America/New_York:20230312T100000
DTEND;TZID=America/New_York:20230312T103000
DTSTAMP:20260425T181719
CREATED:20230216T040230Z
LAST-MODIFIED:20230216T040230Z
UID:864-1678615200-1678617000@soundviewofwbchurch.org
SUMMARY:Sunday School
DESCRIPTION:
URL:https://soundviewofwbchurch.org/event/sunday-school-11/
END:VEVENT
BEGIN:VEVENT
DTSTART;TZID=America/New_York:20230309T090000
DTEND;TZID=America/New_York:20230309T170000
DTSTAMP:20260425T181719
CREATED:20230103T204041Z
LAST-MODIFIED:20230103T204220Z
UID:739-1678352400-1678381200@soundviewofwbchurch.org
SUMMARY:Eastern Conference @Sound View
DESCRIPTION:
URL:https://soundviewofwbchurch.org/event/eastern-conference/
END:VEVENT
BEGIN:VEVENT
DTSTART;TZID=America/New_York:20230308T190000
DTEND;TZID=America/New_York:20230308T200000
DTSTAMP:20260425T181719
CREATED:20230216T035028Z
LAST-MODIFIED:20230306T010212Z
UID:858-1678302000-1678305600@soundviewofwbchurch.org
SUMMARY:Bible Study has been cancelled
DESCRIPTION:
URL:https://soundviewofwbchurch.org/event/bible-study-8/
END:VEVENT
BEGIN:VEVENT
DTSTART;TZID=America/New_York:20230308T100000
DTEND;TZID=America/New_York:20230308T230000
DTSTAMP:20260425T181719
CREATED:20230306T010042Z
LAST-MODIFIED:20230306T010042Z
UID:873-1678269600-1678316400@soundviewofwbchurch.org
SUMMARY:Choir Practice
DESCRIPTION:
URL:https://soundviewofwbchurch.org/event/choir-practice-13/
END:VEVENT
BEGIN:VEVENT
DTSTART;TZID=America/New_York:20230305T110000
DTEND;TZID=America/New_York:20230305T120000
DTSTAMP:20260425T181719
CREATED:20230216T034914Z
LAST-MODIFIED:20230216T034914Z
UID:856-1678014000-1678017600@soundviewofwbchurch.org
SUMMARY:Sunday Service
DESCRIPTION:
URL:https://soundviewofwbchurch.org/event/sunday-service-12/
END:VEVENT
BEGIN:VEVENT
DTSTART;TZID=America/New_York:20230305T100000
DTEND;TZID=America/New_York:20230305T103000
DTSTAMP:20260425T181719
CREATED:20230216T034841Z
LAST-MODIFIED:20230216T034841Z
UID:854-1678010400-1678012200@soundviewofwbchurch.org
SUMMARY:Sunday School
DESCRIPTION:
URL:https://soundviewofwbchurch.org/event/sunday-school-10/
END:VEVENT
BEGIN:VEVENT
DTSTART;TZID=America/New_York:20230304T080000
DTEND;TZID=America/New_York:20230304T103000
DTSTAMP:20260425T181719
CREATED:20230216T032044Z
LAST-MODIFIED:20230216T032044Z
UID:848-1677916800-1677925800@soundviewofwbchurch.org
SUMMARY:Men's Fellowship Church Cleanup
DESCRIPTION:
URL:https://soundviewofwbchurch.org/event/mens-fellowship-church-cleanup/
END:VEVENT
END:VCALENDAR