BEGIN:VCALENDAR
VERSION:2.0
PRODID:-//SOUND VIEW ORGINAL FREE WILL BAPTIST CHURCH - ECPv6.15.20//NONSGML v1.0//EN
CALSCALE:GREGORIAN
METHOD:PUBLISH
X-WR-CALNAME:SOUND VIEW ORGINAL FREE WILL BAPTIST CHURCH
X-ORIGINAL-URL:https://soundviewofwbchurch.org
X-WR-CALDESC:Events for SOUND VIEW ORGINAL FREE WILL BAPTIST CHURCH
REFRESH-INTERVAL;VALUE=DURATION:PT1H
X-Robots-Tag:noindex
X-PUBLISHED-TTL:PT1H
BEGIN:VTIMEZONE
TZID:America/New_York
BEGIN:DAYLIGHT
TZOFFSETFROM:-0500
TZOFFSETTO:-0400
TZNAME:EDT
DTSTART:20230312T070000
END:DAYLIGHT
BEGIN:STANDARD
TZOFFSETFROM:-0400
TZOFFSETTO:-0500
TZNAME:EST
DTSTART:20231105T060000
END:STANDARD
BEGIN:DAYLIGHT
TZOFFSETFROM:-0500
TZOFFSETTO:-0400
TZNAME:EDT
DTSTART:20240310T070000
END:DAYLIGHT
BEGIN:STANDARD
TZOFFSETFROM:-0400
TZOFFSETTO:-0500
TZNAME:EST
DTSTART:20241103T060000
END:STANDARD
BEGIN:DAYLIGHT
TZOFFSETFROM:-0500
TZOFFSETTO:-0400
TZNAME:EDT
DTSTART:20250309T070000
END:DAYLIGHT
BEGIN:STANDARD
TZOFFSETFROM:-0400
TZOFFSETTO:-0500
TZNAME:EST
DTSTART:20251102T060000
END:STANDARD
END:VTIMEZONE
BEGIN:VEVENT
DTSTART;TZID=America/New_York:20241120T190000
DTEND;TZID=America/New_York:20241120T200000
DTSTAMP:20260425T071113
CREATED:20241124T221027Z
LAST-MODIFIED:20241124T221027Z
UID:2117-1732129200-1732132800@soundviewofwbchurch.org
SUMMARY:BIBLE STUDY
DESCRIPTION:
URL:https://soundviewofwbchurch.org/event/bible-study-82/
END:VEVENT
BEGIN:VEVENT
DTSTART;TZID=America/New_York:20241117T110000
DTEND;TZID=America/New_York:20241117T120000
DTSTAMP:20260425T071113
CREATED:20241124T222303Z
LAST-MODIFIED:20241124T222303Z
UID:2133-1731841200-1731844800@soundviewofwbchurch.org
SUMMARY:SUNDAY SERVICE
DESCRIPTION:
URL:https://soundviewofwbchurch.org/event/sunday-service-75/
END:VEVENT
BEGIN:VEVENT
DTSTART;TZID=America/New_York:20241117T100000
DTEND;TZID=America/New_York:20241117T103000
DTSTAMP:20260425T071113
CREATED:20241124T222159Z
LAST-MODIFIED:20241124T222159Z
UID:2130-1731837600-1731839400@soundviewofwbchurch.org
SUMMARY:SUNDAY SCHOOL
DESCRIPTION:
URL:https://soundviewofwbchurch.org/event/sunday-school-92/
END:VEVENT
BEGIN:VEVENT
DTSTART;TZID=America/New_York:20241114T100000
DTEND;TZID=America/New_York:20241114T110000
DTSTAMP:20260425T071113
CREATED:20241124T220008Z
LAST-MODIFIED:20241124T220008Z
UID:2105-1731578400-1731582000@soundviewofwbchurch.org
SUMMARY:CHOIR PRACTICE
DESCRIPTION:
URL:https://soundviewofwbchurch.org/event/choir-practice-94/
END:VEVENT
BEGIN:VEVENT
DTSTART;TZID=America/New_York:20241113T190000
DTEND;TZID=America/New_York:20241113T200000
DTSTAMP:20260425T071113
CREATED:20241124T220907Z
LAST-MODIFIED:20241124T220907Z
UID:2115-1731524400-1731528000@soundviewofwbchurch.org
SUMMARY:BIBLE STUDY
DESCRIPTION:
URL:https://soundviewofwbchurch.org/event/bible-study-81/
END:VEVENT
BEGIN:VEVENT
DTSTART;TZID=America/New_York:20241110T110000
DTEND;TZID=America/New_York:20241110T120000
DTSTAMP:20260425T071113
CREATED:20241124T221834Z
LAST-MODIFIED:20241124T221834Z
UID:2123-1731236400-1731240000@soundviewofwbchurch.org
SUMMARY:SUNDAY SERVICE
DESCRIPTION:
URL:https://soundviewofwbchurch.org/event/sunday-service-74/
END:VEVENT
BEGIN:VEVENT
DTSTART;TZID=America/New_York:20241110T100000
DTEND;TZID=America/New_York:20241110T103000
DTSTAMP:20260425T071113
CREATED:20241124T221626Z
LAST-MODIFIED:20241124T221626Z
UID:2121-1731232800-1731234600@soundviewofwbchurch.org
SUMMARY:SUNDAY SCHOOL
DESCRIPTION:
URL:https://soundviewofwbchurch.org/event/sunday-school-90/
END:VEVENT
BEGIN:VEVENT
DTSTART;TZID=America/New_York:20241107T100000
DTEND;TZID=America/New_York:20241107T110000
DTSTAMP:20260425T071113
CREATED:20241124T215838Z
LAST-MODIFIED:20241124T215838Z
UID:2102-1730973600-1730977200@soundviewofwbchurch.org
SUMMARY:CHOIR PRACTICE
DESCRIPTION:
URL:https://soundviewofwbchurch.org/event/choir-practice-91/
END:VEVENT
BEGIN:VEVENT
DTSTART;TZID=America/New_York:20241106T190000
DTEND;TZID=America/New_York:20241106T200000
DTSTAMP:20260425T071113
CREATED:20241124T220826Z
LAST-MODIFIED:20241124T220826Z
UID:2113-1730919600-1730923200@soundviewofwbchurch.org
SUMMARY:BIBLE STUDY
DESCRIPTION:
URL:https://soundviewofwbchurch.org/event/bible-study-80/
END:VEVENT
BEGIN:VEVENT
DTSTART;TZID=America/New_York:20241103T110000
DTEND;TZID=America/New_York:20241103T120000
DTSTAMP:20260425T071113
CREATED:20241124T222012Z
LAST-MODIFIED:20241124T222032Z
UID:2127-1730631600-1730635200@soundviewofwbchurch.org
SUMMARY:SUNDAY SERVICE
DESCRIPTION:
URL:https://soundviewofwbchurch.org/event/sunday-servcie/
END:VEVENT
BEGIN:VEVENT
DTSTART;TZID=America/New_York:20241103T100000
DTEND;TZID=America/New_York:20241103T103000
DTSTAMP:20260425T071113
CREATED:20241124T221927Z
LAST-MODIFIED:20241124T221927Z
UID:2125-1730628000-1730629800@soundviewofwbchurch.org
SUMMARY:SUNDAY SCHOOL
DESCRIPTION:
URL:https://soundviewofwbchurch.org/event/sunday-school-91/
END:VEVENT
BEGIN:VEVENT
DTSTART;TZID=America/New_York:20241031T100000
DTEND;TZID=America/New_York:20241031T110000
DTSTAMP:20260425T071113
CREATED:20241020T003711Z
LAST-MODIFIED:20241020T003711Z
UID:2089-1730368800-1730372400@soundviewofwbchurch.org
SUMMARY:CHOIR PRACTICE
DESCRIPTION:
URL:https://soundviewofwbchurch.org/event/choir-practice-93/
END:VEVENT
BEGIN:VEVENT
DTSTART;TZID=America/New_York:20241030T190000
DTEND;TZID=America/New_York:20241030T200000
DTSTAMP:20260425T071113
CREATED:20241020T003831Z
LAST-MODIFIED:20241020T003831Z
UID:2092-1730314800-1730318400@soundviewofwbchurch.org
SUMMARY:BIBLE STUDY
DESCRIPTION:
URL:https://soundviewofwbchurch.org/event/bible-study-79/
END:VEVENT
BEGIN:VEVENT
DTSTART;TZID=America/New_York:20241027T110000
DTEND;TZID=America/New_York:20241027T120000
DTSTAMP:20260425T071113
CREATED:20241020T002554Z
LAST-MODIFIED:20241020T002608Z
UID:2073-1730026800-1730030400@soundviewofwbchurch.org
SUMMARY:SUNDAY SERVICE: GIDEON BIBLE REP. SPEAKING
DESCRIPTION:
URL:https://soundviewofwbchurch.org/event/sunday-service-gideon-bible-rep-speaking/
END:VEVENT
BEGIN:VEVENT
DTSTART;TZID=America/New_York:20241026T080000
DTEND;TZID=America/New_York:20241026T120000
DTSTAMP:20260425T071113
CREATED:20241020T002934Z
LAST-MODIFIED:20241020T002934Z
UID:2082-1729929600-1729944000@soundviewofwbchurch.org
SUMMARY:YOUTH CENTER PAINTING
DESCRIPTION:
URL:https://soundviewofwbchurch.org/event/youth-center-painting/
END:VEVENT
BEGIN:VEVENT
DTSTART;TZID=America/New_York:20241024T100000
DTEND;TZID=America/New_York:20241024T110000
DTSTAMP:20260425T071113
CREATED:20241020T003058Z
LAST-MODIFIED:20241020T003058Z
UID:2084-1729764000-1729767600@soundviewofwbchurch.org
SUMMARY:CHOIR PRACTICE
DESCRIPTION:
URL:https://soundviewofwbchurch.org/event/choir-practice-92/
END:VEVENT
BEGIN:VEVENT
DTSTART;TZID=America/New_York:20241023T190000
DTEND;TZID=America/New_York:20241023T200000
DTSTAMP:20260425T071113
CREATED:20241020T002723Z
LAST-MODIFIED:20241020T002723Z
UID:2076-1729710000-1729713600@soundviewofwbchurch.org
SUMMARY:BILBLE STUDY
DESCRIPTION:
URL:https://soundviewofwbchurch.org/event/bilble-study/
END:VEVENT
BEGIN:VEVENT
DTSTART;TZID=America/New_York:20241020T110000
DTEND;TZID=America/New_York:20241020T120000
DTSTAMP:20260425T071113
CREATED:20241020T002437Z
LAST-MODIFIED:20241020T002437Z
UID:2070-1729422000-1729425600@soundviewofwbchurch.org
SUMMARY:SUNDAY SERVICE
DESCRIPTION:
URL:https://soundviewofwbchurch.org/event/sunday-service-73/
END:VEVENT
BEGIN:VEVENT
DTSTART;TZID=America/New_York:20241020T100000
DTEND;TZID=America/New_York:20241020T103000
DTSTAMP:20260425T071113
CREATED:20241020T002404Z
LAST-MODIFIED:20241020T002404Z
UID:2067-1729418400-1729420200@soundviewofwbchurch.org
SUMMARY:SUNDAY SCHOOL
DESCRIPTION:
URL:https://soundviewofwbchurch.org/event/sunday-school-89/
END:VEVENT
BEGIN:VEVENT
DTSTART;TZID=America/New_York:20241017T100000
DTEND;TZID=America/New_York:20241017T110000
DTSTAMP:20260425T071113
CREATED:20241020T002321Z
LAST-MODIFIED:20241020T002321Z
UID:2065-1729159200-1729162800@soundviewofwbchurch.org
SUMMARY:CHOIR PRACTICE
DESCRIPTION:
URL:https://soundviewofwbchurch.org/event/choir-practice-90/
END:VEVENT
BEGIN:VEVENT
DTSTART;TZID=America/New_York:20241016T190000
DTEND;TZID=America/New_York:20241016T200000
DTSTAMP:20260425T071113
CREATED:20241020T002229Z
LAST-MODIFIED:20241020T002246Z
UID:2062-1729105200-1729108800@soundviewofwbchurch.org
SUMMARY:BIBLE STUDY & YOUTH NIGHT
DESCRIPTION:
URL:https://soundviewofwbchurch.org/event/bible-study-78/
END:VEVENT
BEGIN:VEVENT
DTSTART;TZID=America/New_York:20241013T110000
DTEND;TZID=America/New_York:20241013T120000
DTSTAMP:20260425T071113
CREATED:20241020T001710Z
LAST-MODIFIED:20241020T002127Z
UID:2056-1728817200-1728820800@soundviewofwbchurch.org
SUMMARY:SUNDAY SERVICE BAPTISM AND COMMUNION
DESCRIPTION:
URL:https://soundviewofwbchurch.org/event/sunday-service-72/
END:VEVENT
BEGIN:VEVENT
DTSTART;TZID=America/New_York:20241010T100000
DTEND;TZID=America/New_York:20241010T110000
DTSTAMP:20260425T071113
CREATED:20241008T020621Z
LAST-MODIFIED:20241008T021513Z
UID:2036-1728554400-1728558000@soundviewofwbchurch.org
SUMMARY:Choir Practice
DESCRIPTION:
URL:https://soundviewofwbchurch.org/event/choir-practice-89/
END:VEVENT
BEGIN:VEVENT
DTSTART;TZID=America/New_York:20241009T080000
DTEND;TZID=America/New_York:20241009T170000
DTSTAMP:20260425T071113
CREATED:20241008T020411Z
LAST-MODIFIED:20241008T020547Z
UID:2034-1728460800-1728493200@soundviewofwbchurch.org
SUMMARY:Business Meeting and Feet Washing Demo
DESCRIPTION:
URL:https://soundviewofwbchurch.org/event/business-meeting-and-feet-washing-demo/
END:VEVENT
BEGIN:VEVENT
DTSTART;TZID=America/New_York:20241006T110000
DTEND;TZID=America/New_York:20241006T120000
DTSTAMP:20260425T071113
CREATED:20241008T015835Z
LAST-MODIFIED:20241008T015835Z
UID:2025-1728212400-1728216000@soundviewofwbchurch.org
SUMMARY:Sunday Service
DESCRIPTION:
URL:https://soundviewofwbchurch.org/event/sunday-service-71/
END:VEVENT
BEGIN:VEVENT
DTSTART;TZID=America/New_York:20241006T100000
DTEND;TZID=America/New_York:20241006T103000
DTSTAMP:20260425T071113
CREATED:20241008T015743Z
LAST-MODIFIED:20241008T015743Z
UID:2023-1728208800-1728210600@soundviewofwbchurch.org
SUMMARY:Sunday School
DESCRIPTION:
URL:https://soundviewofwbchurch.org/event/sunday-school-88/
END:VEVENT
BEGIN:VEVENT
DTSTART;TZID=America/New_York:20241003T100000
DTEND;TZID=America/New_York:20241003T110000
DTSTAMP:20260425T071113
CREATED:20241008T020241Z
LAST-MODIFIED:20241008T020241Z
UID:2032-1727949600-1727953200@soundviewofwbchurch.org
SUMMARY:Choir Practice
DESCRIPTION:
URL:https://soundviewofwbchurch.org/event/choir-practice-88/
END:VEVENT
BEGIN:VEVENT
DTSTART;TZID=America/New_York:20241002T190000
DTEND;TZID=America/New_York:20241002T200000
DTSTAMP:20260425T071113
CREATED:20241008T020121Z
LAST-MODIFIED:20241008T020121Z
UID:2029-1727895600-1727899200@soundviewofwbchurch.org
SUMMARY:Bible Study
DESCRIPTION:
URL:https://soundviewofwbchurch.org/event/bible-study-77/
END:VEVENT
BEGIN:VEVENT
DTSTART;TZID=America/New_York:20241001T190000
DTEND;TZID=America/New_York:20241001T200000
DTSTAMP:20260425T071113
CREATED:20241008T020037Z
LAST-MODIFIED:20241008T020037Z
UID:2027-1727809200-1727812800@soundviewofwbchurch.org
SUMMARY:Ladies Aux. and Men's Brotherhood
DESCRIPTION:
URL:https://soundviewofwbchurch.org/event/ladies-aux-and-mens-brotherhood/
END:VEVENT
BEGIN:VEVENT
DTSTART;TZID=America/New_York:20240829T100000
DTEND;TZID=America/New_York:20240829T110000
DTSTAMP:20260425T071113
CREATED:20240808T132924Z
LAST-MODIFIED:20240808T132924Z
UID:2010-1724925600-1724929200@soundviewofwbchurch.org
SUMMARY:CHOIR PRACTICE
DESCRIPTION:
URL:https://soundviewofwbchurch.org/event/choir-practice-87/
END:VEVENT
END:VCALENDAR