BEGIN:VCALENDAR
VERSION:2.0
PRODID:-//SOUND VIEW ORGINAL FREE WILL BAPTIST CHURCH - ECPv6.15.20//NONSGML v1.0//EN
CALSCALE:GREGORIAN
METHOD:PUBLISH
X-WR-CALNAME:SOUND VIEW ORGINAL FREE WILL BAPTIST CHURCH
X-ORIGINAL-URL:https://soundviewofwbchurch.org
X-WR-CALDESC:Events for SOUND VIEW ORGINAL FREE WILL BAPTIST CHURCH
REFRESH-INTERVAL;VALUE=DURATION:PT1H
X-Robots-Tag:noindex
X-PUBLISHED-TTL:PT1H
BEGIN:VTIMEZONE
TZID:America/New_York
BEGIN:DAYLIGHT
TZOFFSETFROM:-0500
TZOFFSETTO:-0400
TZNAME:EDT
DTSTART:20250309T070000
END:DAYLIGHT
BEGIN:STANDARD
TZOFFSETFROM:-0400
TZOFFSETTO:-0500
TZNAME:EST
DTSTART:20251102T060000
END:STANDARD
BEGIN:DAYLIGHT
TZOFFSETFROM:-0500
TZOFFSETTO:-0400
TZNAME:EDT
DTSTART:20260308T070000
END:DAYLIGHT
BEGIN:STANDARD
TZOFFSETFROM:-0400
TZOFFSETTO:-0500
TZNAME:EST
DTSTART:20261101T060000
END:STANDARD
BEGIN:DAYLIGHT
TZOFFSETFROM:-0500
TZOFFSETTO:-0400
TZNAME:EDT
DTSTART:20270314T070000
END:DAYLIGHT
BEGIN:STANDARD
TZOFFSETFROM:-0400
TZOFFSETTO:-0500
TZNAME:EST
DTSTART:20271107T060000
END:STANDARD
END:VTIMEZONE
BEGIN:VEVENT
DTSTART;TZID=America/New_York:20260405T063000
DTEND;TZID=America/New_York:20260405T070000
DTSTAMP:20260423T164344
CREATED:20260414T210616Z
LAST-MODIFIED:20260414T210616Z
UID:3236-1775370600-1775372400@soundviewofwbchurch.org
SUMMARY:EASTER SUNRISE SERVICE
DESCRIPTION:
URL:https://soundviewofwbchurch.org/event/easter-sunrise-service-3/
END:VEVENT
BEGIN:VEVENT
DTSTART;TZID=America/New_York:20260402T100000
DTEND;TZID=America/New_York:20260402T110000
DTSTAMP:20260423T164344
CREATED:20260316T212403Z
LAST-MODIFIED:20260316T212403Z
UID:3212-1775124000-1775127600@soundviewofwbchurch.org
SUMMARY:CHOIT PRACTICE
DESCRIPTION:
URL:https://soundviewofwbchurch.org/event/choit-practice-4/
END:VEVENT
BEGIN:VEVENT
DTSTART;TZID=America/New_York:20260402T080000
DTEND;TZID=America/New_York:20260402T140000
DTSTAMP:20260423T164344
CREATED:20260414T210119Z
LAST-MODIFIED:20260414T210119Z
UID:3234-1775116800-1775138400@soundviewofwbchurch.org
SUMMARY:SENIORS  DAY
DESCRIPTION:
URL:https://soundviewofwbchurch.org/event/seniors-day/
END:VEVENT
BEGIN:VEVENT
DTSTART;TZID=America/New_York:20260401T190000
DTEND;TZID=America/New_York:20260401T200000
DTSTAMP:20260423T164344
CREATED:20260316T212041Z
LAST-MODIFIED:20260316T212115Z
UID:3201-1775070000-1775073600@soundviewofwbchurch.org
SUMMARY:BIBLE STUDY
DESCRIPTION:
URL:https://soundviewofwbchurch.org/event/bible-study-143/
END:VEVENT
BEGIN:VEVENT
DTSTART;TZID=America/New_York:20260329T100000
DTEND;TZID=America/New_York:20260329T103000
DTSTAMP:20260423T164344
CREATED:20260316T210921Z
LAST-MODIFIED:20260316T210921Z
UID:3172-1774778400-1774780200@soundviewofwbchurch.org
SUMMARY:SUNDAY SCHOOL
DESCRIPTION:
URL:https://soundviewofwbchurch.org/event/sunday-school-161/
END:VEVENT
BEGIN:VEVENT
DTSTART;TZID=America/New_York:20260329T080000
DTEND;TZID=America/New_York:20260329T170000
DTSTAMP:20260423T164344
CREATED:20260316T211553Z
LAST-MODIFIED:20260316T211553Z
UID:3187-1774771200-1774803600@soundviewofwbchurch.org
SUMMARY:SUNDAY SERVICE
DESCRIPTION:
URL:https://soundviewofwbchurch.org/event/sunday-service-134/
END:VEVENT
BEGIN:VEVENT
DTSTART;TZID=America/New_York:20260327T173000
DTEND;TZID=America/New_York:20260327T200000
DTSTAMP:20260423T164344
CREATED:20260316T211154Z
LAST-MODIFIED:20260316T211154Z
UID:3174-1774632600-1774641600@soundviewofwbchurch.org
SUMMARY:DINNER & MOVIE
DESCRIPTION:
URL:https://soundviewofwbchurch.org/event/dinner-movie/
END:VEVENT
BEGIN:VEVENT
DTSTART;TZID=America/New_York:20260326T100000
DTEND;TZID=America/New_York:20260326T110000
DTSTAMP:20260423T164344
CREATED:20260316T212308Z
LAST-MODIFIED:20260316T212308Z
UID:3209-1774519200-1774522800@soundviewofwbchurch.org
SUMMARY:CHOIT PRACTICE
DESCRIPTION:
URL:https://soundviewofwbchurch.org/event/choit-practice-3/
END:VEVENT
BEGIN:VEVENT
DTSTART;TZID=America/New_York:20260325T190000
DTEND;TZID=America/New_York:20260325T200000
DTSTAMP:20260423T164344
CREATED:20260316T212012Z
LAST-MODIFIED:20260316T212012Z
UID:3199-1774465200-1774468800@soundviewofwbchurch.org
SUMMARY:BIBLE STUDY
DESCRIPTION:
URL:https://soundviewofwbchurch.org/event/bible-study-142/
END:VEVENT
BEGIN:VEVENT
DTSTART;TZID=America/New_York:20260322T080000
DTEND;TZID=America/New_York:20260322T170000
DTSTAMP:20260423T164344
CREATED:20260316T211540Z
LAST-MODIFIED:20260316T211540Z
UID:3185-1774166400-1774198800@soundviewofwbchurch.org
SUMMARY:SUNDAY SERVICE
DESCRIPTION:
URL:https://soundviewofwbchurch.org/event/sunday-service-133/
END:VEVENT
BEGIN:VEVENT
DTSTART;TZID=America/New_York:20260322T080000
DTEND;TZID=America/New_York:20260322T170000
DTSTAMP:20260423T164344
CREATED:20260316T210844Z
LAST-MODIFIED:20260316T210844Z
UID:3170-1774166400-1774198800@soundviewofwbchurch.org
SUMMARY:SUNDAY SCHOOL
DESCRIPTION:
URL:https://soundviewofwbchurch.org/event/sunday-school-160/
END:VEVENT
BEGIN:VEVENT
DTSTART;TZID=America/New_York:20260319T100000
DTEND;TZID=America/New_York:20260319T110000
DTSTAMP:20260423T164344
CREATED:20260316T212242Z
LAST-MODIFIED:20260316T212242Z
UID:3207-1773914400-1773918000@soundviewofwbchurch.org
SUMMARY:CHOIT PRACTICE
DESCRIPTION:
URL:https://soundviewofwbchurch.org/event/choit-practice-2/
END:VEVENT
BEGIN:VEVENT
DTSTART;TZID=America/New_York:20260318T190000
DTEND;TZID=America/New_York:20260318T200000
DTSTAMP:20260423T164344
CREATED:20260316T211949Z
LAST-MODIFIED:20260316T211949Z
UID:3197-1773860400-1773864000@soundviewofwbchurch.org
SUMMARY:BIBLE STUDY
DESCRIPTION:
URL:https://soundviewofwbchurch.org/event/bible-study-141/
END:VEVENT
BEGIN:VEVENT
DTSTART;TZID=America/New_York:20260315T110000
DTEND;TZID=America/New_York:20260315T120000
DTSTAMP:20260423T164344
CREATED:20260316T211322Z
LAST-MODIFIED:20260316T211322Z
UID:3180-1773572400-1773576000@soundviewofwbchurch.org
SUMMARY:SUNDAY SERVICE
DESCRIPTION:
URL:https://soundviewofwbchurch.org/event/sunday-service-132/
END:VEVENT
BEGIN:VEVENT
DTSTART;TZID=America/New_York:20260315T100000
DTEND;TZID=America/New_York:20260315T103000
DTSTAMP:20260423T164344
CREATED:20260316T210827Z
LAST-MODIFIED:20260316T210827Z
UID:3168-1773568800-1773570600@soundviewofwbchurch.org
SUMMARY:SUNDAY SCHOOL
DESCRIPTION:
URL:https://soundviewofwbchurch.org/event/sunday-school-159/
END:VEVENT
BEGIN:VEVENT
DTSTART;TZID=America/New_York:20260312T100000
DTEND;TZID=America/New_York:20260312T110000
DTSTAMP:20260423T164344
CREATED:20260316T212224Z
LAST-MODIFIED:20260316T212224Z
UID:3205-1773309600-1773313200@soundviewofwbchurch.org
SUMMARY:CHOIT PRACTICE
DESCRIPTION:
URL:https://soundviewofwbchurch.org/event/choit-practice/
END:VEVENT
BEGIN:VEVENT
DTSTART;TZID=America/New_York:20260311T190000
DTEND;TZID=America/New_York:20260311T200000
DTSTAMP:20260423T164344
CREATED:20260316T211851Z
LAST-MODIFIED:20260316T211851Z
UID:3195-1773255600-1773259200@soundviewofwbchurch.org
SUMMARY:BIBLE STUDY
DESCRIPTION:
URL:https://soundviewofwbchurch.org/event/bible-study-140/
END:VEVENT
BEGIN:VEVENT
DTSTART;TZID=America/New_York:20260308T110000
DTEND;TZID=America/New_York:20260308T120000
DTSTAMP:20260423T164344
CREATED:20260316T211259Z
LAST-MODIFIED:20260316T211259Z
UID:3178-1772967600-1772971200@soundviewofwbchurch.org
SUMMARY:SUNDAY SERVICE
DESCRIPTION:
URL:https://soundviewofwbchurch.org/event/sunday-service-131/
END:VEVENT
BEGIN:VEVENT
DTSTART;TZID=America/New_York:20260308T100000
DTEND;TZID=America/New_York:20260308T103000
DTSTAMP:20260423T164344
CREATED:20260316T210806Z
LAST-MODIFIED:20260316T210806Z
UID:3166-1772964000-1772965800@soundviewofwbchurch.org
SUMMARY:SUNDAY SCHOOL
DESCRIPTION:
URL:https://soundviewofwbchurch.org/event/sunday-school-158/
END:VEVENT
BEGIN:VEVENT
DTSTART;TZID=America/New_York:20260305T100000
DTEND;TZID=America/New_York:20260305T110000
DTSTAMP:20260423T164344
CREATED:20260316T212144Z
LAST-MODIFIED:20260316T212144Z
UID:3203-1772704800-1772708400@soundviewofwbchurch.org
SUMMARY:CHOIR PRACTICE
DESCRIPTION:
URL:https://soundviewofwbchurch.org/event/choir-practice-156/
END:VEVENT
BEGIN:VEVENT
DTSTART;TZID=America/New_York:20260304T190000
DTEND;TZID=America/New_York:20260304T200000
DTSTAMP:20260423T164344
CREATED:20260316T211825Z
LAST-MODIFIED:20260316T211825Z
UID:3193-1772650800-1772654400@soundviewofwbchurch.org
SUMMARY:BIBLE STUDY
DESCRIPTION:
URL:https://soundviewofwbchurch.org/event/bible-study-139/
END:VEVENT
BEGIN:VEVENT
DTSTART;TZID=America/New_York:20260303T190000
DTEND;TZID=America/New_York:20260303T200000
DTSTAMP:20260423T164344
CREATED:20260316T211719Z
LAST-MODIFIED:20260316T211719Z
UID:3189-1772564400-1772568000@soundviewofwbchurch.org
SUMMARY:LASIES AUX & MEN'S BROTHERHOOD
DESCRIPTION:
URL:https://soundviewofwbchurch.org/event/lasies-aux-mens-brotherhood/
END:VEVENT
BEGIN:VEVENT
DTSTART;TZID=America/New_York:20260301T110000
DTEND;TZID=America/New_York:20260301T120000
DTSTAMP:20260423T164344
CREATED:20260316T211235Z
LAST-MODIFIED:20260316T211235Z
UID:3176-1772362800-1772366400@soundviewofwbchurch.org
SUMMARY:SUNDAY SERVICE
DESCRIPTION:
URL:https://soundviewofwbchurch.org/event/sunday-service-128/
END:VEVENT
BEGIN:VEVENT
DTSTART;TZID=America/New_York:20260301T100000
DTEND;TZID=America/New_York:20260301T103000
DTSTAMP:20260423T164344
CREATED:20260316T210730Z
LAST-MODIFIED:20260316T210730Z
UID:3164-1772359200-1772361000@soundviewofwbchurch.org
SUMMARY:SUNDAY SCHOOL
DESCRIPTION:
URL:https://soundviewofwbchurch.org/event/sunday-school-157/
END:VEVENT
BEGIN:VEVENT
DTSTART;TZID=America/New_York:20260226T100000
DTEND;TZID=America/New_York:20260226T110000
DTSTAMP:20260423T164344
CREATED:20260131T185908Z
LAST-MODIFIED:20260131T185908Z
UID:3141-1772100000-1772103600@soundviewofwbchurch.org
SUMMARY:CHOIR PRACTICE
DESCRIPTION:
URL:https://soundviewofwbchurch.org/event/choir-practice-155/
END:VEVENT
BEGIN:VEVENT
DTSTART;TZID=America/New_York:20260225T190000
DTEND;TZID=America/New_York:20260225T200000
DTSTAMP:20260423T164344
CREATED:20260131T185252Z
LAST-MODIFIED:20260131T185252Z
UID:3131-1772046000-1772049600@soundviewofwbchurch.org
SUMMARY:BIBLE STUDY
DESCRIPTION:
URL:https://soundviewofwbchurch.org/event/bible-study-138/
END:VEVENT
BEGIN:VEVENT
DTSTART;TZID=America/New_York:20260222T110000
DTEND;TZID=America/New_York:20260222T120000
DTSTAMP:20260423T164344
CREATED:20260131T184558Z
LAST-MODIFIED:20260131T184558Z
UID:3112-1771758000-1771761600@soundviewofwbchurch.org
SUMMARY:SUNDAY SERVICE
DESCRIPTION:
URL:https://soundviewofwbchurch.org/event/sunday-service-130/
END:VEVENT
BEGIN:VEVENT
DTSTART;TZID=America/New_York:20260222T100000
DTEND;TZID=America/New_York:20260222T113000
DTSTAMP:20260423T164344
CREATED:20260131T184953Z
LAST-MODIFIED:20260131T184953Z
UID:3121-1771754400-1771759800@soundviewofwbchurch.org
SUMMARY:SUNDAY SCHOOL
DESCRIPTION:
URL:https://soundviewofwbchurch.org/event/sunday-school-156/
END:VEVENT
BEGIN:VEVENT
DTSTART;TZID=America/New_York:20260219T100000
DTEND;TZID=America/New_York:20260219T110000
DTSTAMP:20260423T164344
CREATED:20260131T185832Z
LAST-MODIFIED:20260131T185832Z
UID:3139-1771495200-1771498800@soundviewofwbchurch.org
SUMMARY:CHOIR PRACTICE
DESCRIPTION:
URL:https://soundviewofwbchurch.org/event/choir-practice-154/
END:VEVENT
BEGIN:VEVENT
DTSTART;TZID=America/New_York:20260218T190000
DTEND;TZID=America/New_York:20260218T200000
DTSTAMP:20260423T164344
CREATED:20260131T185227Z
LAST-MODIFIED:20260131T185227Z
UID:3129-1771441200-1771444800@soundviewofwbchurch.org
SUMMARY:BIBLE STUDY
DESCRIPTION:
URL:https://soundviewofwbchurch.org/event/bible-study-137/
END:VEVENT
END:VCALENDAR