BEGIN:VCALENDAR
VERSION:2.0
PRODID:-//SOUND VIEW ORGINAL FREE WILL BAPTIST CHURCH - ECPv6.15.20//NONSGML v1.0//EN
CALSCALE:GREGORIAN
METHOD:PUBLISH
X-WR-CALNAME:SOUND VIEW ORGINAL FREE WILL BAPTIST CHURCH
X-ORIGINAL-URL:https://soundviewofwbchurch.org
X-WR-CALDESC:Events for SOUND VIEW ORGINAL FREE WILL BAPTIST CHURCH
REFRESH-INTERVAL;VALUE=DURATION:PT1H
X-Robots-Tag:noindex
X-PUBLISHED-TTL:PT1H
BEGIN:VTIMEZONE
TZID:America/New_York
BEGIN:DAYLIGHT
TZOFFSETFROM:-0500
TZOFFSETTO:-0400
TZNAME:EDT
DTSTART:20240310T070000
END:DAYLIGHT
BEGIN:STANDARD
TZOFFSETFROM:-0400
TZOFFSETTO:-0500
TZNAME:EST
DTSTART:20241103T060000
END:STANDARD
BEGIN:DAYLIGHT
TZOFFSETFROM:-0500
TZOFFSETTO:-0400
TZNAME:EDT
DTSTART:20250309T070000
END:DAYLIGHT
BEGIN:STANDARD
TZOFFSETFROM:-0400
TZOFFSETTO:-0500
TZNAME:EST
DTSTART:20251102T060000
END:STANDARD
BEGIN:DAYLIGHT
TZOFFSETFROM:-0500
TZOFFSETTO:-0400
TZNAME:EDT
DTSTART:20260308T070000
END:DAYLIGHT
BEGIN:STANDARD
TZOFFSETFROM:-0400
TZOFFSETTO:-0500
TZNAME:EST
DTSTART:20261101T060000
END:STANDARD
END:VTIMEZONE
BEGIN:VEVENT
DTSTART;TZID=America/New_York:20250305T190000
DTEND;TZID=America/New_York:20250305T200000
DTSTAMP:20260424T112014
CREATED:20250302T230736Z
LAST-MODIFIED:20250302T230736Z
UID:2363-1741201200-1741204800@soundviewofwbchurch.org
SUMMARY:Bible Study
DESCRIPTION:
URL:https://soundviewofwbchurch.org/event/bible-study-91/
END:VEVENT
BEGIN:VEVENT
DTSTART;TZID=America/New_York:20250304T190000
DTEND;TZID=America/New_York:20250304T200000
DTSTAMP:20260424T112014
CREATED:20250302T231445Z
LAST-MODIFIED:20250302T231445Z
UID:2377-1741114800-1741118400@soundviewofwbchurch.org
SUMMARY:Ladies Aux. \, Men's Brotherhood
DESCRIPTION:
URL:https://soundviewofwbchurch.org/event/ladies-aux-mens-brotherhood-2/
END:VEVENT
BEGIN:VEVENT
DTSTART;TZID=America/New_York:20250302T110000
DTEND;TZID=America/New_York:20250302T120000
DTSTAMP:20260424T112014
CREATED:20250302T223723Z
LAST-MODIFIED:20250302T223723Z
UID:2343-1740913200-1740916800@soundviewofwbchurch.org
SUMMARY:Sunday Service
DESCRIPTION:
URL:https://soundviewofwbchurch.org/event/sunday-service-87/
END:VEVENT
BEGIN:VEVENT
DTSTART;TZID=America/New_York:20250302T100000
DTEND;TZID=America/New_York:20250302T103000
DTSTAMP:20260424T112014
CREATED:20250302T230643Z
LAST-MODIFIED:20250302T230643Z
UID:2361-1740909600-1740911400@soundviewofwbchurch.org
SUMMARY:Sunday School
DESCRIPTION:
URL:https://soundviewofwbchurch.org/event/sunday-school-111/
END:VEVENT
BEGIN:VEVENT
DTSTART;TZID=America/New_York:20250227T100000
DTEND;TZID=America/New_York:20250227T110000
DTSTAMP:20260424T112014
CREATED:20250210T025007Z
LAST-MODIFIED:20250210T025007Z
UID:2294-1740650400-1740654000@soundviewofwbchurch.org
SUMMARY:CHOIR PRACTICE
DESCRIPTION:
URL:https://soundviewofwbchurch.org/event/choir-practice-107/
END:VEVENT
BEGIN:VEVENT
DTSTART;TZID=America/New_York:20250226T190000
DTEND;TZID=America/New_York:20250226T200000
DTSTAMP:20260424T112014
CREATED:20250210T033215Z
LAST-MODIFIED:20250210T033215Z
UID:2337-1740596400-1740600000@soundviewofwbchurch.org
SUMMARY:BIBLE STUDY
DESCRIPTION:
URL:https://soundviewofwbchurch.org/event/bible-study-94/
END:VEVENT
BEGIN:VEVENT
DTSTART;TZID=America/New_York:20250223T110000
DTEND;TZID=America/New_York:20250223T120000
DTSTAMP:20260424T112014
CREATED:20250210T032455Z
LAST-MODIFIED:20250210T032455Z
UID:2321-1740308400-1740312000@soundviewofwbchurch.org
SUMMARY:SUNDAY SERVICE
DESCRIPTION:
URL:https://soundviewofwbchurch.org/event/sunday-service-89/
END:VEVENT
BEGIN:VEVENT
DTSTART;TZID=America/New_York:20250223T100000
DTEND;TZID=America/New_York:20250223T103000
DTSTAMP:20260424T112014
CREATED:20250210T025255Z
LAST-MODIFIED:20250210T025255Z
UID:2307-1740304800-1740306600@soundviewofwbchurch.org
SUMMARY:SUNDAY SCHOOL
DESCRIPTION:
URL:https://soundviewofwbchurch.org/event/sunday-school-106/
END:VEVENT
BEGIN:VEVENT
DTSTART;TZID=America/New_York:20250222T080000
DTEND;TZID=America/New_York:20250222T120000
DTSTAMP:20260424T112014
CREATED:20250210T032842Z
LAST-MODIFIED:20250210T032842Z
UID:2327-1740211200-1740225600@soundviewofwbchurch.org
SUMMARY:MENS BROTHERHOOD CLEAN UP
DESCRIPTION:
URL:https://soundviewofwbchurch.org/event/mens-brotherhood-clean-up/
END:VEVENT
BEGIN:VEVENT
DTSTART;TZID=America/New_York:20250220T100000
DTEND;TZID=America/New_York:20250220T110000
DTSTAMP:20260424T112014
CREATED:20250210T024932Z
LAST-MODIFIED:20250210T024932Z
UID:2292-1740045600-1740049200@soundviewofwbchurch.org
SUMMARY:CHOIR PRACTICE
DESCRIPTION:
URL:https://soundviewofwbchurch.org/event/choir-practice-106/
END:VEVENT
BEGIN:VEVENT
DTSTART;TZID=America/New_York:20250219T190000
DTEND;TZID=America/New_York:20250219T200000
DTSTAMP:20260424T112014
CREATED:20250210T033150Z
LAST-MODIFIED:20250210T033150Z
UID:2335-1739991600-1739995200@soundviewofwbchurch.org
SUMMARY:BIBLE STUDY
DESCRIPTION:
URL:https://soundviewofwbchurch.org/event/bible-study-93/
END:VEVENT
BEGIN:VEVENT
DTSTART;TZID=America/New_York:20250216T110000
DTEND;TZID=America/New_York:20250216T120000
DTSTAMP:20260424T112014
CREATED:20250210T032316Z
LAST-MODIFIED:20250210T032316Z
UID:2319-1739703600-1739707200@soundviewofwbchurch.org
SUMMARY:SUNDAY SERVICE
DESCRIPTION:
URL:https://soundviewofwbchurch.org/event/sunday-service-88/
END:VEVENT
BEGIN:VEVENT
DTSTART;TZID=America/New_York:20250216T100000
DTEND;TZID=America/New_York:20250216T103000
DTSTAMP:20260424T112014
CREATED:20250210T025228Z
LAST-MODIFIED:20250210T025228Z
UID:2305-1739700000-1739701800@soundviewofwbchurch.org
SUMMARY:SUNDAY SCHOOL
DESCRIPTION:
URL:https://soundviewofwbchurch.org/event/sunday-school-105/
END:VEVENT
BEGIN:VEVENT
DTSTART;TZID=America/New_York:20250214T180000
DTEND;TZID=America/New_York:20250214T190000
DTSTAMP:20260424T112014
CREATED:20250210T032622Z
LAST-MODIFIED:20250210T032622Z
UID:2323-1739556000-1739559600@soundviewofwbchurch.org
SUMMARY:VALENTINES DINNER
DESCRIPTION:
URL:https://soundviewofwbchurch.org/event/valentines-dinner/
END:VEVENT
BEGIN:VEVENT
DTSTART;TZID=America/New_York:20250213T100000
DTEND;TZID=America/New_York:20250213T110000
DTSTAMP:20260424T112014
CREATED:20250210T024844Z
LAST-MODIFIED:20250210T024844Z
UID:2288-1739440800-1739444400@soundviewofwbchurch.org
SUMMARY:CHOIR PRACTICE
DESCRIPTION:
URL:https://soundviewofwbchurch.org/event/choir-practice-105/
END:VEVENT
BEGIN:VEVENT
DTSTART;TZID=America/New_York:20250212T190000
DTEND;TZID=America/New_York:20250212T200000
DTSTAMP:20260424T112014
CREATED:20250210T033114Z
LAST-MODIFIED:20250210T033114Z
UID:2333-1739386800-1739390400@soundviewofwbchurch.org
SUMMARY:BIBLE STUDY
DESCRIPTION:
URL:https://soundviewofwbchurch.org/event/bible-study-92/
END:VEVENT
BEGIN:VEVENT
DTSTART;TZID=America/New_York:20250209T110000
DTEND;TZID=America/New_York:20250209T120000
DTSTAMP:20260424T112014
CREATED:20250210T031016Z
LAST-MODIFIED:20250210T031548Z
UID:2311-1739098800-1739102400@soundviewofwbchurch.org
SUMMARY:SUNDAY SERVICE
DESCRIPTION:
URL:https://soundviewofwbchurch.org/event/sunday-service-85/
END:VEVENT
BEGIN:VEVENT
DTSTART;TZID=America/New_York:20250209T100000
DTEND;TZID=America/New_York:20250209T103000
DTSTAMP:20260424T112014
CREATED:20250210T025133Z
LAST-MODIFIED:20250210T025133Z
UID:2299-1739095200-1739097000@soundviewofwbchurch.org
SUMMARY:SUNDAY SCHOOL
DESCRIPTION:
URL:https://soundviewofwbchurch.org/event/sunday-school-104/
END:VEVENT
BEGIN:VEVENT
DTSTART;TZID=America/New_York:20250206T100000
DTEND;TZID=America/New_York:20250206T110000
DTSTAMP:20260424T112014
CREATED:20250210T024805Z
LAST-MODIFIED:20250210T024805Z
UID:2286-1738836000-1738839600@soundviewofwbchurch.org
SUMMARY:CHOIR PRACTICE
DESCRIPTION:
URL:https://soundviewofwbchurch.org/event/choir-practice-104/
END:VEVENT
BEGIN:VEVENT
DTSTART;TZID=America/New_York:20250205T190000
DTEND;TZID=America/New_York:20250205T200000
DTSTAMP:20260424T112014
CREATED:20250210T033009Z
LAST-MODIFIED:20250210T033009Z
UID:2329-1738782000-1738785600@soundviewofwbchurch.org
SUMMARY:BIBLE STUDY
DESCRIPTION:
URL:https://soundviewofwbchurch.org/event/bible-study-90/
END:VEVENT
BEGIN:VEVENT
DTSTART;TZID=America/New_York:20250204T080000
DTEND;TZID=America/New_York:20250204T170000
DTSTAMP:20260424T112014
CREATED:20250210T030751Z
LAST-MODIFIED:20250210T030751Z
UID:2309-1738656000-1738688400@soundviewofwbchurch.org
SUMMARY:LADIES AUX. MENS FELLOWSHIP
DESCRIPTION:
URL:https://soundviewofwbchurch.org/event/ladies-aux-mens-fellowship-7/
END:VEVENT
BEGIN:VEVENT
DTSTART;TZID=America/New_York:20250202T110000
DTEND;TZID=America/New_York:20250202T120000
DTSTAMP:20260424T112014
CREATED:20250210T032058Z
LAST-MODIFIED:20250210T032058Z
UID:2313-1738494000-1738497600@soundviewofwbchurch.org
SUMMARY:SUNDAY SERVICE
DESCRIPTION:
URL:https://soundviewofwbchurch.org/event/sunday-service-86/
END:VEVENT
BEGIN:VEVENT
DTSTART;TZID=America/New_York:20250202T100000
DTEND;TZID=America/New_York:20250202T103000
DTSTAMP:20260424T112014
CREATED:20250210T025054Z
LAST-MODIFIED:20250210T025054Z
UID:2297-1738490400-1738492200@soundviewofwbchurch.org
SUMMARY:SUNDAY SCHOOL
DESCRIPTION:
URL:https://soundviewofwbchurch.org/event/sunday-school-103/
END:VEVENT
BEGIN:VEVENT
DTSTART;TZID=America/New_York:20250130T100000
DTEND;TZID=America/New_York:20250130T110000
DTSTAMP:20260424T112014
CREATED:20250109T180802Z
LAST-MODIFIED:20250109T180802Z
UID:2248-1738231200-1738234800@soundviewofwbchurch.org
SUMMARY:CHOIR PRACTICE
DESCRIPTION:
URL:https://soundviewofwbchurch.org/event/choir-practice-103/
END:VEVENT
BEGIN:VEVENT
DTSTART;TZID=America/New_York:20250129T190000
DTEND;TZID=America/New_York:20250129T200000
DTSTAMP:20260424T112014
CREATED:20250109T180901Z
LAST-MODIFIED:20250109T180901Z
UID:2252-1738177200-1738180800@soundviewofwbchurch.org
SUMMARY:BIBLE STUDY
DESCRIPTION:
URL:https://soundviewofwbchurch.org/event/bible-study-89/
END:VEVENT
BEGIN:VEVENT
DTSTART;TZID=America/New_York:20250126T110000
DTEND;TZID=America/New_York:20250126T120000
DTSTAMP:20260424T112014
CREATED:20250109T181258Z
LAST-MODIFIED:20250109T181258Z
UID:2262-1737889200-1737892800@soundviewofwbchurch.org
SUMMARY:SUNDAY SERVICE
DESCRIPTION:
URL:https://soundviewofwbchurch.org/event/sunday-service-84/
END:VEVENT
BEGIN:VEVENT
DTSTART;TZID=America/New_York:20250126T100000
DTEND;TZID=America/New_York:20250126T103000
DTSTAMP:20260424T112014
CREATED:20250109T181150Z
LAST-MODIFIED:20250109T181150Z
UID:2258-1737885600-1737887400@soundviewofwbchurch.org
SUMMARY:SUNDAY SCHOOL
DESCRIPTION:
URL:https://soundviewofwbchurch.org/event/sunday-school-102/
END:VEVENT
BEGIN:VEVENT
DTSTART;TZID=America/New_York:20250123T100000
DTEND;TZID=America/New_York:20250123T110000
DTSTAMP:20260424T112014
CREATED:20250109T180729Z
LAST-MODIFIED:20250109T180729Z
UID:2246-1737626400-1737630000@soundviewofwbchurch.org
SUMMARY:CHOIR PRACTICE
DESCRIPTION:
URL:https://soundviewofwbchurch.org/event/choir-practice-102/
END:VEVENT
BEGIN:VEVENT
DTSTART;TZID=America/New_York:20250122T190000
DTEND;TZID=America/New_York:20250122T200000
DTSTAMP:20260424T112014
CREATED:20250109T180952Z
LAST-MODIFIED:20250109T180952Z
UID:2254-1737572400-1737576000@soundviewofwbchurch.org
SUMMARY:YOUTH NIGHT
DESCRIPTION:
URL:https://soundviewofwbchurch.org/event/youth-night-4/
END:VEVENT
BEGIN:VEVENT
DTSTART;TZID=America/New_York:20250122T190000
DTEND;TZID=America/New_York:20250122T200000
DTSTAMP:20260424T112014
CREATED:20250109T180833Z
LAST-MODIFIED:20250109T180833Z
UID:2250-1737572400-1737576000@soundviewofwbchurch.org
SUMMARY:BIBLE STUDY
DESCRIPTION:
URL:https://soundviewofwbchurch.org/event/bible-study-88/
END:VEVENT
END:VCALENDAR