BEGIN:VCALENDAR
VERSION:2.0
PRODID:-//SOUND VIEW ORGINAL FREE WILL BAPTIST CHURCH - ECPv6.15.20//NONSGML v1.0//EN
CALSCALE:GREGORIAN
METHOD:PUBLISH
X-WR-CALNAME:SOUND VIEW ORGINAL FREE WILL BAPTIST CHURCH
X-ORIGINAL-URL:https://soundviewofwbchurch.org
X-WR-CALDESC:Events for SOUND VIEW ORGINAL FREE WILL BAPTIST CHURCH
REFRESH-INTERVAL;VALUE=DURATION:PT1H
X-Robots-Tag:noindex
X-PUBLISHED-TTL:PT1H
BEGIN:VTIMEZONE
TZID:America/New_York
BEGIN:DAYLIGHT
TZOFFSETFROM:-0500
TZOFFSETTO:-0400
TZNAME:EDT
DTSTART:20220313T070000
END:DAYLIGHT
BEGIN:STANDARD
TZOFFSETFROM:-0400
TZOFFSETTO:-0500
TZNAME:EST
DTSTART:20221106T060000
END:STANDARD
BEGIN:DAYLIGHT
TZOFFSETFROM:-0500
TZOFFSETTO:-0400
TZNAME:EDT
DTSTART:20230312T070000
END:DAYLIGHT
BEGIN:STANDARD
TZOFFSETFROM:-0400
TZOFFSETTO:-0500
TZNAME:EST
DTSTART:20231105T060000
END:STANDARD
BEGIN:DAYLIGHT
TZOFFSETFROM:-0500
TZOFFSETTO:-0400
TZNAME:EDT
DTSTART:20240310T070000
END:DAYLIGHT
BEGIN:STANDARD
TZOFFSETFROM:-0400
TZOFFSETTO:-0500
TZNAME:EST
DTSTART:20241103T060000
END:STANDARD
END:VTIMEZONE
BEGIN:VEVENT
DTSTART;TZID=America/New_York:20230730T110000
DTEND;TZID=America/New_York:20230730T120000
DTSTAMP:20260425T120755
CREATED:20230707T002956Z
LAST-MODIFIED:20230707T003026Z
UID:1108-1690714800-1690718400@soundviewofwbchurch.org
SUMMARY:SUNDAY SERVICE
DESCRIPTION:
URL:https://soundviewofwbchurch.org/event/sunday-school-27/
END:VEVENT
BEGIN:VEVENT
DTSTART;TZID=America/New_York:20230727T100000
DTEND;TZID=America/New_York:20230727T110000
DTSTAMP:20260425T120755
CREATED:20230707T003621Z
LAST-MODIFIED:20230707T003640Z
UID:1120-1690452000-1690455600@soundviewofwbchurch.org
SUMMARY:CHOIR PRACTICE
DESCRIPTION:
URL:https://soundviewofwbchurch.org/event/choir-practice-27/
END:VEVENT
BEGIN:VEVENT
DTSTART;TZID=America/New_York:20230726T190000
DTEND;TZID=America/New_York:20230726T200000
DTSTAMP:20260425T120755
CREATED:20230707T003439Z
LAST-MODIFIED:20230707T003439Z
UID:1118-1690398000-1690401600@soundviewofwbchurch.org
SUMMARY:BIBLE STUDY
DESCRIPTION:
URL:https://soundviewofwbchurch.org/event/bible-study-23/
END:VEVENT
BEGIN:VEVENT
DTSTART;TZID=America/New_York:20230726T180000
DTEND;TZID=America/New_York:20230726T190000
DTSTAMP:20260425T120755
CREATED:20230707T003158Z
LAST-MODIFIED:20230707T003302Z
UID:1113-1690394400-1690398000@soundviewofwbchurch.org
SUMMARY:SALAD & SANDWICH
DESCRIPTION:
URL:https://soundviewofwbchurch.org/event/bible-study-21/
END:VEVENT
BEGIN:VEVENT
DTSTART;TZID=America/New_York:20230723T110000
DTEND;TZID=America/New_York:20230723T120000
DTSTAMP:20260425T120755
CREATED:20230707T002459Z
LAST-MODIFIED:20230707T002520Z
UID:1103-1690110000-1690113600@soundviewofwbchurch.org
SUMMARY:SUNDAY SERVICE
DESCRIPTION:
URL:https://soundviewofwbchurch.org/event/sunday-school-25/
END:VEVENT
BEGIN:VEVENT
DTSTART;TZID=America/New_York:20230723T100000
DTEND;TZID=America/New_York:20230723T120000
DTSTAMP:20260425T120755
CREATED:20230707T002913Z
LAST-MODIFIED:20230707T002913Z
UID:1106-1690106400-1690113600@soundviewofwbchurch.org
SUMMARY:SUNDAY SCHOOL
DESCRIPTION:
URL:https://soundviewofwbchurch.org/event/sunday-school-26/
END:VEVENT
BEGIN:VEVENT
DTSTART;TZID=America/New_York:20230720T100000
DTEND;TZID=America/New_York:20230720T110000
DTSTAMP:20260425T120755
CREATED:20230707T003730Z
LAST-MODIFIED:20230707T003744Z
UID:1122-1689847200-1689850800@soundviewofwbchurch.org
SUMMARY:CHOIR PRACTICE
DESCRIPTION:
URL:https://soundviewofwbchurch.org/event/choir-practice-28/
END:VEVENT
BEGIN:VEVENT
DTSTART;TZID=America/New_York:20230719T190000
DTEND;TZID=America/New_York:20230719T200000
DTSTAMP:20260425T120755
CREATED:20230707T003357Z
LAST-MODIFIED:20230707T003357Z
UID:1116-1689793200-1689796800@soundviewofwbchurch.org
SUMMARY:BIBLE STUDY
DESCRIPTION:
URL:https://soundviewofwbchurch.org/event/bible-study-22/
END:VEVENT
BEGIN:VEVENT
DTSTART;TZID=America/New_York:20230716T110000
DTEND;TZID=America/New_York:20230716T120000
DTSTAMP:20260425T120755
CREATED:20230707T001215Z
LAST-MODIFIED:20230707T001708Z
UID:1092-1689505200-1689508800@soundviewofwbchurch.org
SUMMARY:SUNDAY SERVICE
DESCRIPTION:
URL:https://soundviewofwbchurch.org/event/sunday-school-23/
END:VEVENT
BEGIN:VEVENT
DTSTART;TZID=America/New_York:20230716T100000
DTEND;TZID=America/New_York:20230716T223000
DTSTAMP:20260425T120755
CREATED:20230707T001401Z
LAST-MODIFIED:20230707T001401Z
UID:1098-1689501600-1689546600@soundviewofwbchurch.org
SUMMARY:SUNDAY SCHOOL
DESCRIPTION:
URL:https://soundviewofwbchurch.org/event/sunday-school-24/
END:VEVENT
BEGIN:VEVENT
DTSTART;TZID=America/New_York:20230713T080000
DTEND;TZID=America/New_York:20230713T170000
DTSTAMP:20260425T120755
CREATED:20230707T003822Z
LAST-MODIFIED:20230707T003822Z
UID:1124-1689235200-1689267600@soundviewofwbchurch.org
SUMMARY:CHOIR PRACTICE
DESCRIPTION:
URL:https://soundviewofwbchurch.org/event/choir-practice-29/
END:VEVENT
BEGIN:VEVENT
DTSTART;TZID=America/New_York:20230712T190000
DTEND;TZID=America/New_York:20230712T200000
DTSTAMP:20260425T120755
CREATED:20230707T003125Z
LAST-MODIFIED:20230707T003126Z
UID:1111-1689188400-1689192000@soundviewofwbchurch.org
SUMMARY:BIBLE STUDY
DESCRIPTION:
URL:https://soundviewofwbchurch.org/event/bible-study-20/
END:VEVENT
BEGIN:VEVENT
DTSTART;TZID=America/New_York:20230709T110000
DTEND;TZID=America/New_York:20230709T120000
DTSTAMP:20260425T120755
CREATED:20230707T000925Z
LAST-MODIFIED:20230707T000925Z
UID:1090-1688900400-1688904000@soundviewofwbchurch.org
SUMMARY:SUNDAY SERVICE
DESCRIPTION:
URL:https://soundviewofwbchurch.org/event/sunday-service-18/
END:VEVENT
BEGIN:VEVENT
DTSTART;TZID=America/New_York:20230709T100000
DTEND;TZID=America/New_York:20230709T103000
DTSTAMP:20260425T120755
CREATED:20230707T000804Z
LAST-MODIFIED:20230707T000804Z
UID:1087-1688896800-1688898600@soundviewofwbchurch.org
SUMMARY:SUNDAY SCHOOL
DESCRIPTION:
URL:https://soundviewofwbchurch.org/event/sunday-school-22/
END:VEVENT
BEGIN:VEVENT
DTSTART;TZID=America/New_York:20230707T100000
DTEND;TZID=America/New_York:20230707T113000
DTSTAMP:20260425T120755
CREATED:20230707T000009Z
LAST-MODIFIED:20230707T000009Z
UID:1071-1688724000-1688729400@soundviewofwbchurch.org
SUMMARY:CHOIR PRACTICE
DESCRIPTION:
URL:https://soundviewofwbchurch.org/event/choir-practice-26/
END:VEVENT
BEGIN:VEVENT
DTSTART;TZID=America/New_York:20230705T190000
DTEND;TZID=America/New_York:20230705T200000
DTSTAMP:20260425T120755
CREATED:20230707T000527Z
LAST-MODIFIED:20230707T000648Z
UID:1081-1688583600-1688587200@soundviewofwbchurch.org
SUMMARY:QUARTERLY BUSINESS MEETING
DESCRIPTION:
URL:https://soundviewofwbchurch.org/event/qurterly-business-meeting/
END:VEVENT
BEGIN:VEVENT
DTSTART;TZID=America/New_York:20230704T180000
DTEND;TZID=America/New_York:20230704T203000
DTSTAMP:20260425T120755
CREATED:20230707T000402Z
LAST-MODIFIED:20230707T000402Z
UID:1078-1688493600-1688502600@soundviewofwbchurch.org
SUMMARY:JULY 4TH CHURCH PICNIC
DESCRIPTION:
URL:https://soundviewofwbchurch.org/event/july-4th-church-picnic/
END:VEVENT
BEGIN:VEVENT
DTSTART;TZID=America/New_York:20230702T110000
DTEND;TZID=America/New_York:20230702T120000
DTSTAMP:20260425T120755
CREATED:20230707T000258Z
LAST-MODIFIED:20230707T000258Z
UID:1076-1688295600-1688299200@soundviewofwbchurch.org
SUMMARY:SUNDAY SERVICE
DESCRIPTION:
URL:https://soundviewofwbchurch.org/event/sunday-service-17/
END:VEVENT
BEGIN:VEVENT
DTSTART;TZID=America/New_York:20230702T100000
DTEND;TZID=America/New_York:20230702T103000
DTSTAMP:20260425T120755
CREATED:20230707T000202Z
LAST-MODIFIED:20230707T000202Z
UID:1074-1688292000-1688293800@soundviewofwbchurch.org
SUMMARY:SUNDAY SCHOOL
DESCRIPTION:
URL:https://soundviewofwbchurch.org/event/sunday-school-21/
END:VEVENT
BEGIN:VEVENT
DTSTART;TZID=America/New_York:20230629T100000
DTEND;TZID=America/New_York:20230629T110000
DTSTAMP:20260425T120755
CREATED:20230707T011230Z
LAST-MODIFIED:20230707T011230Z
UID:1168-1688032800-1688036400@soundviewofwbchurch.org
SUMMARY:CHOIR PRACTICE
DESCRIPTION:
URL:https://soundviewofwbchurch.org/event/choir-practice-33/
END:VEVENT
BEGIN:VEVENT
DTSTART;TZID=America/New_York:20230628T190000
DTEND;TZID=America/New_York:20230628T200000
DTSTAMP:20260425T120755
CREATED:20230707T005445Z
LAST-MODIFIED:20230707T005445Z
UID:1157-1687978800-1687982400@soundviewofwbchurch.org
SUMMARY:BIBLE STUDY
DESCRIPTION:
URL:https://soundviewofwbchurch.org/event/bible-study-27/
END:VEVENT
BEGIN:VEVENT
DTSTART;TZID=America/New_York:20230625T110000
DTEND;TZID=America/New_York:20230625T120000
DTSTAMP:20260425T120755
CREATED:20230707T005134Z
LAST-MODIFIED:20230707T005134Z
UID:1148-1687690800-1687694400@soundviewofwbchurch.org
SUMMARY:SUNDAY SERVICE
DESCRIPTION:
URL:https://soundviewofwbchurch.org/event/sunday-service-21/
END:VEVENT
BEGIN:VEVENT
DTSTART;TZID=America/New_York:20230625T100000
DTEND;TZID=America/New_York:20230625T103000
DTSTAMP:20260425T120755
CREATED:20230707T005035Z
LAST-MODIFIED:20230707T005035Z
UID:1146-1687687200-1687689000@soundviewofwbchurch.org
SUMMARY:SUNDAY SCHOOL
DESCRIPTION:
URL:https://soundviewofwbchurch.org/event/sunday-school-32/
END:VEVENT
BEGIN:VEVENT
DTSTART;TZID=America/New_York:20230622T100000
DTEND;TZID=America/New_York:20230622T110000
DTSTAMP:20260425T120755
CREATED:20230707T011126Z
LAST-MODIFIED:20230707T011126Z
UID:1166-1687428000-1687431600@soundviewofwbchurch.org
SUMMARY:CHOIR PRACTICE
DESCRIPTION:
URL:https://soundviewofwbchurch.org/event/choir-practice-32/
END:VEVENT
BEGIN:VEVENT
DTSTART;TZID=America/New_York:20230621T190000
DTEND;TZID=America/New_York:20230621T200000
DTSTAMP:20260425T120755
CREATED:20230707T005404Z
LAST-MODIFIED:20230707T005404Z
UID:1155-1687374000-1687377600@soundviewofwbchurch.org
SUMMARY:BIBLE STUDY
DESCRIPTION:
URL:https://soundviewofwbchurch.org/event/bible-study-26/
END:VEVENT
BEGIN:VEVENT
DTSTART;TZID=America/New_York:20230618T110000
DTEND;TZID=America/New_York:20230618T120000
DTSTAMP:20260425T120755
CREATED:20230707T004917Z
LAST-MODIFIED:20230707T004917Z
UID:1143-1687086000-1687089600@soundviewofwbchurch.org
SUMMARY:SUNDAY SERVICE
DESCRIPTION:
URL:https://soundviewofwbchurch.org/event/sunday-service-20/
END:VEVENT
BEGIN:VEVENT
DTSTART;TZID=America/New_York:20230618T100000
DTEND;TZID=America/New_York:20230618T103000
DTSTAMP:20260425T120755
CREATED:20230707T004829Z
LAST-MODIFIED:20230707T004829Z
UID:1141-1687082400-1687084200@soundviewofwbchurch.org
SUMMARY:SUNDAY SCHOOL
DESCRIPTION:
URL:https://soundviewofwbchurch.org/event/sunday-school-31/
END:VEVENT
BEGIN:VEVENT
DTSTART;TZID=America/New_York:20230615T100000
DTEND;TZID=America/New_York:20230615T110000
DTSTAMP:20260425T120755
CREATED:20230707T011035Z
LAST-MODIFIED:20230707T011035Z
UID:1164-1686823200-1686826800@soundviewofwbchurch.org
SUMMARY:CHOIR PRACTICE
DESCRIPTION:
URL:https://soundviewofwbchurch.org/event/choir-practice-31/
END:VEVENT
BEGIN:VEVENT
DTSTART;TZID=America/New_York:20230614T190000
DTEND;TZID=America/New_York:20230614T200000
DTSTAMP:20260425T120755
CREATED:20230707T005329Z
LAST-MODIFIED:20230707T005329Z
UID:1153-1686769200-1686772800@soundviewofwbchurch.org
SUMMARY:BIBLE STUDY
DESCRIPTION:
URL:https://soundviewofwbchurch.org/event/bible-study-25/
END:VEVENT
BEGIN:VEVENT
DTSTART;TZID=America/New_York:20230611T110000
DTEND;TZID=America/New_York:20230611T120000
DTSTAMP:20260425T120755
CREATED:20230707T004521Z
LAST-MODIFIED:20230707T004521Z
UID:1137-1686481200-1686484800@soundviewofwbchurch.org
SUMMARY:SUNDAY SERVICE
DESCRIPTION:
URL:https://soundviewofwbchurch.org/event/sunday-service-19/
END:VEVENT
END:VCALENDAR