BEGIN:VCALENDAR
VERSION:2.0
PRODID:-//SOUND VIEW ORGINAL FREE WILL BAPTIST CHURCH - ECPv6.15.20//NONSGML v1.0//EN
CALSCALE:GREGORIAN
METHOD:PUBLISH
X-WR-CALNAME:SOUND VIEW ORGINAL FREE WILL BAPTIST CHURCH
X-ORIGINAL-URL:https://soundviewofwbchurch.org
X-WR-CALDESC:Events for SOUND VIEW ORGINAL FREE WILL BAPTIST CHURCH
REFRESH-INTERVAL;VALUE=DURATION:PT1H
X-Robots-Tag:noindex
X-PUBLISHED-TTL:PT1H
BEGIN:VTIMEZONE
TZID:America/New_York
BEGIN:DAYLIGHT
TZOFFSETFROM:-0500
TZOFFSETTO:-0400
TZNAME:EDT
DTSTART:20240310T070000
END:DAYLIGHT
BEGIN:STANDARD
TZOFFSETFROM:-0400
TZOFFSETTO:-0500
TZNAME:EST
DTSTART:20241103T060000
END:STANDARD
BEGIN:DAYLIGHT
TZOFFSETFROM:-0500
TZOFFSETTO:-0400
TZNAME:EDT
DTSTART:20250309T070000
END:DAYLIGHT
BEGIN:STANDARD
TZOFFSETFROM:-0400
TZOFFSETTO:-0500
TZNAME:EST
DTSTART:20251102T060000
END:STANDARD
BEGIN:DAYLIGHT
TZOFFSETFROM:-0500
TZOFFSETTO:-0400
TZNAME:EDT
DTSTART:20260308T070000
END:DAYLIGHT
BEGIN:STANDARD
TZOFFSETFROM:-0400
TZOFFSETTO:-0500
TZNAME:EST
DTSTART:20261101T060000
END:STANDARD
END:VTIMEZONE
BEGIN:VEVENT
DTSTART;TZID=America/New_York:20250518T100000
DTEND;TZID=America/New_York:20250518T103000
DTSTAMP:20260425T122545
CREATED:20250511T005534Z
LAST-MODIFIED:20250511T005534Z
UID:2492-1747562400-1747564200@soundviewofwbchurch.org
SUMMARY:SUNDAY SCHOOL
DESCRIPTION:
URL:https://soundviewofwbchurch.org/event/sunday-school-117/
END:VEVENT
BEGIN:VEVENT
DTSTART;TZID=America/New_York:20250518T110000
DTEND;TZID=America/New_York:20250518T120000
DTSTAMP:20260425T122545
CREATED:20250511T005645Z
LAST-MODIFIED:20250511T005712Z
UID:2496-1747566000-1747569600@soundviewofwbchurch.org
SUMMARY:SUNDAY SERVICE
DESCRIPTION:
URL:https://soundviewofwbchurch.org/event/sunday-service-98/
END:VEVENT
BEGIN:VEVENT
DTSTART;TZID=America/New_York:20250521T190000
DTEND;TZID=America/New_York:20250521T200000
DTSTAMP:20260425T122545
CREATED:20250511T010101Z
LAST-MODIFIED:20250511T010101Z
UID:2505-1747854000-1747857600@soundviewofwbchurch.org
SUMMARY:BIBLE STUDY
DESCRIPTION:
URL:https://soundviewofwbchurch.org/event/bible-study-103/
END:VEVENT
BEGIN:VEVENT
DTSTART;TZID=America/New_York:20250522T100000
DTEND;TZID=America/New_York:20250522T110000
DTSTAMP:20260425T122545
CREATED:20250511T010420Z
LAST-MODIFIED:20250511T010420Z
UID:2515-1747908000-1747911600@soundviewofwbchurch.org
SUMMARY:CHOIR PRACTICE
DESCRIPTION:
URL:https://soundviewofwbchurch.org/event/choir-practice-119/
END:VEVENT
BEGIN:VEVENT
DTSTART;TZID=America/New_York:20250525T100000
DTEND;TZID=America/New_York:20250525T103000
DTSTAMP:20260425T122545
CREATED:20250511T005602Z
LAST-MODIFIED:20250511T005602Z
UID:2494-1748167200-1748169000@soundviewofwbchurch.org
SUMMARY:SUNDAY SCHOOL
DESCRIPTION:
URL:https://soundviewofwbchurch.org/event/sunday-school-118/
END:VEVENT
BEGIN:VEVENT
DTSTART;TZID=America/New_York:20250525T110000
DTEND;TZID=America/New_York:20250525T120000
DTSTAMP:20260425T122545
CREATED:20250511T005741Z
LAST-MODIFIED:20250511T010257Z
UID:2498-1748170800-1748174400@soundviewofwbchurch.org
SUMMARY:SUNDAY SERVICE--MEMORIAL DAY TRIBUTE
DESCRIPTION:
URL:https://soundviewofwbchurch.org/event/sunday-service-99/
END:VEVENT
BEGIN:VEVENT
DTSTART;VALUE=DATE:20250526
DTEND;VALUE=DATE:20250527
DTSTAMP:20260425T122545
CREATED:20250511T010221Z
LAST-MODIFIED:20250511T010221Z
UID:2509-1748217600-1748303999@soundviewofwbchurch.org
SUMMARY:MEMORIAL DAY
DESCRIPTION:
URL:https://soundviewofwbchurch.org/event/memorial-day/
END:VEVENT
BEGIN:VEVENT
DTSTART;TZID=America/New_York:20250528T190000
DTEND;TZID=America/New_York:20250528T200000
DTSTAMP:20260425T122545
CREATED:20250511T010135Z
LAST-MODIFIED:20250511T010135Z
UID:2507-1748458800-1748462400@soundviewofwbchurch.org
SUMMARY:BIBLE STUDY
DESCRIPTION:
URL:https://soundviewofwbchurch.org/event/bible-study-104/
END:VEVENT
BEGIN:VEVENT
DTSTART;TZID=America/New_York:20250601T100000
DTEND;TZID=America/New_York:20250601T103000
DTSTAMP:20260425T122545
CREATED:20250607T141457Z
LAST-MODIFIED:20250607T141457Z
UID:2573-1748772000-1748773800@soundviewofwbchurch.org
SUMMARY:SUNDAY SCHOOL
DESCRIPTION:
URL:https://soundviewofwbchurch.org/event/sunday-school-119/
END:VEVENT
BEGIN:VEVENT
DTSTART;TZID=America/New_York:20250601T110000
DTEND;TZID=America/New_York:20250601T120000
DTSTAMP:20260425T122545
CREATED:20250607T141258Z
LAST-MODIFIED:20250607T141258Z
UID:2569-1748775600-1748779200@soundviewofwbchurch.org
SUMMARY:SUNDAY SERVICE
DESCRIPTION:
URL:https://soundviewofwbchurch.org/event/sunday-service-105/
END:VEVENT
BEGIN:VEVENT
DTSTART;TZID=America/New_York:20250603T190000
DTEND;TZID=America/New_York:20250603T200000
DTSTAMP:20260425T122545
CREATED:20250607T141416Z
LAST-MODIFIED:20250607T141416Z
UID:2571-1748977200-1748980800@soundviewofwbchurch.org
SUMMARY:LADIES AUX. MEN'S BROTHERHOOD
DESCRIPTION:
URL:https://soundviewofwbchurch.org/event/ladies-aux-mens-brotherhood-4/
END:VEVENT
BEGIN:VEVENT
DTSTART;TZID=America/New_York:20250604T180000
DTEND;TZID=America/New_York:20250604T190000
DTSTAMP:20260425T122545
CREATED:20250607T135932Z
LAST-MODIFIED:20250607T135932Z
UID:2542-1749060000-1749063600@soundviewofwbchurch.org
SUMMARY:YOUTH NITE
DESCRIPTION:
URL:https://soundviewofwbchurch.org/event/youth-nite/
END:VEVENT
BEGIN:VEVENT
DTSTART;TZID=America/New_York:20250604T190000
DTEND;TZID=America/New_York:20250604T200000
DTSTAMP:20260425T122545
CREATED:20250607T140155Z
LAST-MODIFIED:20250607T140219Z
UID:2548-1749063600-1749067200@soundviewofwbchurch.org
SUMMARY:BIBLE STUDY
DESCRIPTION:
URL:https://soundviewofwbchurch.org/event/biblestudy/
END:VEVENT
BEGIN:VEVENT
DTSTART;TZID=America/New_York:20250605T100000
DTEND;TZID=America/New_York:20250605T110000
DTSTAMP:20260425T122545
CREATED:20250511T010506Z
LAST-MODIFIED:20250607T135457Z
UID:2517-1749117600-1749121200@soundviewofwbchurch.org
SUMMARY:CHOIR PRACTICE
DESCRIPTION:
URL:https://soundviewofwbchurch.org/event/choir-practice-120/
END:VEVENT
BEGIN:VEVENT
DTSTART;TZID=America/New_York:20250606T180000
DTEND;TZID=America/New_York:20250606T200000
DTSTAMP:20260425T122545
CREATED:20250607T142410Z
LAST-MODIFIED:20250607T142410Z
UID:2593-1749232800-1749240000@soundviewofwbchurch.org
SUMMARY:HIGH SCHOOL GRADUATION CARTERET COUNTY
DESCRIPTION:
URL:https://soundviewofwbchurch.org/event/high-school-graduation-carteret-county/
END:VEVENT
BEGIN:VEVENT
DTSTART;TZID=America/New_York:20250608T100000
DTEND;TZID=America/New_York:20250608T103000
DTSTAMP:20260425T122545
CREATED:20250607T141520Z
LAST-MODIFIED:20250607T141520Z
UID:2575-1749376800-1749378600@soundviewofwbchurch.org
SUMMARY:SUNDAY SCHOOL
DESCRIPTION:
URL:https://soundviewofwbchurch.org/event/sunday-school-120/
END:VEVENT
BEGIN:VEVENT
DTSTART;TZID=America/New_York:20250608T110000
DTEND;TZID=America/New_York:20250608T120000
DTSTAMP:20260425T122545
CREATED:20250607T141234Z
LAST-MODIFIED:20250607T141234Z
UID:2567-1749380400-1749384000@soundviewofwbchurch.org
SUMMARY:SUNDAY SERVICE
DESCRIPTION:
URL:https://soundviewofwbchurch.org/event/sunday-service-104/
END:VEVENT
BEGIN:VEVENT
DTSTART;TZID=America/New_York:20250611T190000
DTEND;TZID=America/New_York:20250611T200000
DTSTAMP:20260425T122545
CREATED:20250607T140243Z
LAST-MODIFIED:20250607T140243Z
UID:2551-1749668400-1749672000@soundviewofwbchurch.org
SUMMARY:BIBLE STUDY
DESCRIPTION:
URL:https://soundviewofwbchurch.org/event/bible-study-105/
END:VEVENT
BEGIN:VEVENT
DTSTART;TZID=America/New_York:20250612T100000
DTEND;TZID=America/New_York:20250612T110000
DTSTAMP:20260425T122545
CREATED:20250607T135647Z
LAST-MODIFIED:20250607T135647Z
UID:2536-1749722400-1749726000@soundviewofwbchurch.org
SUMMARY:CHOIR PRACTICE
DESCRIPTION:
URL:https://soundviewofwbchurch.org/event/choir-practice-121/
END:VEVENT
BEGIN:VEVENT
DTSTART;VALUE=DATE:20250615
DTEND;VALUE=DATE:20250616
DTSTAMP:20260425T122545
CREATED:20250607T142009Z
LAST-MODIFIED:20250607T142009Z
UID:2588-1749945600-1750031999@soundviewofwbchurch.org
SUMMARY:HAPPY FATHER'S DAY
DESCRIPTION:
URL:https://soundviewofwbchurch.org/event/happy-fathers-day-3/
END:VEVENT
BEGIN:VEVENT
DTSTART;TZID=America/New_York:20250615T100000
DTEND;TZID=America/New_York:20250615T103000
DTSTAMP:20260425T122545
CREATED:20250607T141555Z
LAST-MODIFIED:20250607T141555Z
UID:2577-1749981600-1749983400@soundviewofwbchurch.org
SUMMARY:SUNDAY SCHOOL
DESCRIPTION:
URL:https://soundviewofwbchurch.org/event/sunday-school-121/
END:VEVENT
BEGIN:VEVENT
DTSTART;TZID=America/New_York:20250615T110000
DTEND;TZID=America/New_York:20250615T120000
DTSTAMP:20260425T122545
CREATED:20250607T140637Z
LAST-MODIFIED:20250607T140909Z
UID:2561-1749985200-1749988800@soundviewofwbchurch.org
SUMMARY:SUNDAY SERVICE
DESCRIPTION:
URL:https://soundviewofwbchurch.org/event/sunday-service-101/
END:VEVENT
BEGIN:VEVENT
DTSTART;TZID=America/New_York:20250618T180000
DTEND;TZID=America/New_York:20250618T190000
DTSTAMP:20260425T122545
CREATED:20250607T140102Z
LAST-MODIFIED:20250607T140123Z
UID:2545-1750269600-1750273200@soundviewofwbchurch.org
SUMMARY:YOUTH NITE
DESCRIPTION:
URL:https://soundviewofwbchurch.org/event/youth-noite/
END:VEVENT
BEGIN:VEVENT
DTSTART;TZID=America/New_York:20250618T190000
DTEND;TZID=America/New_York:20250618T200000
DTSTAMP:20260425T122545
CREATED:20250607T140315Z
LAST-MODIFIED:20250607T140315Z
UID:2553-1750273200-1750276800@soundviewofwbchurch.org
SUMMARY:BIBLE STUDY
DESCRIPTION:
URL:https://soundviewofwbchurch.org/event/bible-study-106/
END:VEVENT
BEGIN:VEVENT
DTSTART;TZID=America/New_York:20250619T100000
DTEND;TZID=America/New_York:20250619T110000
DTSTAMP:20260425T122545
CREATED:20250607T135823Z
LAST-MODIFIED:20250607T135823Z
UID:2538-1750327200-1750330800@soundviewofwbchurch.org
SUMMARY:CHOIR PRACTICE
DESCRIPTION:
URL:https://soundviewofwbchurch.org/event/choir-practice-122/
END:VEVENT
BEGIN:VEVENT
DTSTART;TZID=America/New_York:20250622T100000
DTEND;TZID=America/New_York:20250622T103000
DTSTAMP:20260425T122545
CREATED:20250607T141701Z
LAST-MODIFIED:20250607T141701Z
UID:2582-1750586400-1750588200@soundviewofwbchurch.org
SUMMARY:SUNDAY SCHOOL
DESCRIPTION:
URL:https://soundviewofwbchurch.org/event/sunday-school-123/
END:VEVENT
BEGIN:VEVENT
DTSTART;TZID=America/New_York:20250622T110000
DTEND;TZID=America/New_York:20250622T120000
DTSTAMP:20260425T122545
CREATED:20250607T140758Z
LAST-MODIFIED:20250607T141011Z
UID:2565-1750590000-1750593600@soundviewofwbchurch.org
SUMMARY:SUNDAY SERVICE
DESCRIPTION:
URL:https://soundviewofwbchurch.org/event/sunday-service-103/
END:VEVENT
BEGIN:VEVENT
DTSTART;TZID=America/New_York:20250625T190000
DTEND;TZID=America/New_York:20250625T200000
DTSTAMP:20260425T122545
CREATED:20250607T140339Z
LAST-MODIFIED:20250607T140339Z
UID:2555-1750878000-1750881600@soundviewofwbchurch.org
SUMMARY:BIBLE STUDY
DESCRIPTION:
URL:https://soundviewofwbchurch.org/event/bible-study-107/
END:VEVENT
BEGIN:VEVENT
DTSTART;TZID=America/New_York:20250626T100000
DTEND;TZID=America/New_York:20250626T110000
DTSTAMP:20260425T122545
CREATED:20250607T135850Z
LAST-MODIFIED:20250607T135850Z
UID:2540-1750932000-1750935600@soundviewofwbchurch.org
SUMMARY:CHOIR PRACTICE
DESCRIPTION:
URL:https://soundviewofwbchurch.org/event/choir-practice-123/
END:VEVENT
BEGIN:VEVENT
DTSTART;TZID=America/New_York:20250629T100000
DTEND;TZID=America/New_York:20250629T103000
DTSTAMP:20260425T122545
CREATED:20250607T141722Z
LAST-MODIFIED:20250607T141722Z
UID:2584-1751191200-1751193000@soundviewofwbchurch.org
SUMMARY:SUNDAY SCHOOL
DESCRIPTION:
URL:https://soundviewofwbchurch.org/event/sunday-school-124/
END:VEVENT
END:VCALENDAR