BEGIN:VCALENDAR
VERSION:2.0
PRODID:-//SOUND VIEW ORGINAL FREE WILL BAPTIST CHURCH - ECPv6.15.20//NONSGML v1.0//EN
CALSCALE:GREGORIAN
METHOD:PUBLISH
X-WR-CALNAME:SOUND VIEW ORGINAL FREE WILL BAPTIST CHURCH
X-ORIGINAL-URL:https://soundviewofwbchurch.org
X-WR-CALDESC:Events for SOUND VIEW ORGINAL FREE WILL BAPTIST CHURCH
REFRESH-INTERVAL;VALUE=DURATION:PT1H
X-Robots-Tag:noindex
X-PUBLISHED-TTL:PT1H
BEGIN:VTIMEZONE
TZID:America/New_York
BEGIN:DAYLIGHT
TZOFFSETFROM:-0500
TZOFFSETTO:-0400
TZNAME:EDT
DTSTART:20240310T070000
END:DAYLIGHT
BEGIN:STANDARD
TZOFFSETFROM:-0400
TZOFFSETTO:-0500
TZNAME:EST
DTSTART:20241103T060000
END:STANDARD
BEGIN:DAYLIGHT
TZOFFSETFROM:-0500
TZOFFSETTO:-0400
TZNAME:EDT
DTSTART:20250309T070000
END:DAYLIGHT
BEGIN:STANDARD
TZOFFSETFROM:-0400
TZOFFSETTO:-0500
TZNAME:EST
DTSTART:20251102T060000
END:STANDARD
BEGIN:DAYLIGHT
TZOFFSETFROM:-0500
TZOFFSETTO:-0400
TZNAME:EDT
DTSTART:20260308T070000
END:DAYLIGHT
BEGIN:STANDARD
TZOFFSETFROM:-0400
TZOFFSETTO:-0500
TZNAME:EST
DTSTART:20261101T060000
END:STANDARD
END:VTIMEZONE
BEGIN:VEVENT
DTSTART;TZID=America/New_York:20250907T100000
DTEND;TZID=America/New_York:20250907T103000
DTSTAMP:20260424T075356
CREATED:20250903T220602Z
LAST-MODIFIED:20250903T220602Z
UID:2750-1757239200-1757241000@soundviewofwbchurch.org
SUMMARY:SUNDAY SCHOOL
DESCRIPTION:
URL:https://soundviewofwbchurch.org/event/sunday-school-131/
END:VEVENT
BEGIN:VEVENT
DTSTART;TZID=America/New_York:20250905T140000
DTEND;TZID=America/New_York:20250905T160000
DTSTAMP:20260424T075356
CREATED:20250904T003317Z
LAST-MODIFIED:20250904T003317Z
UID:2794-1757080800-1757088000@soundviewofwbchurch.org
SUMMARY:DONNIE WARD FUNERAL
DESCRIPTION:
URL:https://soundviewofwbchurch.org/event/donnie-ward-funeral/
END:VEVENT
BEGIN:VEVENT
DTSTART;TZID=America/New_York:20250904T100000
DTEND;TZID=America/New_York:20250904T110000
DTSTAMP:20260424T075356
CREATED:20250811T140358Z
LAST-MODIFIED:20250811T140358Z
UID:2705-1756980000-1756983600@soundviewofwbchurch.org
SUMMARY:CHOIR PRACTICE
DESCRIPTION:
URL:https://soundviewofwbchurch.org/event/choir-practice-133/
END:VEVENT
BEGIN:VEVENT
DTSTART;TZID=America/New_York:20250903T190000
DTEND;TZID=America/New_York:20250903T200000
DTSTAMP:20260424T075356
CREATED:20250811T140300Z
LAST-MODIFIED:20250811T140300Z
UID:2701-1756926000-1756929600@soundviewofwbchurch.org
SUMMARY:BIBLE STUDY
DESCRIPTION:
URL:https://soundviewofwbchurch.org/event/bible-study-116/
END:VEVENT
BEGIN:VEVENT
DTSTART;TZID=America/New_York:20250902T190000
DTEND;TZID=America/New_York:20250902T200000
DTSTAMP:20260424T075356
CREATED:20250811T141018Z
LAST-MODIFIED:20250811T141018Z
UID:2726-1756839600-1756843200@soundviewofwbchurch.org
SUMMARY:LADIES AUX. & MEN'S BROTHERHOOD
DESCRIPTION:
URL:https://soundviewofwbchurch.org/event/ladies-aux-mens-brotherhood-6/
END:VEVENT
BEGIN:VEVENT
DTSTART;VALUE=DATE:20250901
DTEND;VALUE=DATE:20250902
DTSTAMP:20260424T075356
CREATED:20250811T141744Z
LAST-MODIFIED:20250811T141744Z
UID:2744-1756684800-1756771199@soundviewofwbchurch.org
SUMMARY:LABOR DAY
DESCRIPTION:
URL:https://soundviewofwbchurch.org/event/labor-day/
END:VEVENT
BEGIN:VEVENT
DTSTART;TZID=America/New_York:20250831T110000
DTEND;TZID=America/New_York:20250831T120000
DTSTAMP:20260424T075356
CREATED:20250811T141405Z
LAST-MODIFIED:20250811T141405Z
UID:2739-1756638000-1756641600@soundviewofwbchurch.org
SUMMARY:SUNDAY SERVICE
DESCRIPTION:
URL:https://soundviewofwbchurch.org/event/sunday-service-114/
END:VEVENT
BEGIN:VEVENT
DTSTART;TZID=America/New_York:20250831T100000
DTEND;TZID=America/New_York:20250831T103000
DTSTAMP:20260424T075356
CREATED:20250811T140730Z
LAST-MODIFIED:20250811T140730Z
UID:2717-1756634400-1756636200@soundviewofwbchurch.org
SUMMARY:SUNDAY SCHOOL
DESCRIPTION:
URL:https://soundviewofwbchurch.org/event/sunday-school-132/
END:VEVENT
BEGIN:VEVENT
DTSTART;TZID=America/New_York:20250828T100000
DTEND;TZID=America/New_York:20250828T110000
DTSTAMP:20260424T075356
CREATED:20250811T135805Z
LAST-MODIFIED:20250811T135805Z
UID:2686-1756375200-1756378800@soundviewofwbchurch.org
SUMMARY:CHOIR PRACTICE
DESCRIPTION:
URL:https://soundviewofwbchurch.org/event/choir-practice-131/
END:VEVENT
BEGIN:VEVENT
DTSTART;TZID=America/New_York:20250827T190000
DTEND;TZID=America/New_York:20250827T200000
DTSTAMP:20260424T075356
CREATED:20250811T140223Z
LAST-MODIFIED:20250811T140223Z
UID:2699-1756321200-1756324800@soundviewofwbchurch.org
SUMMARY:BIBLE STUDY
DESCRIPTION:
URL:https://soundviewofwbchurch.org/event/bible-study-115/
END:VEVENT
BEGIN:VEVENT
DTSTART;TZID=America/New_York:20250824T110000
DTEND;TZID=America/New_York:20250824T120000
DTSTAMP:20260424T075356
CREATED:20250811T141341Z
LAST-MODIFIED:20250811T141341Z
UID:2737-1756033200-1756036800@soundviewofwbchurch.org
SUMMARY:SUNDAY SERVICE
DESCRIPTION:
URL:https://soundviewofwbchurch.org/event/sunday-service-113/
END:VEVENT
BEGIN:VEVENT
DTSTART;TZID=America/New_York:20250824T100000
DTEND;TZID=America/New_York:20250824T103000
DTSTAMP:20260424T075356
CREATED:20250811T140811Z
LAST-MODIFIED:20250811T140811Z
UID:2721-1756029600-1756031400@soundviewofwbchurch.org
SUMMARY:SUNDAY SCHOOL
DESCRIPTION:
URL:https://soundviewofwbchurch.org/event/sunday-school-133/
END:VEVENT
BEGIN:VEVENT
DTSTART;TZID=America/New_York:20250821T100000
DTEND;TZID=America/New_York:20250821T110000
DTSTAMP:20260424T075356
CREATED:20250811T135928Z
LAST-MODIFIED:20250811T135928Z
UID:2690-1755770400-1755774000@soundviewofwbchurch.org
SUMMARY:CHOIR PRACTICE
DESCRIPTION:
URL:https://soundviewofwbchurch.org/event/choir-practice-132/
END:VEVENT
BEGIN:VEVENT
DTSTART;TZID=America/New_York:20250820T190000
DTEND;TZID=America/New_York:20250820T200000
DTSTAMP:20260424T075356
CREATED:20250811T140154Z
LAST-MODIFIED:20250811T140154Z
UID:2697-1755716400-1755720000@soundviewofwbchurch.org
SUMMARY:BIBLE STUDY
DESCRIPTION:
URL:https://soundviewofwbchurch.org/event/bible-study-114/
END:VEVENT
BEGIN:VEVENT
DTSTART;TZID=America/New_York:20250817T100000
DTEND;TZID=America/New_York:20250817T120000
DTSTAMP:20260424T075356
CREATED:20250811T141301Z
LAST-MODIFIED:20250811T141301Z
UID:2735-1755424800-1755432000@soundviewofwbchurch.org
SUMMARY:SUNDAY SERVICE
DESCRIPTION:
URL:https://soundviewofwbchurch.org/event/sunday-service-112/
END:VEVENT
BEGIN:VEVENT
DTSTART;TZID=America/New_York:20250817T100000
DTEND;TZID=America/New_York:20250817T103000
DTSTAMP:20260424T075356
CREATED:20250811T140544Z
LAST-MODIFIED:20250811T140544Z
UID:2711-1755424800-1755426600@soundviewofwbchurch.org
SUMMARY:SUNDAY SCHOOL
DESCRIPTION:
URL:https://soundviewofwbchurch.org/event/sunday-school-130/
END:VEVENT
BEGIN:VEVENT
DTSTART;TZID=America/New_York:20250815T173000
DTEND;TZID=America/New_York:20250815T193000
DTSTAMP:20260424T075356
CREATED:20250811T141100Z
LAST-MODIFIED:20250811T141100Z
UID:2728-1755279000-1755286200@soundviewofwbchurch.org
SUMMARY:DINNER & MOVIE NIGHT
DESCRIPTION:
URL:https://soundviewofwbchurch.org/event/dinner-movie-night/
END:VEVENT
BEGIN:VEVENT
DTSTART;TZID=America/New_York:20250814T100000
DTEND;TZID=America/New_York:20250814T110000
DTSTAMP:20260424T075356
CREATED:20250811T135726Z
LAST-MODIFIED:20250811T135726Z
UID:2684-1755165600-1755169200@soundviewofwbchurch.org
SUMMARY:CHOIR PRACTICE
DESCRIPTION:
URL:https://soundviewofwbchurch.org/event/choir-practice-130/
END:VEVENT
BEGIN:VEVENT
DTSTART;TZID=America/New_York:20250813T190000
DTEND;TZID=America/New_York:20250813T200000
DTSTAMP:20260424T075356
CREATED:20250811T140114Z
LAST-MODIFIED:20250811T140114Z
UID:2695-1755111600-1755115200@soundviewofwbchurch.org
SUMMARY:BIBLE STUDY
DESCRIPTION:
URL:https://soundviewofwbchurch.org/event/bible-study-113/
END:VEVENT
BEGIN:VEVENT
DTSTART;TZID=America/New_York:20250810T110000
DTEND;TZID=America/New_York:20250810T120000
DTSTAMP:20260424T075356
CREATED:20250811T141222Z
LAST-MODIFIED:20250811T141222Z
UID:2732-1754823600-1754827200@soundviewofwbchurch.org
SUMMARY:SUNDAY SERVICE
DESCRIPTION:
URL:https://soundviewofwbchurch.org/event/sunday-service-111/
END:VEVENT
BEGIN:VEVENT
DTSTART;TZID=America/New_York:20250810T100000
DTEND;TZID=America/New_York:20250810T103000
DTSTAMP:20260424T075356
CREATED:20250811T140515Z
LAST-MODIFIED:20250811T140515Z
UID:2709-1754820000-1754821800@soundviewofwbchurch.org
SUMMARY:SUNDAY SCHOOL
DESCRIPTION:
URL:https://soundviewofwbchurch.org/event/sunday-school-129/
END:VEVENT
BEGIN:VEVENT
DTSTART;TZID=America/New_York:20250807T100000
DTEND;TZID=America/New_York:20250807T110000
DTSTAMP:20260424T075356
CREATED:20250811T135443Z
LAST-MODIFIED:20250811T135443Z
UID:2681-1754560800-1754564400@soundviewofwbchurch.org
SUMMARY:CHOIR PRACTICE
DESCRIPTION:
URL:https://soundviewofwbchurch.org/event/choir-practice-129/
END:VEVENT
BEGIN:VEVENT
DTSTART;TZID=America/New_York:20250806T190000
DTEND;TZID=America/New_York:20250806T200000
DTSTAMP:20260424T075356
CREATED:20250811T140032Z
LAST-MODIFIED:20250811T140032Z
UID:2693-1754506800-1754510400@soundviewofwbchurch.org
SUMMARY:BIBLE STUDY
DESCRIPTION:
URL:https://soundviewofwbchurch.org/event/bible-study-112/
END:VEVENT
BEGIN:VEVENT
DTSTART;TZID=America/New_York:20250805T190000
DTEND;TZID=America/New_York:20250805T200000
DTSTAMP:20260424T075356
CREATED:20250811T140857Z
LAST-MODIFIED:20250811T140857Z
UID:2723-1754420400-1754424000@soundviewofwbchurch.org
SUMMARY:LADIES AUX. & MEN'S BROTHERHOOD
DESCRIPTION:
URL:https://soundviewofwbchurch.org/event/ladies-aux-mens-brotherhood-5/
END:VEVENT
BEGIN:VEVENT
DTSTART;TZID=America/New_York:20250803T110000
DTEND;TZID=America/New_York:20250803T120000
DTSTAMP:20260424T075356
CREATED:20250811T141158Z
LAST-MODIFIED:20250811T141158Z
UID:2730-1754218800-1754222400@soundviewofwbchurch.org
SUMMARY:SUNDAY SERVICE
DESCRIPTION:
URL:https://soundviewofwbchurch.org/event/sunday-service-110/
END:VEVENT
BEGIN:VEVENT
DTSTART;TZID=America/New_York:20250803T100000
DTEND;TZID=America/New_York:20250803T103000
DTSTAMP:20260424T075356
CREATED:20250811T140444Z
LAST-MODIFIED:20250811T140444Z
UID:2707-1754215200-1754217000@soundviewofwbchurch.org
SUMMARY:SUNDAY SCHOOL
DESCRIPTION:
URL:https://soundviewofwbchurch.org/event/sunday-school-128/
END:VEVENT
BEGIN:VEVENT
DTSTART;TZID=America/New_York:20250731T100000
DTEND;TZID=America/New_York:20250731T110000
DTSTAMP:20260424T075356
CREATED:20250704T010802Z
LAST-MODIFIED:20250704T010802Z
UID:2654-1753956000-1753959600@soundviewofwbchurch.org
SUMMARY:CHOIR PRACTICE
DESCRIPTION:
URL:https://soundviewofwbchurch.org/event/choir-practice-128/
END:VEVENT
BEGIN:VEVENT
DTSTART;TZID=America/New_York:20250730T190000
DTEND;TZID=America/New_York:20250730T200000
DTSTAMP:20260424T075356
CREATED:20250704T010214Z
LAST-MODIFIED:20250704T010214Z
UID:2641-1753902000-1753905600@soundviewofwbchurch.org
SUMMARY:BIBLE STUDY
DESCRIPTION:
URL:https://soundviewofwbchurch.org/event/bible-study-111/
END:VEVENT
BEGIN:VEVENT
DTSTART;TZID=America/New_York:20250727T110000
DTEND;TZID=America/New_York:20250727T120000
DTSTAMP:20260424T075356
CREATED:20250704T005833Z
LAST-MODIFIED:20250704T005833Z
UID:2630-1753614000-1753617600@soundviewofwbchurch.org
SUMMARY:SUNDAY SERVICE
DESCRIPTION:
URL:https://soundviewofwbchurch.org/event/sunday-service-108/
END:VEVENT
BEGIN:VEVENT
DTSTART;TZID=America/New_York:20250727T100000
DTEND;TZID=America/New_York:20250727T103000
DTSTAMP:20260424T075356
CREATED:20250704T005639Z
LAST-MODIFIED:20250704T005639Z
UID:2624-1753610400-1753612200@soundviewofwbchurch.org
SUMMARY:SUNDAY SCHOOL
DESCRIPTION:
URL:https://soundviewofwbchurch.org/event/sunday-school-127/
END:VEVENT
END:VCALENDAR