BEGIN:VCALENDAR
VERSION:2.0
PRODID:-//SOUND VIEW ORGINAL FREE WILL BAPTIST CHURCH - ECPv6.15.20//NONSGML v1.0//EN
CALSCALE:GREGORIAN
METHOD:PUBLISH
X-WR-CALNAME:SOUND VIEW ORGINAL FREE WILL BAPTIST CHURCH
X-ORIGINAL-URL:https://soundviewofwbchurch.org
X-WR-CALDESC:Events for SOUND VIEW ORGINAL FREE WILL BAPTIST CHURCH
REFRESH-INTERVAL;VALUE=DURATION:PT1H
X-Robots-Tag:noindex
X-PUBLISHED-TTL:PT1H
BEGIN:VTIMEZONE
TZID:America/New_York
BEGIN:DAYLIGHT
TZOFFSETFROM:-0500
TZOFFSETTO:-0400
TZNAME:EDT
DTSTART:20220313T070000
END:DAYLIGHT
BEGIN:STANDARD
TZOFFSETFROM:-0400
TZOFFSETTO:-0500
TZNAME:EST
DTSTART:20221106T060000
END:STANDARD
BEGIN:DAYLIGHT
TZOFFSETFROM:-0500
TZOFFSETTO:-0400
TZNAME:EDT
DTSTART:20230312T070000
END:DAYLIGHT
BEGIN:STANDARD
TZOFFSETFROM:-0400
TZOFFSETTO:-0500
TZNAME:EST
DTSTART:20231105T060000
END:STANDARD
BEGIN:DAYLIGHT
TZOFFSETFROM:-0500
TZOFFSETTO:-0400
TZNAME:EDT
DTSTART:20240310T070000
END:DAYLIGHT
BEGIN:STANDARD
TZOFFSETFROM:-0400
TZOFFSETTO:-0500
TZNAME:EST
DTSTART:20241103T060000
END:STANDARD
BEGIN:DAYLIGHT
TZOFFSETFROM:-0500
TZOFFSETTO:-0400
TZNAME:EDT
DTSTART:20250309T070000
END:DAYLIGHT
BEGIN:STANDARD
TZOFFSETFROM:-0400
TZOFFSETTO:-0500
TZNAME:EST
DTSTART:20251102T060000
END:STANDARD
END:VTIMEZONE
BEGIN:VEVENT
DTSTART;VALUE=DATE:20240101
DTEND;VALUE=DATE:20240102
DTSTAMP:20260425T121454
CREATED:20231227T042621Z
LAST-MODIFIED:20231227T042621Z
UID:1540-1704067200-1704153599@soundviewofwbchurch.org
SUMMARY:Happy New Year
DESCRIPTION:
URL:https://soundviewofwbchurch.org/event/happy-new-year/
END:VEVENT
BEGIN:VEVENT
DTSTART;TZID=America/New_York:20231231T110000
DTEND;TZID=America/New_York:20231231T120000
DTSTAMP:20260425T121454
CREATED:20231217T012712Z
LAST-MODIFIED:20231217T012712Z
UID:1501-1704020400-1704024000@soundviewofwbchurch.org
SUMMARY:SUNDAY SERVICE
DESCRIPTION:
URL:https://soundviewofwbchurch.org/event/sunday-service-38/
END:VEVENT
BEGIN:VEVENT
DTSTART;TZID=America/New_York:20231231T100000
DTEND;TZID=America/New_York:20231231T103000
DTSTAMP:20260425T121454
CREATED:20231217T012552Z
LAST-MODIFIED:20231217T012552Z
UID:1498-1704016800-1704018600@soundviewofwbchurch.org
SUMMARY:SUNDAY SCHOOL
DESCRIPTION:
URL:https://soundviewofwbchurch.org/event/sunday-school-55/
END:VEVENT
BEGIN:VEVENT
DTSTART;TZID=America/New_York:20231228T100000
DTEND;TZID=America/New_York:20231228T113000
DTSTAMP:20260425T121454
CREATED:20231217T012429Z
LAST-MODIFIED:20231217T012429Z
UID:1496-1703757600-1703763000@soundviewofwbchurch.org
SUMMARY:CHOIR PRACTICE
DESCRIPTION:
URL:https://soundviewofwbchurch.org/event/choir-practice-55/
END:VEVENT
BEGIN:VEVENT
DTSTART;TZID=America/New_York:20231227T190000
DTEND;TZID=America/New_York:20231227T200000
DTSTAMP:20260425T121454
CREATED:20231217T012240Z
LAST-MODIFIED:20231217T012240Z
UID:1494-1703703600-1703707200@soundviewofwbchurch.org
SUMMARY:BIBLE STUDY
DESCRIPTION:
URL:https://soundviewofwbchurch.org/event/bible-study-46/
END:VEVENT
BEGIN:VEVENT
DTSTART;TZID=America/New_York:20231225T000000
DTEND;TZID=America/New_York:20231225T235900
DTSTAMP:20260425T121454
CREATED:20231217T010718Z
LAST-MODIFIED:20231217T010840Z
UID:1487-1703462400-1703548740@soundviewofwbchurch.org
SUMMARY:MERRY CHRISTMAS SOUND VIEW
DESCRIPTION:
URL:https://soundviewofwbchurch.org/event/merry-christmas-sound-view/
END:VEVENT
BEGIN:VEVENT
DTSTART;TZID=America/New_York:20231224T110000
DTEND;TZID=America/New_York:20231224T120000
DTSTAMP:20260425T121454
CREATED:20231217T011023Z
LAST-MODIFIED:20231217T012141Z
UID:1491-1703415600-1703419200@soundviewofwbchurch.org
SUMMARY:SUNDAY CHRISTMAS EVE SERVICE
DESCRIPTION:
URL:https://soundviewofwbchurch.org/event/suday-christmas-eve-service/
END:VEVENT
BEGIN:VEVENT
DTSTART;TZID=America/New_York:20231224T100000
DTEND;TZID=America/New_York:20231224T103000
DTSTAMP:20260425T121454
CREATED:20231217T010942Z
LAST-MODIFIED:20231217T010942Z
UID:1489-1703412000-1703413800@soundviewofwbchurch.org
SUMMARY:SUNDAY SCHOOL
DESCRIPTION:
URL:https://soundviewofwbchurch.org/event/sunday-school-54/
END:VEVENT
BEGIN:VEVENT
DTSTART;TZID=America/New_York:20231221T100000
DTEND;TZID=America/New_York:20231221T113000
DTSTAMP:20260425T121454
CREATED:20231217T010532Z
LAST-MODIFIED:20231217T010559Z
UID:1485-1703152800-1703158200@soundviewofwbchurch.org
SUMMARY:CHOIR PRACTICE
DESCRIPTION:
URL:https://soundviewofwbchurch.org/event/choir-practice-54/
END:VEVENT
BEGIN:VEVENT
DTSTART;TZID=America/New_York:20231220T190000
DTEND;TZID=America/New_York:20231220T200000
DTSTAMP:20260425T121454
CREATED:20231217T010448Z
LAST-MODIFIED:20231217T010448Z
UID:1483-1703098800-1703102400@soundviewofwbchurch.org
SUMMARY:BIBLE STUDY
DESCRIPTION:
URL:https://soundviewofwbchurch.org/event/bible-study-45/
END:VEVENT
BEGIN:VEVENT
DTSTART;TZID=America/New_York:20231217T110000
DTEND;TZID=America/New_York:20231217T120000
DTSTAMP:20260425T121454
CREATED:20231215T124336Z
LAST-MODIFIED:20231215T124336Z
UID:1480-1702810800-1702814400@soundviewofwbchurch.org
SUMMARY:SUNDAY SERVICE CHRISTMAS PLAY
DESCRIPTION:SUNDAY SERVICE CHRISTMAS PLAY
URL:https://soundviewofwbchurch.org/event/sunday-service-christmas-play/
END:VEVENT
BEGIN:VEVENT
DTSTART;TZID=America/New_York:20231217T100000
DTEND;TZID=America/New_York:20231217T103000
DTSTAMP:20260425T121454
CREATED:20231215T124227Z
LAST-MODIFIED:20231215T124227Z
UID:1478-1702807200-1702809000@soundviewofwbchurch.org
SUMMARY:SUNDAY SCHOOL
DESCRIPTION:
URL:https://soundviewofwbchurch.org/event/sunday-school-53/
END:VEVENT
BEGIN:VEVENT
DTSTART;TZID=America/New_York:20231216T100000
DTEND;TZID=America/New_York:20231216T120000
DTSTAMP:20260425T121454
CREATED:20231215T124011Z
LAST-MODIFIED:20231215T124011Z
UID:1475-1702720800-1702728000@soundviewofwbchurch.org
SUMMARY:CHOIR PRACTICE
DESCRIPTION:
URL:https://soundviewofwbchurch.org/event/choir-practice-53/
END:VEVENT
BEGIN:VEVENT
DTSTART;TZID=America/New_York:20231214T100000
DTEND;TZID=America/New_York:20231214T110000
DTSTAMP:20260425T121454
CREATED:20231215T123925Z
LAST-MODIFIED:20231215T123925Z
UID:1473-1702548000-1702551600@soundviewofwbchurch.org
SUMMARY:CHOIR PRACTICE
DESCRIPTION:
URL:https://soundviewofwbchurch.org/event/choir-practice-52/
END:VEVENT
BEGIN:VEVENT
DTSTART;TZID=America/New_York:20231213T190000
DTEND;TZID=America/New_York:20231213T200000
DTSTAMP:20260425T121454
CREATED:20231215T123758Z
LAST-MODIFIED:20231215T123838Z
UID:1471-1702494000-1702497600@soundviewofwbchurch.org
SUMMARY:BIBLE STUDY
DESCRIPTION:
URL:https://soundviewofwbchurch.org/event/bible-study-44/
END:VEVENT
BEGIN:VEVENT
DTSTART;TZID=America/New_York:20231210T110000
DTEND;TZID=America/New_York:20231210T120000
DTSTAMP:20260425T121454
CREATED:20231215T123635Z
LAST-MODIFIED:20231215T123635Z
UID:1469-1702206000-1702209600@soundviewofwbchurch.org
SUMMARY:SUNDAY SERVICE
DESCRIPTION:
URL:https://soundviewofwbchurch.org/event/sunday-service-37/
END:VEVENT
BEGIN:VEVENT
DTSTART;TZID=America/New_York:20231210T100000
DTEND;TZID=America/New_York:20231210T103000
DTSTAMP:20260425T121454
CREATED:20231215T123559Z
LAST-MODIFIED:20231215T123559Z
UID:1467-1702202400-1702204200@soundviewofwbchurch.org
SUMMARY:SUNDAY SCHOOL
DESCRIPTION:
URL:https://soundviewofwbchurch.org/event/sunday-school-52/
END:VEVENT
BEGIN:VEVENT
DTSTART;TZID=America/New_York:20231209T100000
DTEND;TZID=America/New_York:20231209T113000
DTSTAMP:20260425T121454
CREATED:20231205T213008Z
LAST-MODIFIED:20231205T213008Z
UID:1436-1702116000-1702121400@soundviewofwbchurch.org
SUMMARY:Choir Practice
DESCRIPTION:
URL:https://soundviewofwbchurch.org/event/choir-practice-51/
END:VEVENT
BEGIN:VEVENT
DTSTART;TZID=America/New_York:20231208T100000
DTEND;TZID=America/New_York:20231208T113000
DTSTAMP:20260425T121454
CREATED:20231205T211742Z
LAST-MODIFIED:20231205T212902Z
UID:1434-1702029600-1702035000@soundviewofwbchurch.org
SUMMARY:Choir Practice
DESCRIPTION:
URL:https://soundviewofwbchurch.org/event/choir-practice-50/
END:VEVENT
BEGIN:VEVENT
DTSTART;TZID=America/New_York:20231206T190000
DTEND;TZID=America/New_York:20231206T200000
DTSTAMP:20260425T121454
CREATED:20231206T033848Z
LAST-MODIFIED:20231206T033848Z
UID:1456-1701889200-1701892800@soundviewofwbchurch.org
SUMMARY:WEDNESDAY BIBLE STUDY
DESCRIPTION:
URL:https://soundviewofwbchurch.org/event/wednesday-bible-study/
END:VEVENT
BEGIN:VEVENT
DTSTART;TZID=America/New_York:20231205T180000
DTEND;TZID=America/New_York:20231205T200000
DTSTAMP:20260425T121454
CREATED:20231205T211511Z
LAST-MODIFIED:20231205T211639Z
UID:1430-1701799200-1701806400@soundviewofwbchurch.org
SUMMARY:Ladies Aux. Men's Fellowship Christmas Party Exchanging of Gifts.
DESCRIPTION:
URL:https://soundviewofwbchurch.org/event/ladies-aux-mens-fellowship-4/
END:VEVENT
BEGIN:VEVENT
DTSTART;TZID=America/New_York:20231203T180000
DTEND;TZID=America/New_York:20231203T190000
DTSTAMP:20260425T121454
CREATED:20231206T033751Z
LAST-MODIFIED:20231206T033751Z
UID:1454-1701626400-1701630000@soundviewofwbchurch.org
SUMMARY:SUNDAY EVENING SERVICE HANGING OF THE GREENS
DESCRIPTION:
URL:https://soundviewofwbchurch.org/event/sunday-evening-service-hanging-of-the-greens/
END:VEVENT
BEGIN:VEVENT
DTSTART;TZID=America/New_York:20231203T110000
DTEND;TZID=America/New_York:20231203T120000
DTSTAMP:20260425T121454
CREATED:20231206T033659Z
LAST-MODIFIED:20231206T033659Z
UID:1452-1701601200-1701604800@soundviewofwbchurch.org
SUMMARY:SUNDAY SERVICE
DESCRIPTION:
URL:https://soundviewofwbchurch.org/event/sunday-service-36/
END:VEVENT
BEGIN:VEVENT
DTSTART;TZID=America/New_York:20231203T100000
DTEND;TZID=America/New_York:20231203T103000
DTSTAMP:20260425T121454
CREATED:20231206T033623Z
LAST-MODIFIED:20231206T033623Z
UID:1450-1701597600-1701599400@soundviewofwbchurch.org
SUMMARY:SUNDAY SCHOOL
DESCRIPTION:
URL:https://soundviewofwbchurch.org/event/sunday-school-51/
END:VEVENT
BEGIN:VEVENT
DTSTART;TZID=America/New_York:20231130T100000
DTEND;TZID=America/New_York:20231130T113000
DTSTAMP:20260425T121454
CREATED:20231107T195239Z
LAST-MODIFIED:20231107T195239Z
UID:1405-1701338400-1701343800@soundviewofwbchurch.org
SUMMARY:CHOIR PRACTICE
DESCRIPTION:
URL:https://soundviewofwbchurch.org/event/choir-practice-48/
END:VEVENT
BEGIN:VEVENT
DTSTART;TZID=America/New_York:20231129T190000
DTEND;TZID=America/New_York:20231129T200000
DTSTAMP:20260425T121454
CREATED:20231107T190219Z
LAST-MODIFIED:20231107T195050Z
UID:1403-1701284400-1701288000@soundviewofwbchurch.org
SUMMARY:BIBLE STUDY
DESCRIPTION:
URL:https://soundviewofwbchurch.org/event/bible-study-43/
END:VEVENT
BEGIN:VEVENT
DTSTART;TZID=America/New_York:20231129T180000
DTEND;TZID=America/New_York:20231129T190000
DTSTAMP:20260425T121454
CREATED:20231107T190150Z
LAST-MODIFIED:20231107T190150Z
UID:1401-1701280800-1701284400@soundviewofwbchurch.org
SUMMARY:SOUP AND SALAD
DESCRIPTION:
URL:https://soundviewofwbchurch.org/event/soup-and-salad/
END:VEVENT
BEGIN:VEVENT
DTSTART;TZID=America/New_York:20231126T110000
DTEND;TZID=America/New_York:20231126T120000
DTSTAMP:20260425T121454
CREATED:20231107T190106Z
LAST-MODIFIED:20231107T190106Z
UID:1399-1700996400-1701000000@soundviewofwbchurch.org
SUMMARY:SUNDAY SERVICE
DESCRIPTION:
URL:https://soundviewofwbchurch.org/event/sunday-service-35/
END:VEVENT
BEGIN:VEVENT
DTSTART;TZID=America/New_York:20231126T100000
DTEND;TZID=America/New_York:20231126T103000
DTSTAMP:20260425T121454
CREATED:20231107T190027Z
LAST-MODIFIED:20231107T190027Z
UID:1397-1700992800-1700994600@soundviewofwbchurch.org
SUMMARY:SUNDAY SCHOOL
DESCRIPTION:
URL:https://soundviewofwbchurch.org/event/sunday-school-50/
END:VEVENT
BEGIN:VEVENT
DTSTART;VALUE=DATE:20231123
DTEND;VALUE=DATE:20231124
DTSTAMP:20260425T121454
CREATED:20231107T185649Z
LAST-MODIFIED:20231107T185820Z
UID:1394-1700697600-1700783999@soundviewofwbchurch.org
SUMMARY:HAPPY THANKSGIVING GOD BLESS THE USA
DESCRIPTION:
URL:https://soundviewofwbchurch.org/event/happy-thanksgiving-god-bless-the-usa/
END:VEVENT
END:VCALENDAR