BEGIN:VCALENDAR
VERSION:2.0
PRODID:-//SOUND VIEW ORGINAL FREE WILL BAPTIST CHURCH - ECPv6.15.20//NONSGML v1.0//EN
CALSCALE:GREGORIAN
METHOD:PUBLISH
X-ORIGINAL-URL:https://soundviewofwbchurch.org
X-WR-CALDESC:Events for SOUND VIEW ORGINAL FREE WILL BAPTIST CHURCH
REFRESH-INTERVAL;VALUE=DURATION:PT1H
X-Robots-Tag:noindex
X-PUBLISHED-TTL:PT1H
BEGIN:VTIMEZONE
TZID:America/New_York
BEGIN:DAYLIGHT
TZOFFSETFROM:-0500
TZOFFSETTO:-0400
TZNAME:EDT
DTSTART:20230312T070000
END:DAYLIGHT
BEGIN:STANDARD
TZOFFSETFROM:-0400
TZOFFSETTO:-0500
TZNAME:EST
DTSTART:20231105T060000
END:STANDARD
BEGIN:DAYLIGHT
TZOFFSETFROM:-0500
TZOFFSETTO:-0400
TZNAME:EDT
DTSTART:20240310T070000
END:DAYLIGHT
BEGIN:STANDARD
TZOFFSETFROM:-0400
TZOFFSETTO:-0500
TZNAME:EST
DTSTART:20241103T060000
END:STANDARD
BEGIN:DAYLIGHT
TZOFFSETFROM:-0500
TZOFFSETTO:-0400
TZNAME:EDT
DTSTART:20250309T070000
END:DAYLIGHT
BEGIN:STANDARD
TZOFFSETFROM:-0400
TZOFFSETTO:-0500
TZNAME:EST
DTSTART:20251102T060000
END:STANDARD
BEGIN:DAYLIGHT
TZOFFSETFROM:-0500
TZOFFSETTO:-0400
TZNAME:EDT
DTSTART:20260308T070000
END:DAYLIGHT
BEGIN:STANDARD
TZOFFSETFROM:-0400
TZOFFSETTO:-0500
TZNAME:EST
DTSTART:20261101T060000
END:STANDARD
END:VTIMEZONE
BEGIN:VEVENT
DTSTART;TZID=America/New_York:20241207T100000
DTEND;TZID=America/New_York:20241207T113000
DTSTAMP:20260425T105708
CREATED:20241202T013827Z
LAST-MODIFIED:20241202T013839Z
UID:2158-1733565600-1733571000@soundviewofwbchurch.org
SUMMARY:CHRISTMAS PLAY PRACTICE
DESCRIPTION:
URL:https://soundviewofwbchurch.org/event/chrisatmas-play-practice/
END:VEVENT
BEGIN:VEVENT
DTSTART;TZID=America/New_York:20241208T100000
DTEND;TZID=America/New_York:20241208T103000
DTSTAMP:20260425T105708
CREATED:20241125T011610Z
LAST-MODIFIED:20241125T011610Z
UID:2156-1733652000-1733653800@soundviewofwbchurch.org
SUMMARY:SUNDAY SCHOOL
DESCRIPTION:
URL:https://soundviewofwbchurch.org/event/sunday-school-95/
END:VEVENT
BEGIN:VEVENT
DTSTART;TZID=America/New_York:20241208T110000
DTEND;TZID=America/New_York:20241208T120000
DTSTAMP:20260425T105708
CREATED:20241202T014514Z
LAST-MODIFIED:20241202T014514Z
UID:2165-1733655600-1733659200@soundviewofwbchurch.org
SUMMARY:SUNDAY SERVICE
DESCRIPTION:
URL:https://soundviewofwbchurch.org/event/sunday-service-79/
END:VEVENT
BEGIN:VEVENT
DTSTART;TZID=America/New_York:20241211T190000
DTEND;TZID=America/New_York:20241211T200000
DTSTAMP:20260425T105708
CREATED:20241202T015031Z
LAST-MODIFIED:20241202T015031Z
UID:2176-1733943600-1733947200@soundviewofwbchurch.org
SUMMARY:BIBLE STUDY
DESCRIPTION:
URL:https://soundviewofwbchurch.org/event/bible-study-85/
END:VEVENT
BEGIN:VEVENT
DTSTART;TZID=America/New_York:20241212T100000
DTEND;TZID=America/New_York:20241212T110000
DTSTAMP:20260425T105708
CREATED:20241202T020434Z
LAST-MODIFIED:20241202T020434Z
UID:2178-1733997600-1734001200@soundviewofwbchurch.org
SUMMARY:CHOIR PRACTICE
DESCRIPTION:
URL:https://soundviewofwbchurch.org/event/choir-practice-97/
END:VEVENT
BEGIN:VEVENT
DTSTART;TZID=America/New_York:20241214T100000
DTEND;TZID=America/New_York:20241214T233000
DTSTAMP:20260425T105708
CREATED:20241202T013913Z
LAST-MODIFIED:20241202T013913Z
UID:2161-1734170400-1734219000@soundviewofwbchurch.org
SUMMARY:CHRISTMAS PLAY PRACTICE
DESCRIPTION:
URL:https://soundviewofwbchurch.org/event/christmas-play-practice/
END:VEVENT
BEGIN:VEVENT
DTSTART;TZID=America/New_York:20241215T100000
DTEND;TZID=America/New_York:20241215T223000
DTSTAMP:20260425T105708
CREATED:20241202T014549Z
LAST-MODIFIED:20241202T014549Z
UID:2167-1734256800-1734301800@soundviewofwbchurch.org
SUMMARY:SUNDAY SCHOOL
DESCRIPTION:
URL:https://soundviewofwbchurch.org/event/sunday-school-96/
END:VEVENT
BEGIN:VEVENT
DTSTART;TZID=America/New_York:20241215T110000
DTEND;TZID=America/New_York:20241215T120000
DTSTAMP:20260425T105708
CREATED:20241202T014423Z
LAST-MODIFIED:20241202T014423Z
UID:2163-1734260400-1734264000@soundviewofwbchurch.org
SUMMARY:SUNDAY SERVICE
DESCRIPTION:
URL:https://soundviewofwbchurch.org/event/sunday-service-78/
END:VEVENT
BEGIN:VEVENT
DTSTART;TZID=America/New_York:20241218T190000
DTEND;TZID=America/New_York:20241218T200000
DTSTAMP:20260425T105708
CREATED:20241202T020815Z
LAST-MODIFIED:20241202T020815Z
UID:2190-1734548400-1734552000@soundviewofwbchurch.org
SUMMARY:BIBLE STUDY
DESCRIPTION:
URL:https://soundviewofwbchurch.org/event/bible-study-86/
END:VEVENT
BEGIN:VEVENT
DTSTART;TZID=America/New_York:20241219T100000
DTEND;TZID=America/New_York:20241219T110000
DTSTAMP:20260425T105708
CREATED:20241202T020536Z
LAST-MODIFIED:20241202T020536Z
UID:2183-1734602400-1734606000@soundviewofwbchurch.org
SUMMARY:CHOIR PRACTICE
DESCRIPTION:
URL:https://soundviewofwbchurch.org/event/choir-practice-98/
END:VEVENT
BEGIN:VEVENT
DTSTART;TZID=America/New_York:20241221T100000
DTEND;TZID=America/New_York:20241221T113000
DTSTAMP:20260425T105708
CREATED:20241202T021222Z
LAST-MODIFIED:20241202T021222Z
UID:2197-1734775200-1734780600@soundviewofwbchurch.org
SUMMARY:CHRISTMAS PLAY PRACTICE
DESCRIPTION:
URL:https://soundviewofwbchurch.org/event/christmas-play-practice-2/
END:VEVENT
BEGIN:VEVENT
DTSTART;TZID=America/New_York:20241222T100000
DTEND;TZID=America/New_York:20241222T103000
DTSTAMP:20260425T105708
CREATED:20241202T014651Z
LAST-MODIFIED:20241202T014651Z
UID:2169-1734861600-1734863400@soundviewofwbchurch.org
SUMMARY:SUNDAY SCHOOL
DESCRIPTION:
URL:https://soundviewofwbchurch.org/event/sunday-school-97/
END:VEVENT
BEGIN:VEVENT
DTSTART;TZID=America/New_York:20241222T110000
DTEND;TZID=America/New_York:20241222T123000
DTSTAMP:20260425T105708
CREATED:20241202T014754Z
LAST-MODIFIED:20241202T014754Z
UID:2172-1734865200-1734870600@soundviewofwbchurch.org
SUMMARY:SUNDAY SERVICE/ CHRISTMAS PLAY
DESCRIPTION:
URL:https://soundviewofwbchurch.org/event/sunday-service-christmas-play-2/
END:VEVENT
BEGIN:VEVENT
DTSTART;VALUE=DATE:20241225
DTEND;VALUE=DATE:20241226
DTSTAMP:20260425T105708
CREATED:20241202T014928Z
LAST-MODIFIED:20241202T014928Z
UID:2174-1735084800-1735171199@soundviewofwbchurch.org
SUMMARY:MERRY CHRISTMAS/ NO BIBLE STUDY
DESCRIPTION:
URL:https://soundviewofwbchurch.org/event/merry-christmas-no-bible-study/
END:VEVENT
BEGIN:VEVENT
DTSTART;TZID=America/New_York:20241226T100000
DTEND;TZID=America/New_York:20241226T110000
DTSTAMP:20260425T105708
CREATED:20241202T020621Z
LAST-MODIFIED:20241202T020621Z
UID:2185-1735207200-1735210800@soundviewofwbchurch.org
SUMMARY:CHOIR PRACTICE
DESCRIPTION:
URL:https://soundviewofwbchurch.org/event/choir-practice-99/
END:VEVENT
BEGIN:VEVENT
DTSTART;TZID=America/New_York:20241229T100000
DTEND;TZID=America/New_York:20241229T103000
DTSTAMP:20260425T105708
CREATED:20241202T021310Z
LAST-MODIFIED:20241202T021310Z
UID:2199-1735466400-1735468200@soundviewofwbchurch.org
SUMMARY:SUNDAY SCHOOL
DESCRIPTION:
URL:https://soundviewofwbchurch.org/event/sunday-school-98/
END:VEVENT
BEGIN:VEVENT
DTSTART;TZID=America/New_York:20241229T110000
DTEND;TZID=America/New_York:20241229T120000
DTSTAMP:20260425T105708
CREATED:20241202T021352Z
LAST-MODIFIED:20241202T021352Z
UID:2202-1735470000-1735473600@soundviewofwbchurch.org
SUMMARY:SUNDAY SERVICE
DESCRIPTION:
URL:https://soundviewofwbchurch.org/event/sunday-service-80/
END:VEVENT
BEGIN:VEVENT
DTSTART;TZID=America/New_York:20250101T080000
DTEND;TZID=America/New_York:20250101T170000
DTSTAMP:20260425T105708
CREATED:20241202T021049Z
LAST-MODIFIED:20241202T021134Z
UID:2194-1735718400-1735750800@soundviewofwbchurch.org
SUMMARY:HAPPY NEW YEAR/BIBLE STUDY
DESCRIPTION:
URL:https://soundviewofwbchurch.org/event/happynew-year-bible-study/
END:VEVENT
BEGIN:VEVENT
DTSTART;TZID=America/New_York:20250102T100000
DTEND;TZID=America/New_York:20250102T110000
DTSTAMP:20260425T105708
CREATED:20241202T020704Z
LAST-MODIFIED:20241202T020704Z
UID:2188-1735812000-1735815600@soundviewofwbchurch.org
SUMMARY:CHOIR PRACTICE
DESCRIPTION:
URL:https://soundviewofwbchurch.org/event/choir-practice-100/
END:VEVENT
BEGIN:VEVENT
DTSTART;TZID=America/New_York:20250105T100000
DTEND;TZID=America/New_York:20250105T103000
DTSTAMP:20260425T105708
CREATED:20250109T155115Z
LAST-MODIFIED:20250109T155115Z
UID:2225-1736071200-1736073000@soundviewofwbchurch.org
SUMMARY:SUNDAY SCHOOL
DESCRIPTION:
URL:https://soundviewofwbchurch.org/event/sunday-school-99/
END:VEVENT
BEGIN:VEVENT
DTSTART;TZID=America/New_York:20250105T110000
DTEND;TZID=America/New_York:20250105T120000
DTSTAMP:20260425T105708
CREATED:20250109T155234Z
LAST-MODIFIED:20250109T165536Z
UID:2227-1736074800-1736078400@soundviewofwbchurch.org
SUMMARY:SUNDAY SERVICE
DESCRIPTION:
URL:https://soundviewofwbchurch.org/event/sunday-service-81/
END:VEVENT
BEGIN:VEVENT
DTSTART;TZID=America/New_York:20250107T190000
DTEND;TZID=America/New_York:20250107T200000
DTSTAMP:20260425T105708
CREATED:20250109T155325Z
LAST-MODIFIED:20250109T155325Z
UID:2229-1736276400-1736280000@soundviewofwbchurch.org
SUMMARY:LADIES AUX. MEN'S FELLOWSHIP
DESCRIPTION:
URL:https://soundviewofwbchurch.org/event/ladies-aux-mens-fellowship-6/
END:VEVENT
BEGIN:VEVENT
DTSTART;TZID=America/New_York:20250108T190000
DTEND;TZID=America/New_York:20250108T200000
DTSTAMP:20260425T105708
CREATED:20250109T155359Z
LAST-MODIFIED:20250109T155359Z
UID:2231-1736362800-1736366400@soundviewofwbchurch.org
SUMMARY:BIBLE STUDY
DESCRIPTION:
URL:https://soundviewofwbchurch.org/event/bible-study-87/
END:VEVENT
BEGIN:VEVENT
DTSTART;TZID=America/New_York:20250108T190000
DTEND;TZID=America/New_York:20250108T200000
DTSTAMP:20260425T105708
CREATED:20250109T155432Z
LAST-MODIFIED:20250109T155548Z
UID:2233-1736362800-1736366400@soundviewofwbchurch.org
SUMMARY:YOUTH NIGHT
DESCRIPTION:
URL:https://soundviewofwbchurch.org/event/youth-night-3/
END:VEVENT
BEGIN:VEVENT
DTSTART;TZID=America/New_York:20250109T100000
DTEND;TZID=America/New_York:20250109T110000
DTSTAMP:20260425T105708
CREATED:20250109T165723Z
LAST-MODIFIED:20250109T165723Z
UID:2235-1736416800-1736420400@soundviewofwbchurch.org
SUMMARY:NO CHOIR PRACTICE
DESCRIPTION:
URL:https://soundviewofwbchurch.org/event/no-choir-practice/
END:VEVENT
BEGIN:VEVENT
DTSTART;TZID=America/New_York:20250112T100000
DTEND;TZID=America/New_York:20250112T103000
DTSTAMP:20260425T105708
CREATED:20250109T165821Z
LAST-MODIFIED:20250109T165913Z
UID:2237-1736676000-1736677800@soundviewofwbchurch.org
SUMMARY:SUNDAY SCHOOL
DESCRIPTION:
URL:https://soundviewofwbchurch.org/event/sunday-school-100/
END:VEVENT
BEGIN:VEVENT
DTSTART;TZID=America/New_York:20250112T110000
DTEND;TZID=America/New_York:20250112T120000
DTSTAMP:20260425T105708
CREATED:20250109T165948Z
LAST-MODIFIED:20250109T180128Z
UID:2239-1736679600-1736683200@soundviewofwbchurch.org
SUMMARY:SUNDAY SERVICE
DESCRIPTION:
URL:https://soundviewofwbchurch.org/event/sunday-service-82/
END:VEVENT
BEGIN:VEVENT
DTSTART;TZID=America/New_York:20250115T190000
DTEND;TZID=America/New_York:20250115T200000
DTSTAMP:20260425T105708
CREATED:20250109T180214Z
LAST-MODIFIED:20250109T180214Z
UID:2241-1736967600-1736971200@soundviewofwbchurch.org
SUMMARY:BUSINESS MEETING
DESCRIPTION:
URL:https://soundviewofwbchurch.org/event/business-meeting/
END:VEVENT
BEGIN:VEVENT
DTSTART;TZID=America/New_York:20250116T100000
DTEND;TZID=America/New_York:20250116T110000
DTSTAMP:20260425T105708
CREATED:20250109T180250Z
LAST-MODIFIED:20250109T180556Z
UID:2243-1737021600-1737025200@soundviewofwbchurch.org
SUMMARY:CHOIR PRACTICE
DESCRIPTION:
URL:https://soundviewofwbchurch.org/event/choir-practice-101/
END:VEVENT
BEGIN:VEVENT
DTSTART;TZID=America/New_York:20250119T100000
DTEND;TZID=America/New_York:20250119T103000
DTSTAMP:20260425T105708
CREATED:20250109T181120Z
LAST-MODIFIED:20250109T181120Z
UID:2256-1737280800-1737282600@soundviewofwbchurch.org
SUMMARY:SUNDAY SCHOOL
DESCRIPTION:
URL:https://soundviewofwbchurch.org/event/sunday-school-101/
END:VEVENT
END:VCALENDAR