BEGIN:VCALENDAR
VERSION:2.0
PRODID:-//SOUND VIEW ORGINAL FREE WILL BAPTIST CHURCH - ECPv6.15.20//NONSGML v1.0//EN
CALSCALE:GREGORIAN
METHOD:PUBLISH
X-WR-CALNAME:SOUND VIEW ORGINAL FREE WILL BAPTIST CHURCH
X-ORIGINAL-URL:https://soundviewofwbchurch.org
X-WR-CALDESC:Events for SOUND VIEW ORGINAL FREE WILL BAPTIST CHURCH
REFRESH-INTERVAL;VALUE=DURATION:PT1H
X-Robots-Tag:noindex
X-PUBLISHED-TTL:PT1H
BEGIN:VTIMEZONE
TZID:America/New_York
BEGIN:DAYLIGHT
TZOFFSETFROM:-0500
TZOFFSETTO:-0400
TZNAME:EDT
DTSTART:20210314T070000
END:DAYLIGHT
BEGIN:STANDARD
TZOFFSETFROM:-0400
TZOFFSETTO:-0500
TZNAME:EST
DTSTART:20211107T060000
END:STANDARD
BEGIN:DAYLIGHT
TZOFFSETFROM:-0500
TZOFFSETTO:-0400
TZNAME:EDT
DTSTART:20220313T070000
END:DAYLIGHT
BEGIN:STANDARD
TZOFFSETFROM:-0400
TZOFFSETTO:-0500
TZNAME:EST
DTSTART:20221106T060000
END:STANDARD
BEGIN:DAYLIGHT
TZOFFSETFROM:-0500
TZOFFSETTO:-0400
TZNAME:EDT
DTSTART:20230312T070000
END:DAYLIGHT
BEGIN:STANDARD
TZOFFSETFROM:-0400
TZOFFSETTO:-0500
TZNAME:EST
DTSTART:20231105T060000
END:STANDARD
BEGIN:DAYLIGHT
TZOFFSETFROM:-0500
TZOFFSETTO:-0400
TZNAME:EDT
DTSTART:20240310T070000
END:DAYLIGHT
BEGIN:STANDARD
TZOFFSETFROM:-0400
TZOFFSETTO:-0500
TZNAME:EST
DTSTART:20241103T060000
END:STANDARD
END:VTIMEZONE
BEGIN:VEVENT
DTSTART;TZID=America/New_York:20230108T110000
DTEND;TZID=America/New_York:20230108T120000
DTSTAMP:20260426T001501
CREATED:20230102T022614Z
LAST-MODIFIED:20230102T022614Z
UID:688-1673175600-1673179200@soundviewofwbchurch.org
SUMMARY:Sunday Service
DESCRIPTION:
URL:https://soundviewofwbchurch.org/event/sunday-service-4/
END:VEVENT
BEGIN:VEVENT
DTSTART;TZID=America/New_York:20230108T110000
DTEND;TZID=America/New_York:20230108T110000
DTSTAMP:20260426T001501
CREATED:20230115T020500Z
LAST-MODIFIED:20230102T022508Z
UID:671-1673175600-1673175600@soundviewofwbchurch.org
SUMMARY:Sunday Service
DESCRIPTION:
URL:https://soundviewofwbchurch.org/event/sunday-service-3/
END:VEVENT
BEGIN:VEVENT
DTSTART;TZID=America/New_York:20230108T100000
DTEND;TZID=America/New_York:20230108T103000
DTSTAMP:20260426T001501
CREATED:20230102T023346Z
LAST-MODIFIED:20230102T023626Z
UID:694-1673172000-1673173800@soundviewofwbchurch.org
SUMMARY:Sunday School
DESCRIPTION:
URL:https://soundviewofwbchurch.org/event/sunday-school/
END:VEVENT
BEGIN:VEVENT
DTSTART;TZID=America/New_York:20230105T100000
DTEND;TZID=America/New_York:20230105T110000
DTSTAMP:20260426T001501
CREATED:20230102T021443Z
LAST-MODIFIED:20230102T021443Z
UID:683-1672912800-1672916400@soundviewofwbchurch.org
SUMMARY:Choir Practice
DESCRIPTION:
URL:https://soundviewofwbchurch.org/event/choir-practice-3/
END:VEVENT
BEGIN:VEVENT
DTSTART;TZID=America/New_York:20230104T190000
DTEND;TZID=America/New_York:20230104T200000
DTSTAMP:20260426T001501
CREATED:20230102T021254Z
LAST-MODIFIED:20230102T021254Z
UID:680-1672858800-1672862400@soundviewofwbchurch.org
SUMMARY:Quarterly Business Meeting
DESCRIPTION:
URL:https://soundviewofwbchurch.org/event/quarterly-business-meeting/
END:VEVENT
BEGIN:VEVENT
DTSTART;TZID=America/New_York:20230104T100000
DTEND;TZID=America/New_York:20230104T110000
DTSTAMP:20260426T001501
CREATED:20230102T021122Z
LAST-MODIFIED:20230102T021122Z
UID:677-1672826400-1672830000@soundviewofwbchurch.org
SUMMARY:Prayer Group
DESCRIPTION:
URL:https://soundviewofwbchurch.org/event/prayer-group/
END:VEVENT
BEGIN:VEVENT
DTSTART;TZID=America/New_York:20230103T190000
DTEND;TZID=America/New_York:20230103T200000
DTSTAMP:20260426T001501
CREATED:20230102T020857Z
LAST-MODIFIED:20230102T020857Z
UID:675-1672772400-1672776000@soundviewofwbchurch.org
SUMMARY:Ladies Aux. Men's Fellowship
DESCRIPTION:
URL:https://soundviewofwbchurch.org/event/ladies-aux-mens-fellowship/
END:VEVENT
BEGIN:VEVENT
DTSTART;TZID=America/New_York:20230101T110000
DTEND;TZID=America/New_York:20230101T120000
DTSTAMP:20260426T001501
CREATED:20230102T020629Z
LAST-MODIFIED:20230102T020629Z
UID:673-1672570800-1672574400@soundviewofwbchurch.org
SUMMARY:Sunday Service
DESCRIPTION:
URL:https://soundviewofwbchurch.org/event/sunday-service-2/
END:VEVENT
BEGIN:VEVENT
DTSTART;TZID=America/New_York:20230101T100000
DTEND;TZID=America/New_York:20230101T103000
DTSTAMP:20260426T001501
CREATED:20230102T023509Z
LAST-MODIFIED:20230102T023509Z
UID:697-1672567200-1672569000@soundviewofwbchurch.org
SUMMARY:Sunday School
DESCRIPTION:
URL:https://soundviewofwbchurch.org/event/sunday-school-2/
END:VEVENT
BEGIN:VEVENT
DTSTART;TZID=America/New_York:20221229T100000
DTEND;TZID=America/New_York:20221229T113000
DTSTAMP:20260426T001501
CREATED:20221223T085304Z
LAST-MODIFIED:20221223T085304Z
UID:557-1672308000-1672313400@soundviewofwbchurch.org
SUMMARY:Choir Practice
DESCRIPTION:
URL:https://soundviewofwbchurch.org/event/choir-practice/
END:VEVENT
BEGIN:VEVENT
DTSTART;TZID=America/New_York:20221228T100000
DTEND;TZID=America/New_York:20221228T110000
DTSTAMP:20260426T001501
CREATED:20221223T085121Z
LAST-MODIFIED:20221223T085121Z
UID:555-1672221600-1672225200@soundviewofwbchurch.org
SUMMARY:Wed. Prayer Metting Cancelled
DESCRIPTION:
URL:https://soundviewofwbchurch.org/event/wed-prayer-metting-cancelled/
END:VEVENT
BEGIN:VEVENT
DTSTART;TZID=America/New_York:20221225T100000
DTEND;TZID=America/New_York:20221225T110000
DTSTAMP:20260426T001501
CREATED:20221223T084622Z
LAST-MODIFIED:20221223T085533Z
UID:553-1671962400-1671966000@soundviewofwbchurch.org
SUMMARY:Sunday Christmas Service
DESCRIPTION:
URL:https://soundviewofwbchurch.org/event/sunday-service/
END:VEVENT
BEGIN:VEVENT
DTSTART;TZID=America/New_York:20221222T100000
DTEND;TZID=America/New_York:20221222T113000
DTSTAMP:20260426T001501
CREATED:20221223T085416Z
LAST-MODIFIED:20221223T085416Z
UID:559-1671703200-1671708600@soundviewofwbchurch.org
SUMMARY:Choir Practice
DESCRIPTION:
URL:https://soundviewofwbchurch.org/event/choir-practice-2/
END:VEVENT
END:VCALENDAR