BEGIN:VCALENDAR
VERSION:2.0
PRODID:-//SOUND VIEW ORGINAL FREE WILL BAPTIST CHURCH - ECPv6.15.20//NONSGML v1.0//EN
CALSCALE:GREGORIAN
METHOD:PUBLISH
X-ORIGINAL-URL:https://soundviewofwbchurch.org
X-WR-CALDESC:Events for SOUND VIEW ORGINAL FREE WILL BAPTIST CHURCH
REFRESH-INTERVAL;VALUE=DURATION:PT1H
X-Robots-Tag:noindex
X-PUBLISHED-TTL:PT1H
BEGIN:VTIMEZONE
TZID:America/New_York
BEGIN:DAYLIGHT
TZOFFSETFROM:-0500
TZOFFSETTO:-0400
TZNAME:EDT
DTSTART:20250309T070000
END:DAYLIGHT
BEGIN:STANDARD
TZOFFSETFROM:-0400
TZOFFSETTO:-0500
TZNAME:EST
DTSTART:20251102T060000
END:STANDARD
BEGIN:DAYLIGHT
TZOFFSETFROM:-0500
TZOFFSETTO:-0400
TZNAME:EDT
DTSTART:20260308T070000
END:DAYLIGHT
BEGIN:STANDARD
TZOFFSETFROM:-0400
TZOFFSETTO:-0500
TZNAME:EST
DTSTART:20261101T060000
END:STANDARD
BEGIN:DAYLIGHT
TZOFFSETFROM:-0500
TZOFFSETTO:-0400
TZNAME:EDT
DTSTART:20270314T070000
END:DAYLIGHT
BEGIN:STANDARD
TZOFFSETFROM:-0400
TZOFFSETTO:-0500
TZNAME:EST
DTSTART:20271107T060000
END:STANDARD
END:VTIMEZONE
BEGIN:VEVENT
DTSTART;TZID=America/New_York:20260408T060000
DTEND;TZID=America/New_York:20260408T190000
DTSTAMP:20260423T121146
CREATED:20260414T215058Z
LAST-MODIFIED:20260414T215058Z
UID:3285-1775628000-1775674800@soundviewofwbchurch.org
SUMMARY:YOUTH NIGHT
DESCRIPTION:
URL:https://soundviewofwbchurch.org/event/youth-night-15/
END:VEVENT
BEGIN:VEVENT
DTSTART;TZID=America/New_York:20260408T190000
DTEND;TZID=America/New_York:20260408T200000
DTSTAMP:20260423T121146
CREATED:20260414T211809Z
LAST-MODIFIED:20260414T211809Z
UID:3257-1775674800-1775678400@soundviewofwbchurch.org
SUMMARY:BIBLE STUDY
DESCRIPTION:
URL:https://soundviewofwbchurch.org/event/bible-study-144/
END:VEVENT
BEGIN:VEVENT
DTSTART;TZID=America/New_York:20260409T100000
DTEND;TZID=America/New_York:20260409T110000
DTSTAMP:20260423T121146
CREATED:20260414T214333Z
LAST-MODIFIED:20260414T214333Z
UID:3275-1775728800-1775732400@soundviewofwbchurch.org
SUMMARY:CHOIR PRACTICE
DESCRIPTION:
URL:https://soundviewofwbchurch.org/event/choir-practice-157/
END:VEVENT
BEGIN:VEVENT
DTSTART;TZID=America/New_York:20260412T100000
DTEND;TZID=America/New_York:20260412T103000
DTSTAMP:20260423T121146
CREATED:20260414T210826Z
LAST-MODIFIED:20260414T210826Z
UID:3242-1775988000-1775989800@soundviewofwbchurch.org
SUMMARY:SUNDAY SCHOOL
DESCRIPTION:
URL:https://soundviewofwbchurch.org/event/sunday-school-163/
END:VEVENT
BEGIN:VEVENT
DTSTART;TZID=America/New_York:20260412T110000
DTEND;TZID=America/New_York:20260412T120000
DTSTAMP:20260423T121146
CREATED:20260414T211113Z
LAST-MODIFIED:20260414T211113Z
UID:3249-1775991600-1775995200@soundviewofwbchurch.org
SUMMARY:SUNDAY SERVICE
DESCRIPTION:
URL:https://soundviewofwbchurch.org/event/sunday-service-136/
END:VEVENT
BEGIN:VEVENT
DTSTART;TZID=America/New_York:20260415T190000
DTEND;TZID=America/New_York:20260415T200000
DTSTAMP:20260423T121146
CREATED:20260414T211849Z
LAST-MODIFIED:20260414T215252Z
UID:3259-1776279600-1776283200@soundviewofwbchurch.org
SUMMARY:BUSINESS MEETING
DESCRIPTION:
URL:https://soundviewofwbchurch.org/event/bible-study-145/
END:VEVENT
BEGIN:VEVENT
DTSTART;TZID=America/New_York:20260416T080000
DTEND;TZID=America/New_York:20260416T140000
DTSTAMP:20260423T121146
CREATED:20260414T214130Z
LAST-MODIFIED:20260414T214130Z
UID:3269-1776326400-1776348000@soundviewofwbchurch.org
SUMMARY:SENIORS DAY
DESCRIPTION:
URL:https://soundviewofwbchurch.org/event/seniors-day-2/
END:VEVENT
BEGIN:VEVENT
DTSTART;TZID=America/New_York:20260416T100000
DTEND;TZID=America/New_York:20260416T110000
DTSTAMP:20260423T121146
CREATED:20260414T214359Z
LAST-MODIFIED:20260414T214359Z
UID:3277-1776333600-1776337200@soundviewofwbchurch.org
SUMMARY:CHOIR PRACTICE
DESCRIPTION:
URL:https://soundviewofwbchurch.org/event/choir-practice-158/
END:VEVENT
BEGIN:VEVENT
DTSTART;TZID=America/New_York:20260419T100000
DTEND;TZID=America/New_York:20260419T103000
DTSTAMP:20260423T121146
CREATED:20260414T210854Z
LAST-MODIFIED:20260414T210854Z
UID:3244-1776592800-1776594600@soundviewofwbchurch.org
SUMMARY:SUNDAY SCHOOL
DESCRIPTION:
URL:https://soundviewofwbchurch.org/event/sunday-school-164/
END:VEVENT
BEGIN:VEVENT
DTSTART;TZID=America/New_York:20260419T110000
DTEND;TZID=America/New_York:20260419T120000
DTSTAMP:20260423T121146
CREATED:20260414T211254Z
LAST-MODIFIED:20260414T211254Z
UID:3252-1776596400-1776600000@soundviewofwbchurch.org
SUMMARY:SUNDAY SERVICE
DESCRIPTION:
URL:https://soundviewofwbchurch.org/event/sunday-service-137/
END:VEVENT
BEGIN:VEVENT
DTSTART;TZID=America/New_York:20260422T180000
DTEND;TZID=America/New_York:20260422T190000
DTSTAMP:20260423T121146
CREATED:20260414T215132Z
LAST-MODIFIED:20260414T215132Z
UID:3287-1776880800-1776884400@soundviewofwbchurch.org
SUMMARY:YOUTH NIGHT
DESCRIPTION:
URL:https://soundviewofwbchurch.org/event/youth-night-16/
END:VEVENT
BEGIN:VEVENT
DTSTART;TZID=America/New_York:20260422T190000
DTEND;TZID=America/New_York:20260422T200000
DTSTAMP:20260423T121146
CREATED:20260414T211936Z
LAST-MODIFIED:20260414T211936Z
UID:3263-1776884400-1776888000@soundviewofwbchurch.org
SUMMARY:BIBLE STUDY
DESCRIPTION:
URL:https://soundviewofwbchurch.org/event/bible-study-147/
END:VEVENT
BEGIN:VEVENT
DTSTART;TZID=America/New_York:20260423T100000
DTEND;TZID=America/New_York:20260423T110000
DTSTAMP:20260423T121146
CREATED:20260414T214427Z
LAST-MODIFIED:20260414T214427Z
UID:3279-1776938400-1776942000@soundviewofwbchurch.org
SUMMARY:CHOIR PRACTICE
DESCRIPTION:
URL:https://soundviewofwbchurch.org/event/choir-practice-159/
END:VEVENT
BEGIN:VEVENT
DTSTART;TZID=America/New_York:20260426T100000
DTEND;TZID=America/New_York:20260426T103000
DTSTAMP:20260423T121146
CREATED:20260414T210924Z
LAST-MODIFIED:20260414T210924Z
UID:3246-1777197600-1777199400@soundviewofwbchurch.org
SUMMARY:SUNDAY SCHOOL
DESCRIPTION:
URL:https://soundviewofwbchurch.org/event/sunday-school-165/
END:VEVENT
BEGIN:VEVENT
DTSTART;TZID=America/New_York:20260426T110000
DTEND;TZID=America/New_York:20260426T120000
DTSTAMP:20260423T121146
CREATED:20260414T211402Z
LAST-MODIFIED:20260414T211402Z
UID:3254-1777201200-1777204800@soundviewofwbchurch.org
SUMMARY:SUNDAY SERVICE
DESCRIPTION:
URL:https://soundviewofwbchurch.org/event/sunday-service-138/
END:VEVENT
BEGIN:VEVENT
DTSTART;TZID=America/New_York:20260429T190000
DTEND;TZID=America/New_York:20260429T200000
DTSTAMP:20260423T121146
CREATED:20260414T212003Z
LAST-MODIFIED:20260414T212003Z
UID:3265-1777489200-1777492800@soundviewofwbchurch.org
SUMMARY:BIBLE STUDY
DESCRIPTION:
URL:https://soundviewofwbchurch.org/event/bible-study-148/
END:VEVENT
BEGIN:VEVENT
DTSTART;TZID=America/New_York:20260430T080000
DTEND;TZID=America/New_York:20260430T140000
DTSTAMP:20260423T121146
CREATED:20260414T214159Z
LAST-MODIFIED:20260414T214159Z
UID:3272-1777536000-1777557600@soundviewofwbchurch.org
SUMMARY:SENIORS DAY
DESCRIPTION:
URL:https://soundviewofwbchurch.org/event/seniors-day-3/
END:VEVENT
BEGIN:VEVENT
DTSTART;TZID=America/New_York:20260430T100000
DTEND;TZID=America/New_York:20260430T110000
DTSTAMP:20260423T121146
CREATED:20260414T214447Z
LAST-MODIFIED:20260414T214447Z
UID:3281-1777543200-1777546800@soundviewofwbchurch.org
SUMMARY:CHOIR PRACTICE
DESCRIPTION:
URL:https://soundviewofwbchurch.org/event/choir-practice-160/
END:VEVENT
END:VCALENDAR