BEGIN:VCALENDAR
VERSION:2.0
PRODID:-//SOUND VIEW ORGINAL FREE WILL BAPTIST CHURCH - ECPv6.15.20//NONSGML v1.0//EN
CALSCALE:GREGORIAN
METHOD:PUBLISH
X-WR-CALNAME:SOUND VIEW ORGINAL FREE WILL BAPTIST CHURCH
X-ORIGINAL-URL:https://soundviewofwbchurch.org
X-WR-CALDESC:Events for SOUND VIEW ORGINAL FREE WILL BAPTIST CHURCH
REFRESH-INTERVAL;VALUE=DURATION:PT1H
X-Robots-Tag:noindex
X-PUBLISHED-TTL:PT1H
BEGIN:VTIMEZONE
TZID:America/New_York
BEGIN:DAYLIGHT
TZOFFSETFROM:-0500
TZOFFSETTO:-0400
TZNAME:EDT
DTSTART:20240310T070000
END:DAYLIGHT
BEGIN:STANDARD
TZOFFSETFROM:-0400
TZOFFSETTO:-0500
TZNAME:EST
DTSTART:20241103T060000
END:STANDARD
BEGIN:DAYLIGHT
TZOFFSETFROM:-0500
TZOFFSETTO:-0400
TZNAME:EDT
DTSTART:20250309T070000
END:DAYLIGHT
BEGIN:STANDARD
TZOFFSETFROM:-0400
TZOFFSETTO:-0500
TZNAME:EST
DTSTART:20251102T060000
END:STANDARD
BEGIN:DAYLIGHT
TZOFFSETFROM:-0500
TZOFFSETTO:-0400
TZNAME:EDT
DTSTART:20260308T070000
END:DAYLIGHT
BEGIN:STANDARD
TZOFFSETFROM:-0400
TZOFFSETTO:-0500
TZNAME:EST
DTSTART:20261101T060000
END:STANDARD
END:VTIMEZONE
BEGIN:VEVENT
DTSTART;TZID=America/New_York:20251130T110000
DTEND;TZID=America/New_York:20251130T120000
DTSTAMP:20260423T200330
CREATED:20251123T025757Z
LAST-MODIFIED:20251123T025813Z
UID:2906-1764500400-1764504000@soundviewofwbchurch.org
SUMMARY:SUNDAY SERVICE
DESCRIPTION:
URL:https://soundviewofwbchurch.org/event/sunday-service-youth-service/
END:VEVENT
BEGIN:VEVENT
DTSTART;TZID=America/New_York:20251130T100000
DTEND;TZID=America/New_York:20251130T103000
DTSTAMP:20260423T200330
CREATED:20251123T030745Z
LAST-MODIFIED:20251123T030745Z
UID:2926-1764496800-1764498600@soundviewofwbchurch.org
SUMMARY:SUNDAY SCHOOL
DESCRIPTION:
URL:https://soundviewofwbchurch.org/event/sunday-school-145/
END:VEVENT
BEGIN:VEVENT
DTSTART;TZID=America/New_York:20251127T100000
DTEND;TZID=America/New_York:20251127T110000
DTSTAMP:20260423T200330
CREATED:20251123T024925Z
LAST-MODIFIED:20251123T024925Z
UID:2890-1764237600-1764241200@soundviewofwbchurch.org
SUMMARY:NO CHOIR PRACTICE
DESCRIPTION:
URL:https://soundviewofwbchurch.org/event/no-choir-practice-2/
END:VEVENT
BEGIN:VEVENT
DTSTART;VALUE=DATE:20251127
DTEND;VALUE=DATE:20251128
DTSTAMP:20260423T200330
CREATED:20251123T025626Z
LAST-MODIFIED:20251123T025626Z
UID:2903-1764201600-1764287999@soundviewofwbchurch.org
SUMMARY:HAPPY THANKSGIVING
DESCRIPTION:
URL:https://soundviewofwbchurch.org/event/happy-thanksgiving-2/
END:VEVENT
BEGIN:VEVENT
DTSTART;TZID=America/New_York:20251126T190000
DTEND;TZID=America/New_York:20251126T200000
DTSTAMP:20260423T200330
CREATED:20251123T031047Z
LAST-MODIFIED:20251123T031047Z
UID:2937-1764183600-1764187200@soundviewofwbchurch.org
SUMMARY:BIBLE STUDY
DESCRIPTION:
URL:https://soundviewofwbchurch.org/event/bible-study-126/
END:VEVENT
BEGIN:VEVENT
DTSTART;TZID=America/New_York:20251123T110000
DTEND;TZID=America/New_York:20251123T120000
DTSTAMP:20260423T200330
CREATED:20251123T030233Z
LAST-MODIFIED:20251123T030233Z
UID:2911-1763895600-1763899200@soundviewofwbchurch.org
SUMMARY:SUNDAY SERVICE (YOUTH SERVICE)
DESCRIPTION:
URL:https://soundviewofwbchurch.org/event/sunday-service-youth-service-2/
END:VEVENT
BEGIN:VEVENT
DTSTART;TZID=America/New_York:20251123T100000
DTEND;TZID=America/New_York:20251123T103000
DTSTAMP:20260423T200330
CREATED:20251123T030723Z
LAST-MODIFIED:20251123T030723Z
UID:2924-1763892000-1763893800@soundviewofwbchurch.org
SUMMARY:SUNDAY SCHOOL
DESCRIPTION:
URL:https://soundviewofwbchurch.org/event/sunday-school-144/
END:VEVENT
BEGIN:VEVENT
DTSTART;TZID=America/New_York:20251120T100000
DTEND;TZID=America/New_York:20251120T110000
DTSTAMP:20260423T200330
CREATED:20251123T024843Z
LAST-MODIFIED:20251123T024843Z
UID:2888-1763632800-1763636400@soundviewofwbchurch.org
SUMMARY:CHOIR PRACTICE
DESCRIPTION:
URL:https://soundviewofwbchurch.org/event/choir-practice-144/
END:VEVENT
BEGIN:VEVENT
DTSTART;TZID=America/New_York:20251119T190000
DTEND;TZID=America/New_York:20251119T200000
DTSTAMP:20260423T200330
CREATED:20251123T031018Z
LAST-MODIFIED:20251123T031018Z
UID:2935-1763578800-1763582400@soundviewofwbchurch.org
SUMMARY:BIBLE STUDY
DESCRIPTION:
URL:https://soundviewofwbchurch.org/event/bible-study-125/
END:VEVENT
BEGIN:VEVENT
DTSTART;TZID=America/New_York:20251116T110000
DTEND;TZID=America/New_York:20251116T120000
DTSTAMP:20260423T200330
CREATED:20251123T025451Z
LAST-MODIFIED:20251123T025451Z
UID:2896-1763290800-1763294400@soundviewofwbchurch.org
SUMMARY:SUNDAY SERVICE
DESCRIPTION:
URL:https://soundviewofwbchurch.org/event/sunday-service-122/
END:VEVENT
BEGIN:VEVENT
DTSTART;TZID=America/New_York:20251116T100000
DTEND;TZID=America/New_York:20251116T103000
DTSTAMP:20260423T200330
CREATED:20251123T030652Z
LAST-MODIFIED:20251123T030652Z
UID:2920-1763287200-1763289000@soundviewofwbchurch.org
SUMMARY:SUNDAY SCHOOL
DESCRIPTION:
URL:https://soundviewofwbchurch.org/event/sunday-school-143/
END:VEVENT
BEGIN:VEVENT
DTSTART;TZID=America/New_York:20251113T100000
DTEND;TZID=America/New_York:20251113T110000
DTSTAMP:20260423T200330
CREATED:20251123T024805Z
LAST-MODIFIED:20251123T024805Z
UID:2885-1763028000-1763031600@soundviewofwbchurch.org
SUMMARY:CHOIR PRACTICE
DESCRIPTION:
URL:https://soundviewofwbchurch.org/event/choir-practice-143/
END:VEVENT
BEGIN:VEVENT
DTSTART;TZID=America/New_York:20251112T190000
DTEND;TZID=America/New_York:20251112T200000
DTSTAMP:20260423T200330
CREATED:20251123T030923Z
LAST-MODIFIED:20251123T030923Z
UID:2931-1762974000-1762977600@soundviewofwbchurch.org
SUMMARY:BIBLE STUDY
DESCRIPTION:
URL:https://soundviewofwbchurch.org/event/bible-study-124/
END:VEVENT
BEGIN:VEVENT
DTSTART;TZID=America/New_York:20251109T100000
DTEND;TZID=America/New_York:20251109T120000
DTSTAMP:20260423T200330
CREATED:20251123T025423Z
LAST-MODIFIED:20251123T025423Z
UID:2894-1762682400-1762689600@soundviewofwbchurch.org
SUMMARY:SUNDAY SERVICE
DESCRIPTION:
URL:https://soundviewofwbchurch.org/event/sunday-service-121/
END:VEVENT
BEGIN:VEVENT
DTSTART;TZID=America/New_York:20251109T100000
DTEND;TZID=America/New_York:20251109T103000
DTSTAMP:20260423T200330
CREATED:20251123T030628Z
LAST-MODIFIED:20251123T030628Z
UID:2918-1762682400-1762684200@soundviewofwbchurch.org
SUMMARY:SUNDAY SCHOOL
DESCRIPTION:
URL:https://soundviewofwbchurch.org/event/sunday-school-142/
END:VEVENT
BEGIN:VEVENT
DTSTART;TZID=America/New_York:20251106T100000
DTEND;TZID=America/New_York:20251106T110000
DTSTAMP:20260423T200330
CREATED:20251123T024723Z
LAST-MODIFIED:20251123T024730Z
UID:2882-1762423200-1762426800@soundviewofwbchurch.org
SUMMARY:CHOIR PRACTICE
DESCRIPTION:
URL:https://soundviewofwbchurch.org/event/choir-practice-142/
END:VEVENT
BEGIN:VEVENT
DTSTART;TZID=America/New_York:20251105T190000
DTEND;TZID=America/New_York:20251105T200000
DTSTAMP:20260423T200330
CREATED:20251123T030846Z
LAST-MODIFIED:20251123T030846Z
UID:2929-1762369200-1762372800@soundviewofwbchurch.org
SUMMARY:BIBLE STUDY
DESCRIPTION:
URL:https://soundviewofwbchurch.org/event/bible-study-123/
END:VEVENT
BEGIN:VEVENT
DTSTART;TZID=America/New_York:20251102T110000
DTEND;TZID=America/New_York:20251102T120000
DTSTAMP:20260423T200330
CREATED:20251123T025353Z
LAST-MODIFIED:20251123T025353Z
UID:2892-1762081200-1762084800@soundviewofwbchurch.org
SUMMARY:SUNDAY SERVICE
DESCRIPTION:
URL:https://soundviewofwbchurch.org/event/sunday-service-120/
END:VEVENT
BEGIN:VEVENT
DTSTART;TZID=America/New_York:20251102T100000
DTEND;TZID=America/New_York:20251102T103000
DTSTAMP:20260423T200330
CREATED:20251123T030557Z
LAST-MODIFIED:20251123T030557Z
UID:2916-1762077600-1762079400@soundviewofwbchurch.org
SUMMARY:SUNDAY SCHOOL
DESCRIPTION:
URL:https://soundviewofwbchurch.org/event/sunday-school-141/
END:VEVENT
BEGIN:VEVENT
DTSTART;TZID=America/New_York:20251030T100000
DTEND;TZID=America/New_York:20251030T110000
DTSTAMP:20260423T200330
CREATED:20251012T233438Z
LAST-MODIFIED:20251012T233438Z
UID:2835-1761818400-1761822000@soundviewofwbchurch.org
SUMMARY:CHOIR PRACTICE
DESCRIPTION:
URL:https://soundviewofwbchurch.org/event/choir-practice-140/
END:VEVENT
BEGIN:VEVENT
DTSTART;TZID=America/New_York:20251029T190000
DTEND;TZID=America/New_York:20251029T200000
DTSTAMP:20260423T200330
CREATED:20251012T234221Z
LAST-MODIFIED:20251012T234221Z
UID:2858-1761764400-1761768000@soundviewofwbchurch.org
SUMMARY:BIBLE STUDY
DESCRIPTION:
URL:https://soundviewofwbchurch.org/event/bible-study-122/
END:VEVENT
BEGIN:VEVENT
DTSTART;TZID=America/New_York:20251026T110000
DTEND;TZID=America/New_York:20251026T120000
DTSTAMP:20260423T200330
CREATED:20251012T234323Z
LAST-MODIFIED:20251012T234323Z
UID:2861-1761476400-1761480000@soundviewofwbchurch.org
SUMMARY:SUNDAY SERVICE
DESCRIPTION:
URL:https://soundviewofwbchurch.org/event/sunday-service-119/
END:VEVENT
BEGIN:VEVENT
DTSTART;TZID=America/New_York:20251026T100000
DTEND;TZID=America/New_York:20251026T103000
DTSTAMP:20260423T200330
CREATED:20251012T233805Z
LAST-MODIFIED:20251012T233805Z
UID:2844-1761472800-1761474600@soundviewofwbchurch.org
SUMMARY:SUNDAY SCHOOL
DESCRIPTION:
URL:https://soundviewofwbchurch.org/event/sunday-school-140/
END:VEVENT
BEGIN:VEVENT
DTSTART;TZID=America/New_York:20251023T100000
DTEND;TZID=America/New_York:20251023T110000
DTSTAMP:20260423T200330
CREATED:20251012T233410Z
LAST-MODIFIED:20251012T233410Z
UID:2833-1761213600-1761217200@soundviewofwbchurch.org
SUMMARY:CHOIR PRACTICE
DESCRIPTION:
URL:https://soundviewofwbchurch.org/event/choir-practice-139/
END:VEVENT
BEGIN:VEVENT
DTSTART;TZID=America/New_York:20251022T190000
DTEND;TZID=America/New_York:20251022T200000
DTSTAMP:20260423T200330
CREATED:20251012T234152Z
LAST-MODIFIED:20251012T234152Z
UID:2856-1761159600-1761163200@soundviewofwbchurch.org
SUMMARY:BIBLE STUDY
DESCRIPTION:
URL:https://soundviewofwbchurch.org/event/bible-study-121/
END:VEVENT
BEGIN:VEVENT
DTSTART;TZID=America/New_York:20251019T110000
DTEND;TZID=America/New_York:20251019T120000
DTSTAMP:20260423T200330
CREATED:20251012T233917Z
LAST-MODIFIED:20251012T233917Z
UID:2847-1760871600-1760875200@soundviewofwbchurch.org
SUMMARY:CHURCH SERVICE
DESCRIPTION:
URL:https://soundviewofwbchurch.org/event/church-service/
END:VEVENT
BEGIN:VEVENT
DTSTART;TZID=America/New_York:20251019T100000
DTEND;TZID=America/New_York:20251019T103000
DTSTAMP:20260423T200330
CREATED:20251012T233739Z
LAST-MODIFIED:20251012T233739Z
UID:2842-1760868000-1760869800@soundviewofwbchurch.org
SUMMARY:SUNDAY SCHOOL
DESCRIPTION:
URL:https://soundviewofwbchurch.org/event/sunday-school-139/
END:VEVENT
BEGIN:VEVENT
DTSTART;TZID=America/New_York:20251018T110000
DTEND;TZID=America/New_York:20251018T120000
DTSTAMP:20260423T200330
CREATED:20251012T233258Z
LAST-MODIFIED:20251012T233258Z
UID:2829-1760785200-1760788800@soundviewofwbchurch.org
SUMMARY:CELEBRATION OF LIFE: CHUCK MARINO
DESCRIPTION:
URL:https://soundviewofwbchurch.org/event/celebration-of-life-chuck-marino/
END:VEVENT
BEGIN:VEVENT
DTSTART;TZID=America/New_York:20251016T100000
DTEND;TZID=America/New_York:20251016T110000
DTSTAMP:20260423T200330
CREATED:20251012T233335Z
LAST-MODIFIED:20251012T233335Z
UID:2831-1760608800-1760612400@soundviewofwbchurch.org
SUMMARY:CHOIR PRACTICE
DESCRIPTION:
URL:https://soundviewofwbchurch.org/event/choir-practice-138/
END:VEVENT
BEGIN:VEVENT
DTSTART;TZID=America/New_York:20251015T190000
DTEND;TZID=America/New_York:20251015T200000
DTSTAMP:20260423T200330
CREATED:20251012T234123Z
LAST-MODIFIED:20251012T234123Z
UID:2854-1760554800-1760558400@soundviewofwbchurch.org
SUMMARY:BIBLE STUDY
DESCRIPTION:
URL:https://soundviewofwbchurch.org/event/bible-study-120/
END:VEVENT
END:VCALENDAR