BEGIN:VCALENDAR
VERSION:2.0
PRODID:-//SOUND VIEW ORGINAL FREE WILL BAPTIST CHURCH - ECPv6.15.20//NONSGML v1.0//EN
CALSCALE:GREGORIAN
METHOD:PUBLISH
X-WR-CALNAME:SOUND VIEW ORGINAL FREE WILL BAPTIST CHURCH
X-ORIGINAL-URL:https://soundviewofwbchurch.org
X-WR-CALDESC:Events for SOUND VIEW ORGINAL FREE WILL BAPTIST CHURCH
REFRESH-INTERVAL;VALUE=DURATION:PT1H
X-Robots-Tag:noindex
X-PUBLISHED-TTL:PT1H
BEGIN:VTIMEZONE
TZID:America/New_York
BEGIN:DAYLIGHT
TZOFFSETFROM:-0500
TZOFFSETTO:-0400
TZNAME:EDT
DTSTART:20220313T070000
END:DAYLIGHT
BEGIN:STANDARD
TZOFFSETFROM:-0400
TZOFFSETTO:-0500
TZNAME:EST
DTSTART:20221106T060000
END:STANDARD
BEGIN:DAYLIGHT
TZOFFSETFROM:-0500
TZOFFSETTO:-0400
TZNAME:EDT
DTSTART:20230312T070000
END:DAYLIGHT
BEGIN:STANDARD
TZOFFSETFROM:-0400
TZOFFSETTO:-0500
TZNAME:EST
DTSTART:20231105T060000
END:STANDARD
BEGIN:DAYLIGHT
TZOFFSETFROM:-0500
TZOFFSETTO:-0400
TZNAME:EDT
DTSTART:20240310T070000
END:DAYLIGHT
BEGIN:STANDARD
TZOFFSETFROM:-0400
TZOFFSETTO:-0500
TZNAME:EST
DTSTART:20241103T060000
END:STANDARD
END:VTIMEZONE
BEGIN:VEVENT
DTSTART;TZID=America/New_York:20230917T110000
DTEND;TZID=America/New_York:20230917T120000
DTSTAMP:20260425T081912
CREATED:20230925T023309Z
LAST-MODIFIED:20230925T023309Z
UID:1264-1694948400-1694952000@soundviewofwbchurch.org
SUMMARY:SUNDAY SERVICE
DESCRIPTION:
URL:https://soundviewofwbchurch.org/event/sunday-service-27/
END:VEVENT
BEGIN:VEVENT
DTSTART;TZID=America/New_York:20230917T100000
DTEND;TZID=America/New_York:20230917T103000
DTSTAMP:20260425T081912
CREATED:20230925T023234Z
LAST-MODIFIED:20230925T023234Z
UID:1262-1694944800-1694946600@soundviewofwbchurch.org
SUMMARY:SUNDAY SCHOOL
DESCRIPTION:
URL:https://soundviewofwbchurch.org/event/sunday-school-40/
END:VEVENT
BEGIN:VEVENT
DTSTART;TZID=America/New_York:20230916T090000
DTEND;TZID=America/New_York:20230916T140000
DTSTAMP:20260425T081912
CREATED:20230924T231939Z
LAST-MODIFIED:20230924T231939Z
UID:1242-1694854800-1694872800@soundviewofwbchurch.org
SUMMARY:EASTERN CONFERNCE LADIES AUXILLARY
DESCRIPTION:
URL:https://soundviewofwbchurch.org/event/eastern-confernce-ladies-auxillary/
END:VEVENT
BEGIN:VEVENT
DTSTART;TZID=America/New_York:20230914T100000
DTEND;TZID=America/New_York:20230914T110000
DTSTAMP:20260425T081912
CREATED:20230925T023516Z
LAST-MODIFIED:20230925T023516Z
UID:1268-1694685600-1694689200@soundviewofwbchurch.org
SUMMARY:CHOIR PRACTICE
DESCRIPTION:
URL:https://soundviewofwbchurch.org/event/choir-practice-39/
END:VEVENT
BEGIN:VEVENT
DTSTART;TZID=America/New_York:20230913T190000
DTEND;TZID=America/New_York:20230913T200000
DTSTAMP:20260425T081912
CREATED:20230925T023935Z
LAST-MODIFIED:20230925T023935Z
UID:1274-1694631600-1694635200@soundviewofwbchurch.org
SUMMARY:BIBLE STUDY
DESCRIPTION:
URL:https://soundviewofwbchurch.org/event/bible-study-33/
END:VEVENT
BEGIN:VEVENT
DTSTART;TZID=America/New_York:20230910T110000
DTEND;TZID=America/New_York:20230910T120000
DTSTAMP:20260425T081912
CREATED:20230925T023120Z
LAST-MODIFIED:20230925T023120Z
UID:1257-1694343600-1694347200@soundviewofwbchurch.org
SUMMARY:SUNDAY SERVICE
DESCRIPTION:
URL:https://soundviewofwbchurch.org/event/sunday-service-26/
END:VEVENT
BEGIN:VEVENT
DTSTART;TZID=America/New_York:20230910T100000
DTEND;TZID=America/New_York:20230910T103000
DTSTAMP:20260425T081912
CREATED:20230925T022957Z
LAST-MODIFIED:20230925T022957Z
UID:1255-1694340000-1694341800@soundviewofwbchurch.org
SUMMARY:SUNDAY SCHOOL
DESCRIPTION:
URL:https://soundviewofwbchurch.org/event/sunday-school-39/
END:VEVENT
BEGIN:VEVENT
DTSTART;TZID=America/New_York:20230907T100000
DTEND;TZID=America/New_York:20230907T113000
DTSTAMP:20260425T081912
CREATED:20230925T023426Z
LAST-MODIFIED:20230925T023426Z
UID:1266-1694080800-1694086200@soundviewofwbchurch.org
SUMMARY:CHOIR PRACTICE
DESCRIPTION:
URL:https://soundviewofwbchurch.org/event/choir-practice-38/
END:VEVENT
BEGIN:VEVENT
DTSTART;TZID=America/New_York:20230906T190000
DTEND;TZID=America/New_York:20230906T200000
DTSTAMP:20260425T081912
CREATED:20230924T232111Z
LAST-MODIFIED:20230924T232151Z
UID:1246-1694026800-1694030400@soundviewofwbchurch.org
SUMMARY:BIBLE STUDY
DESCRIPTION:
URL:https://soundviewofwbchurch.org/event/bible-study-32/
END:VEVENT
BEGIN:VEVENT
DTSTART;TZID=America/New_York:20230905T080000
DTEND;TZID=America/New_York:20230905T170000
DTSTAMP:20260425T081912
CREATED:20230924T232023Z
LAST-MODIFIED:20230924T232023Z
UID:1244-1693900800-1693933200@soundviewofwbchurch.org
SUMMARY:LADIES AUX. AND MEN'S FELLOWSHIP
DESCRIPTION:
URL:https://soundviewofwbchurch.org/event/ladies-aux-and-mens-fellowship/
END:VEVENT
BEGIN:VEVENT
DTSTART;TZID=America/New_York:20230903T110000
DTEND;TZID=America/New_York:20230903T120000
DTSTAMP:20260425T081912
CREATED:20230924T231819Z
LAST-MODIFIED:20230924T231819Z
UID:1240-1693738800-1693742400@soundviewofwbchurch.org
SUMMARY:SUNDAY SEREVICE
DESCRIPTION:
URL:https://soundviewofwbchurch.org/event/sunday-serevice/
END:VEVENT
BEGIN:VEVENT
DTSTART;TZID=America/New_York:20230903T100000
DTEND;TZID=America/New_York:20230903T103000
DTSTAMP:20260425T081912
CREATED:20230924T231646Z
LAST-MODIFIED:20230924T231646Z
UID:1237-1693735200-1693737000@soundviewofwbchurch.org
SUMMARY:SUNDAY SCHOOL
DESCRIPTION:
URL:https://soundviewofwbchurch.org/event/sunday-school-37/
END:VEVENT
BEGIN:VEVENT
DTSTART;TZID=America/New_York:20230830T190000
DTEND;TZID=America/New_York:20230830T200000
DTSTAMP:20260425T081912
CREATED:20230813T023826Z
LAST-MODIFIED:20230813T023826Z
UID:1186-1693422000-1693425600@soundviewofwbchurch.org
SUMMARY:Bible Study
DESCRIPTION:
URL:https://soundviewofwbchurch.org/event/bible-study-28/
END:VEVENT
BEGIN:VEVENT
DTSTART;TZID=America/New_York:20230830T180000
DTEND;TZID=America/New_York:20230830T190000
DTSTAMP:20260425T081912
CREATED:20230813T023753Z
LAST-MODIFIED:20230813T023753Z
UID:1184-1693418400-1693422000@soundviewofwbchurch.org
SUMMARY:Salad & Sandwich
DESCRIPTION:
URL:https://soundviewofwbchurch.org/event/salad-sandwich/
END:VEVENT
BEGIN:VEVENT
DTSTART;TZID=America/New_York:20230827T110000
DTEND;TZID=America/New_York:20230827T120000
DTSTAMP:20260425T081912
CREATED:20230813T025141Z
LAST-MODIFIED:20230813T025141Z
UID:1218-1693134000-1693137600@soundviewofwbchurch.org
SUMMARY:Sunday Service
DESCRIPTION:
URL:https://soundviewofwbchurch.org/event/sunday-service-25/
END:VEVENT
BEGIN:VEVENT
DTSTART;TZID=America/New_York:20230827T100000
DTEND;TZID=America/New_York:20230827T103000
DTSTAMP:20260425T081912
CREATED:20230813T025107Z
LAST-MODIFIED:20230813T025107Z
UID:1216-1693130400-1693132200@soundviewofwbchurch.org
SUMMARY:Sunday School
DESCRIPTION:
URL:https://soundviewofwbchurch.org/event/sunday-school-36/
END:VEVENT
BEGIN:VEVENT
DTSTART;TZID=America/New_York:20230824T100000
DTEND;TZID=America/New_York:20230824T113000
DTSTAMP:20260425T081912
CREATED:20230813T024934Z
LAST-MODIFIED:20230813T024934Z
UID:1211-1692871200-1692876600@soundviewofwbchurch.org
SUMMARY:Choir Practice
DESCRIPTION:
URL:https://soundviewofwbchurch.org/event/choir-practice-37/
END:VEVENT
BEGIN:VEVENT
DTSTART;TZID=America/New_York:20230823T190000
DTEND;TZID=America/New_York:20230823T200000
DTSTAMP:20260425T081912
CREATED:20230813T025019Z
LAST-MODIFIED:20230813T025019Z
UID:1214-1692817200-1692820800@soundviewofwbchurch.org
SUMMARY:Bible Study
DESCRIPTION:
URL:https://soundviewofwbchurch.org/event/bible-study-31/
END:VEVENT
BEGIN:VEVENT
DTSTART;TZID=America/New_York:20230820T110000
DTEND;TZID=America/New_York:20230820T120000
DTSTAMP:20260425T081912
CREATED:20230813T024742Z
LAST-MODIFIED:20230813T024742Z
UID:1208-1692529200-1692532800@soundviewofwbchurch.org
SUMMARY:Sunday Service
DESCRIPTION:
URL:https://soundviewofwbchurch.org/event/sunday-service-24/
END:VEVENT
BEGIN:VEVENT
DTSTART;TZID=America/New_York:20230820T100000
DTEND;TZID=America/New_York:20230820T103000
DTSTAMP:20260425T081912
CREATED:20230813T024700Z
LAST-MODIFIED:20230813T024700Z
UID:1205-1692525600-1692527400@soundviewofwbchurch.org
SUMMARY:Sunday School
DESCRIPTION:
URL:https://soundviewofwbchurch.org/event/sunday-school-35/
END:VEVENT
BEGIN:VEVENT
DTSTART;TZID=America/New_York:20230817T100000
DTEND;TZID=America/New_York:20230817T113000
DTSTAMP:20260425T081912
CREATED:20230813T024514Z
LAST-MODIFIED:20230813T024514Z
UID:1203-1692266400-1692271800@soundviewofwbchurch.org
SUMMARY:Choir Practice
DESCRIPTION:
URL:https://soundviewofwbchurch.org/event/choir-practice-36/
END:VEVENT
BEGIN:VEVENT
DTSTART;TZID=America/New_York:20230816T190000
DTEND;TZID=America/New_York:20230816T200000
DTSTAMP:20260425T081912
CREATED:20230813T024349Z
LAST-MODIFIED:20230813T024349Z
UID:1199-1692212400-1692216000@soundviewofwbchurch.org
SUMMARY:Bible Study
DESCRIPTION:
URL:https://soundviewofwbchurch.org/event/bible-study-30/
END:VEVENT
BEGIN:VEVENT
DTSTART;TZID=America/New_York:20230813T110000
DTEND;TZID=America/New_York:20230813T120000
DTSTAMP:20260425T081912
CREATED:20230813T024238Z
LAST-MODIFIED:20230813T024238Z
UID:1196-1691924400-1691928000@soundviewofwbchurch.org
SUMMARY:Sunday Service
DESCRIPTION:
URL:https://soundviewofwbchurch.org/event/sunday-service-23/
END:VEVENT
BEGIN:VEVENT
DTSTART;TZID=America/New_York:20230813T100000
DTEND;TZID=America/New_York:20230813T223000
DTSTAMP:20260425T081912
CREATED:20230813T024205Z
LAST-MODIFIED:20230813T024205Z
UID:1194-1691920800-1691965800@soundviewofwbchurch.org
SUMMARY:Sunday School
DESCRIPTION:
URL:https://soundviewofwbchurch.org/event/sunday-school-34/
END:VEVENT
BEGIN:VEVENT
DTSTART;TZID=America/New_York:20230810T100000
DTEND;TZID=America/New_York:20230810T113000
DTSTAMP:20260425T081912
CREATED:20230813T024435Z
LAST-MODIFIED:20230813T024435Z
UID:1201-1691661600-1691667000@soundviewofwbchurch.org
SUMMARY:Choir Practice
DESCRIPTION:
URL:https://soundviewofwbchurch.org/event/choir-practice-35/
END:VEVENT
BEGIN:VEVENT
DTSTART;TZID=America/New_York:20230809T190000
DTEND;TZID=America/New_York:20230809T200000
DTSTAMP:20260425T081912
CREATED:20230813T024113Z
LAST-MODIFIED:20230813T024113Z
UID:1192-1691607600-1691611200@soundviewofwbchurch.org
SUMMARY:Bible Study
DESCRIPTION:
URL:https://soundviewofwbchurch.org/event/bible-study-29/
END:VEVENT
BEGIN:VEVENT
DTSTART;TZID=America/New_York:20230806T110000
DTEND;TZID=America/New_York:20230806T120000
DTSTAMP:20260425T081912
CREATED:20230813T024004Z
LAST-MODIFIED:20230813T024004Z
UID:1190-1691319600-1691323200@soundviewofwbchurch.org
SUMMARY:Sunday Service
DESCRIPTION:
URL:https://soundviewofwbchurch.org/event/sunday-service-22/
END:VEVENT
BEGIN:VEVENT
DTSTART;TZID=America/New_York:20230806T100000
DTEND;TZID=America/New_York:20230806T103000
DTSTAMP:20260425T081912
CREATED:20230813T023923Z
LAST-MODIFIED:20230813T023923Z
UID:1188-1691316000-1691317800@soundviewofwbchurch.org
SUMMARY:Sunday School
DESCRIPTION:
URL:https://soundviewofwbchurch.org/event/sunday-school-33/
END:VEVENT
BEGIN:VEVENT
DTSTART;TZID=America/New_York:20230803T100000
DTEND;TZID=America/New_York:20230803T113000
DTSTAMP:20260425T081912
CREATED:20230813T023631Z
LAST-MODIFIED:20230813T023631Z
UID:1181-1691056800-1691062200@soundviewofwbchurch.org
SUMMARY:Choir Practice
DESCRIPTION:
URL:https://soundviewofwbchurch.org/event/choir-practice-34/
END:VEVENT
BEGIN:VEVENT
DTSTART;TZID=America/New_York:20230802T190000
DTEND;TZID=America/New_York:20230802T200000
DTSTAMP:20260425T081912
CREATED:20230707T004028Z
LAST-MODIFIED:20230707T004028Z
UID:1126-1691002800-1691006400@soundviewofwbchurch.org
SUMMARY:BIBLE STUDY
DESCRIPTION:
URL:https://soundviewofwbchurch.org/event/bible-study-19/
END:VEVENT
END:VCALENDAR