BEGIN:VCALENDAR
VERSION:2.0
PRODID:-//SOUND VIEW ORGINAL FREE WILL BAPTIST CHURCH - ECPv6.15.20//NONSGML v1.0//EN
CALSCALE:GREGORIAN
METHOD:PUBLISH
X-WR-CALNAME:SOUND VIEW ORGINAL FREE WILL BAPTIST CHURCH
X-ORIGINAL-URL:https://soundviewofwbchurch.org
X-WR-CALDESC:Events for SOUND VIEW ORGINAL FREE WILL BAPTIST CHURCH
REFRESH-INTERVAL;VALUE=DURATION:PT1H
X-Robots-Tag:noindex
X-PUBLISHED-TTL:PT1H
BEGIN:VTIMEZONE
TZID:America/New_York
BEGIN:DAYLIGHT
TZOFFSETFROM:-0500
TZOFFSETTO:-0400
TZNAME:EDT
DTSTART:20230312T070000
END:DAYLIGHT
BEGIN:STANDARD
TZOFFSETFROM:-0400
TZOFFSETTO:-0500
TZNAME:EST
DTSTART:20231105T060000
END:STANDARD
BEGIN:DAYLIGHT
TZOFFSETFROM:-0500
TZOFFSETTO:-0400
TZNAME:EDT
DTSTART:20240310T070000
END:DAYLIGHT
BEGIN:STANDARD
TZOFFSETFROM:-0400
TZOFFSETTO:-0500
TZNAME:EST
DTSTART:20241103T060000
END:STANDARD
BEGIN:DAYLIGHT
TZOFFSETFROM:-0500
TZOFFSETTO:-0400
TZNAME:EDT
DTSTART:20250309T070000
END:DAYLIGHT
BEGIN:STANDARD
TZOFFSETFROM:-0400
TZOFFSETTO:-0500
TZNAME:EST
DTSTART:20251102T060000
END:STANDARD
END:VTIMEZONE
BEGIN:VEVENT
DTSTART;TZID=America/New_York:20241201T100000
DTEND;TZID=America/New_York:20241201T103000
DTSTAMP:20260424T110403
CREATED:20241124T224520Z
LAST-MODIFIED:20241124T224520Z
UID:2140-1733047200-1733049000@soundviewofwbchurch.org
SUMMARY:SUNDAY SCHOOL
DESCRIPTION:
URL:https://soundviewofwbchurch.org/event/sunday-school-94/
END:VEVENT
BEGIN:VEVENT
DTSTART;TZID=America/New_York:20241201T110000
DTEND;TZID=America/New_York:20241201T120000
DTSTAMP:20260424T110403
CREATED:20241124T224726Z
LAST-MODIFIED:20241124T224726Z
UID:2145-1733050800-1733054400@soundviewofwbchurch.org
SUMMARY:SUNDAY SERVICE
DESCRIPTION:
URL:https://soundviewofwbchurch.org/event/sunday-service-76/
END:VEVENT
BEGIN:VEVENT
DTSTART;TZID=America/New_York:20241201T190000
DTEND;TZID=America/New_York:20241201T200000
DTSTAMP:20260424T110403
CREATED:20241202T020921Z
LAST-MODIFIED:20241202T020921Z
UID:2192-1733079600-1733083200@soundviewofwbchurch.org
SUMMARY:HAPPY NEW YEAR/BIBLE STUDY
DESCRIPTION:
URL:https://soundviewofwbchurch.org/event/happy-new-year-bible-study/
END:VEVENT
END:VCALENDAR